BEGIN:VCALENDAR
VERSION:2.0
PRODID:https://www.kufer.de/kuferweb / DE
METHOD:PUBLISH
CALSCALE:GREGORIAN
X-WR-TIMEZONE:Europe/Berlin
BEGIN:VTIMEZONE
TZID:Europe/Berlin
X-LIC-LOCATION:Europe/Berlin
BEGIN:DAYLIGHT
TZOFFSETFROM:+0100
TZOFFSETTO:+0200
TZNAME:CEST
DTSTART:19700329T020000
RRULE:FREQ=YEARLY;INTERVAL=1;BYDAY=-1SU;BYMONTH=3
END:DAYLIGHT
BEGIN:STANDARD
TZOFFSETFROM:+0200
TZOFFSETTO:+0100
TZNAME:CET
DTSTART:19701025T030000
RRULE:FREQ=YEARLY;INTERVAL=1;BYDAY=-1SU;BYMONTH=10
END:STANDARD
END:VTIMEZONE
BEGIN:VEVENT
DTSTAMP:20260421T070700
DTSTART;TZID=Europe/Berlin:20260704T124500
DTEND;TZID=Europe/Berlin:20260704T164500
UID:V37452110-20260704T124500@VHSBÖBLINGEN-SINDELFINGEN
SUMMARY:Geführte Kanutour - auf dem Altrhein von Bad Bellingen bis Grißheim Für Erwachsene, Jugendliche, Familien und Kinder (ab 7 Jahren) (V37452110) 
LOCATION:Bad Bellingen
END:VEVENT
END:VCALENDAR