BEGIN:VCALENDAR
VERSION:2.0
PRODID:https://www.kufer.de/kuferweb / DE
METHOD:PUBLISH
CALSCALE:GREGORIAN
X-WR-TIMEZONE:Europe/Berlin
BEGIN:VTIMEZONE
TZID:Europe/Berlin
X-LIC-LOCATION:Europe/Berlin
BEGIN:DAYLIGHT
TZOFFSETFROM:+0100
TZOFFSETTO:+0200
TZNAME:CEST
DTSTART:19700329T020000
RRULE:FREQ=YEARLY;INTERVAL=1;BYDAY=-1SU;BYMONTH=3
END:DAYLIGHT
BEGIN:STANDARD
TZOFFSETFROM:+0200
TZOFFSETTO:+0100
TZNAME:CET
DTSTART:19701025T030000
RRULE:FREQ=YEARLY;INTERVAL=1;BYDAY=-1SU;BYMONTH=10
END:STANDARD
END:VTIMEZONE
BEGIN:VEVENT
DTSTAMP:20260421T023608
DTSTART;TZID=Europe/Berlin:20260711T110000
DTEND;TZID=Europe/Berlin:20260711T154500
UID:V37451510-20260711T110000@VHSBÖBLINGEN-SINDELFINGEN
SUMMARY:Einer- oder Zweierkajakkurs mit Tour  im wilderen Wasser ab Istein bis Bad Bellingen Für Erwachsene und Jugendliche (ab 13 Jahren) (V37451510) 
LOCATION:Istein, eigene Anreise
END:VEVENT
END:VCALENDAR