BEGIN:VCALENDAR
VERSION:2.0
PRODID:https://www.kufer.de/kuferweb / DE
METHOD:PUBLISH
CALSCALE:GREGORIAN
X-WR-TIMEZONE:Europe/Berlin
BEGIN:VTIMEZONE
TZID:Europe/Berlin
X-LIC-LOCATION:Europe/Berlin
BEGIN:DAYLIGHT
TZOFFSETFROM:+0100
TZOFFSETTO:+0200
TZNAME:CEST
DTSTART:19700329T020000
RRULE:FREQ=YEARLY;INTERVAL=1;BYDAY=-1SU;BYMONTH=3
END:DAYLIGHT
BEGIN:STANDARD
TZOFFSETFROM:+0200
TZOFFSETTO:+0100
TZNAME:CET
DTSTART:19701025T030000
RRULE:FREQ=YEARLY;INTERVAL=1;BYDAY=-1SU;BYMONTH=10
END:STANDARD
END:VTIMEZONE
BEGIN:VEVENT
DTSTAMP:20260420T225206
DTSTART;TZID=Europe/Berlin:20260725T124500
DTEND;TZID=Europe/Berlin:20260725T170000
UID:V37451310-20260725T124500@VHSBÖBLINGEN-SINDELFINGEN
SUMMARY:Geführte Einer-Kajaktour Zahmwasser auf dem Altrhein bei Bad Bellingen Für Erwachsene und Jugendliche (ab 13 Jahren) (V37451310) 
LOCATION:Bad Bellingen
END:VEVENT
END:VCALENDAR