BEGIN:VCALENDAR
VERSION:2.0
PRODID:https://www.kufer.de/kuferweb / DE
METHOD:PUBLISH
CALSCALE:GREGORIAN
X-WR-TIMEZONE:Europe/Berlin
BEGIN:VTIMEZONE
TZID:Europe/Berlin
X-LIC-LOCATION:Europe/Berlin
BEGIN:DAYLIGHT
TZOFFSETFROM:+0100
TZOFFSETTO:+0200
TZNAME:CEST
DTSTART:19700329T020000
RRULE:FREQ=YEARLY;INTERVAL=1;BYDAY=-1SU;BYMONTH=3
END:DAYLIGHT
BEGIN:STANDARD
TZOFFSETFROM:+0200
TZOFFSETTO:+0100
TZNAME:CET
DTSTART:19701025T030000
RRULE:FREQ=YEARLY;INTERVAL=1;BYDAY=-1SU;BYMONTH=10
END:STANDARD
END:VTIMEZONE
BEGIN:VEVENT
DTSTAMP:20260421T122646
DTSTART;TZID=Europe/Berlin:20260714T180000
DTEND;TZID=Europe/Berlin:20260714T193000
UID:V37141110-20260714T180000@VHSBÖBLINGEN-SINDELFINGEN
SUMMARY:Selbstbehauptung und Selbstverteidigung für Frauen (V37141110) 
LOCATION:vhs.Werk, Halle 2, Wurmbergstr. 5, 71063 Sindelfingen
END:VEVENT
BEGIN:VEVENT
DTSTAMP:20260421T122646
DTSTART;TZID=Europe/Berlin:20260721T180000
DTEND;TZID=Europe/Berlin:20260721T193000
UID:V37141110-20260721T180000@VHSBÖBLINGEN-SINDELFINGEN
SUMMARY:Selbstbehauptung und Selbstverteidigung für Frauen (V37141110) 
LOCATION:vhs.Werk, Halle 2, Wurmbergstr. 5, 71063 Sindelfingen
END:VEVENT
BEGIN:VEVENT
DTSTAMP:20260421T122646
DTSTART;TZID=Europe/Berlin:20260728T180000
DTEND;TZID=Europe/Berlin:20260728T193000
UID:V37141110-20260728T180000@VHSBÖBLINGEN-SINDELFINGEN
SUMMARY:Selbstbehauptung und Selbstverteidigung für Frauen (V37141110) 
LOCATION:vhs.Werk, Halle 2, Wurmbergstr. 5, 71063 Sindelfingen
END:VEVENT
BEGIN:VEVENT
DTSTAMP:20260421T122646
DTSTART;TZID=Europe/Berlin:20260804T180000
DTEND;TZID=Europe/Berlin:20260804T193000
UID:V37141110-20260804T180000@VHSBÖBLINGEN-SINDELFINGEN
SUMMARY:Selbstbehauptung und Selbstverteidigung für Frauen (V37141110) 
LOCATION:vhs.Werk, Halle 2, Wurmbergstr. 5, 71063 Sindelfingen
END:VEVENT
BEGIN:VEVENT
DTSTAMP:20260421T122646
DTSTART;TZID=Europe/Berlin:20260811T180000
DTEND;TZID=Europe/Berlin:20260811T193000
UID:V37141110-20260811T180000@VHSBÖBLINGEN-SINDELFINGEN
SUMMARY:Selbstbehauptung und Selbstverteidigung für Frauen (V37141110) 
LOCATION:vhs.Werk, Halle 2, Wurmbergstr. 5, 71063 Sindelfingen
END:VEVENT
END:VCALENDAR