BEGIN:VCALENDAR
VERSION:2.0
PRODID:https://www.kufer.de/kuferweb / DE
METHOD:PUBLISH
CALSCALE:GREGORIAN
X-WR-TIMEZONE:Europe/Berlin
BEGIN:VTIMEZONE
TZID:Europe/Berlin
X-LIC-LOCATION:Europe/Berlin
BEGIN:DAYLIGHT
TZOFFSETFROM:+0100
TZOFFSETTO:+0200
TZNAME:CEST
DTSTART:19700329T020000
RRULE:FREQ=YEARLY;INTERVAL=1;BYDAY=-1SU;BYMONTH=3
END:DAYLIGHT
BEGIN:STANDARD
TZOFFSETFROM:+0200
TZOFFSETTO:+0100
TZNAME:CET
DTSTART:19701025T030000
RRULE:FREQ=YEARLY;INTERVAL=1;BYDAY=-1SU;BYMONTH=10
END:STANDARD
END:VTIMEZONE
BEGIN:VEVENT
DTSTAMP:20260420T152629
DTSTART;TZID=Europe/Berlin:20260223T200000
DTEND;TZID=Europe/Berlin:20260223T214500
UID:V37141010-20260223T200000@VHSBÖBLINGEN-SINDELFINGEN
SUMMARY:Selbstbehauptung und Selbstverteidigung für Frauen (V37141010) 
LOCATION:Paul-Lechler-Schule 2, ___, Pestalozzistr. 9, 71032 Böblingen
END:VEVENT
BEGIN:VEVENT
DTSTAMP:20260420T152629
DTSTART;TZID=Europe/Berlin:20260223T200000
DTEND;TZID=Europe/Berlin:20260223T214500
UID:V37141010-20260223T200000@VHSBÖBLINGEN-SINDELFINGEN
SUMMARY:Selbstbehauptung und Selbstverteidigung für Frauen (V37141010) 
LOCATION:Paul-Lechler-Schule 2, ___, Pestalozzistr. 9, 71032 Böblingen
END:VEVENT
BEGIN:VEVENT
DTSTAMP:20260420T152629
DTSTART;TZID=Europe/Berlin:20260302T200000
DTEND;TZID=Europe/Berlin:20260302T214500
UID:V37141010-20260302T200000@VHSBÖBLINGEN-SINDELFINGEN
SUMMARY:Selbstbehauptung und Selbstverteidigung für Frauen (V37141010) 
LOCATION:Paul-Lechler-Schule 2, ___, Pestalozzistr. 9, 71032 Böblingen
END:VEVENT
BEGIN:VEVENT
DTSTAMP:20260420T152629
DTSTART;TZID=Europe/Berlin:20260302T200000
DTEND;TZID=Europe/Berlin:20260302T214500
UID:V37141010-20260302T200000@VHSBÖBLINGEN-SINDELFINGEN
SUMMARY:Selbstbehauptung und Selbstverteidigung für Frauen (V37141010) 
LOCATION:Paul-Lechler-Schule 2, ___, Pestalozzistr. 9, 71032 Böblingen
END:VEVENT
BEGIN:VEVENT
DTSTAMP:20260420T152629
DTSTART;TZID=Europe/Berlin:20260309T200000
DTEND;TZID=Europe/Berlin:20260309T214500
UID:V37141010-20260309T200000@VHSBÖBLINGEN-SINDELFINGEN
SUMMARY:Selbstbehauptung und Selbstverteidigung für Frauen (V37141010) 
LOCATION:Paul-Lechler-Schule 2, ___, Pestalozzistr. 9, 71032 Böblingen
END:VEVENT
BEGIN:VEVENT
DTSTAMP:20260420T152629
DTSTART;TZID=Europe/Berlin:20260309T200000
DTEND;TZID=Europe/Berlin:20260309T214500
UID:V37141010-20260309T200000@VHSBÖBLINGEN-SINDELFINGEN
SUMMARY:Selbstbehauptung und Selbstverteidigung für Frauen (V37141010) 
LOCATION:Paul-Lechler-Schule 2, ___, Pestalozzistr. 9, 71032 Böblingen
END:VEVENT
BEGIN:VEVENT
DTSTAMP:20260420T152629
DTSTART;TZID=Europe/Berlin:20260316T200000
DTEND;TZID=Europe/Berlin:20260316T214500
UID:V37141010-20260316T200000@VHSBÖBLINGEN-SINDELFINGEN
SUMMARY:Selbstbehauptung und Selbstverteidigung für Frauen (V37141010) 
LOCATION:Paul-Lechler-Schule 2, ___, Pestalozzistr. 9, 71032 Böblingen
END:VEVENT
BEGIN:VEVENT
DTSTAMP:20260420T152629
DTSTART;TZID=Europe/Berlin:20260316T200000
DTEND;TZID=Europe/Berlin:20260316T214500
UID:V37141010-20260316T200000@VHSBÖBLINGEN-SINDELFINGEN
SUMMARY:Selbstbehauptung und Selbstverteidigung für Frauen (V37141010) 
LOCATION:Paul-Lechler-Schule 2, ___, Pestalozzistr. 9, 71032 Böblingen
END:VEVENT
BEGIN:VEVENT
DTSTAMP:20260420T152629
DTSTART;TZID=Europe/Berlin:20260323T200000
DTEND;TZID=Europe/Berlin:20260323T214500
UID:V37141010-20260323T200000@VHSBÖBLINGEN-SINDELFINGEN
SUMMARY:Selbstbehauptung und Selbstverteidigung für Frauen (V37141010) 
LOCATION:Paul-Lechler-Schule 2, ___, Pestalozzistr. 9, 71032 Böblingen
END:VEVENT
BEGIN:VEVENT
DTSTAMP:20260420T152629
DTSTART;TZID=Europe/Berlin:20260323T200000
DTEND;TZID=Europe/Berlin:20260323T214500
UID:V37141010-20260323T200000@VHSBÖBLINGEN-SINDELFINGEN
SUMMARY:Selbstbehauptung und Selbstverteidigung für Frauen (V37141010) 
LOCATION:Paul-Lechler-Schule 2, ___, Pestalozzistr. 9, 71032 Böblingen
END:VEVENT
BEGIN:VEVENT
DTSTAMP:20260420T152629
DTSTART;TZID=Europe/Berlin:20260413T200000
DTEND;TZID=Europe/Berlin:20260413T214500
UID:V37141010-20260413T200000@VHSBÖBLINGEN-SINDELFINGEN
SUMMARY:Selbstbehauptung und Selbstverteidigung für Frauen (V37141010) 
LOCATION:Paul-Lechler-Schule 2, ___, Pestalozzistr. 9, 71032 Böblingen
END:VEVENT
BEGIN:VEVENT
DTSTAMP:20260420T152629
DTSTART;TZID=Europe/Berlin:20260413T200000
DTEND;TZID=Europe/Berlin:20260413T214500
UID:V37141010-20260413T200000@VHSBÖBLINGEN-SINDELFINGEN
SUMMARY:Selbstbehauptung und Selbstverteidigung für Frauen (V37141010) 
LOCATION:Paul-Lechler-Schule 2, ___, Pestalozzistr. 9, 71032 Böblingen
END:VEVENT
BEGIN:VEVENT
DTSTAMP:20260420T152629
DTSTART;TZID=Europe/Berlin:20260420T200000
DTEND;TZID=Europe/Berlin:20260420T214500
UID:V37141010-20260420T200000@VHSBÖBLINGEN-SINDELFINGEN
SUMMARY:Selbstbehauptung und Selbstverteidigung für Frauen (V37141010) 
LOCATION:Paul-Lechler-Schule 2, ___, Pestalozzistr. 9, 71032 Böblingen
END:VEVENT
BEGIN:VEVENT
DTSTAMP:20260420T152629
DTSTART;TZID=Europe/Berlin:20260420T200000
DTEND;TZID=Europe/Berlin:20260420T214500
UID:V37141010-20260420T200000@VHSBÖBLINGEN-SINDELFINGEN
SUMMARY:Selbstbehauptung und Selbstverteidigung für Frauen (V37141010) 
LOCATION:Paul-Lechler-Schule 2, ___, Pestalozzistr. 9, 71032 Böblingen
END:VEVENT
BEGIN:VEVENT
DTSTAMP:20260420T152629
DTSTART;TZID=Europe/Berlin:20260427T200000
DTEND;TZID=Europe/Berlin:20260427T214500
UID:V37141010-20260427T200000@VHSBÖBLINGEN-SINDELFINGEN
SUMMARY:Selbstbehauptung und Selbstverteidigung für Frauen (V37141010) 
LOCATION:Paul-Lechler-Schule 2, ___, Pestalozzistr. 9, 71032 Böblingen
END:VEVENT
BEGIN:VEVENT
DTSTAMP:20260420T152629
DTSTART;TZID=Europe/Berlin:20260427T200000
DTEND;TZID=Europe/Berlin:20260427T214500
UID:V37141010-20260427T200000@VHSBÖBLINGEN-SINDELFINGEN
SUMMARY:Selbstbehauptung und Selbstverteidigung für Frauen (V37141010) 
LOCATION:Paul-Lechler-Schule 2, ___, Pestalozzistr. 9, 71032 Böblingen
END:VEVENT
BEGIN:VEVENT
DTSTAMP:20260420T152629
DTSTART;TZID=Europe/Berlin:20260504T200000
DTEND;TZID=Europe/Berlin:20260504T214500
UID:V37141010-20260504T200000@VHSBÖBLINGEN-SINDELFINGEN
SUMMARY:Selbstbehauptung und Selbstverteidigung für Frauen (V37141010) 
LOCATION:Paul-Lechler-Schule 2, ___, Pestalozzistr. 9, 71032 Böblingen
END:VEVENT
BEGIN:VEVENT
DTSTAMP:20260420T152629
DTSTART;TZID=Europe/Berlin:20260504T200000
DTEND;TZID=Europe/Berlin:20260504T214500
UID:V37141010-20260504T200000@VHSBÖBLINGEN-SINDELFINGEN
SUMMARY:Selbstbehauptung und Selbstverteidigung für Frauen (V37141010) 
LOCATION:Paul-Lechler-Schule 2, ___, Pestalozzistr. 9, 71032 Böblingen
END:VEVENT
BEGIN:VEVENT
DTSTAMP:20260420T152629
DTSTART;TZID=Europe/Berlin:20260511T200000
DTEND;TZID=Europe/Berlin:20260511T214500
UID:V37141010-20260511T200000@VHSBÖBLINGEN-SINDELFINGEN
SUMMARY:Selbstbehauptung und Selbstverteidigung für Frauen (V37141010) 
LOCATION:Paul-Lechler-Schule 2, ___, Pestalozzistr. 9, 71032 Böblingen
END:VEVENT
BEGIN:VEVENT
DTSTAMP:20260420T152629
DTSTART;TZID=Europe/Berlin:20260511T200000
DTEND;TZID=Europe/Berlin:20260511T214500
UID:V37141010-20260511T200000@VHSBÖBLINGEN-SINDELFINGEN
SUMMARY:Selbstbehauptung und Selbstverteidigung für Frauen (V37141010) 
LOCATION:Paul-Lechler-Schule 2, ___, Pestalozzistr. 9, 71032 Böblingen
END:VEVENT
END:VCALENDAR