BEGIN:VCALENDAR
VERSION:2.0
PRODID:https://www.kufer.de/kuferweb / DE
METHOD:PUBLISH
CALSCALE:GREGORIAN
X-WR-TIMEZONE:Europe/Berlin
BEGIN:VTIMEZONE
TZID:Europe/Berlin
X-LIC-LOCATION:Europe/Berlin
BEGIN:DAYLIGHT
TZOFFSETFROM:+0100
TZOFFSETTO:+0200
TZNAME:CEST
DTSTART:19700329T020000
RRULE:FREQ=YEARLY;INTERVAL=1;BYDAY=-1SU;BYMONTH=3
END:DAYLIGHT
BEGIN:STANDARD
TZOFFSETFROM:+0200
TZOFFSETTO:+0100
TZNAME:CET
DTSTART:19701025T030000
RRULE:FREQ=YEARLY;INTERVAL=1;BYDAY=-1SU;BYMONTH=10
END:STANDARD
END:VTIMEZONE
BEGIN:VEVENT
DTSTAMP:20260421T003540
DTSTART;TZID=Europe/Berlin:20260612T170000
DTEND;TZID=Europe/Berlin:20260612T180000
UID:V37030810-20260612T170000@VHSBÖBLINGEN-SINDELFINGEN
SUMMARY:Lauf Basic - für alle die Lust am Joggen haben und nicht wissen wie sie Fortschritte machen können ohne auszubrennen (V37030810) 
LOCATION:Waldparkplatz am Krankenhaus Schranke
END:VEVENT
BEGIN:VEVENT
DTSTAMP:20260421T003540
DTSTART;TZID=Europe/Berlin:20260619T170000
DTEND;TZID=Europe/Berlin:20260619T180000
UID:V37030810-20260619T170000@VHSBÖBLINGEN-SINDELFINGEN
SUMMARY:Lauf Basic - für alle die Lust am Joggen haben und nicht wissen wie sie Fortschritte machen können ohne auszubrennen (V37030810) 
LOCATION:Waldparkplatz am Krankenhaus Schranke
END:VEVENT
BEGIN:VEVENT
DTSTAMP:20260421T003540
DTSTART;TZID=Europe/Berlin:20260626T170000
DTEND;TZID=Europe/Berlin:20260626T180000
UID:V37030810-20260626T170000@VHSBÖBLINGEN-SINDELFINGEN
SUMMARY:Lauf Basic - für alle die Lust am Joggen haben und nicht wissen wie sie Fortschritte machen können ohne auszubrennen (V37030810) 
LOCATION:Waldparkplatz am Krankenhaus Schranke
END:VEVENT
BEGIN:VEVENT
DTSTAMP:20260421T003540
DTSTART;TZID=Europe/Berlin:20260703T170000
DTEND;TZID=Europe/Berlin:20260703T180000
UID:V37030810-20260703T170000@VHSBÖBLINGEN-SINDELFINGEN
SUMMARY:Lauf Basic - für alle die Lust am Joggen haben und nicht wissen wie sie Fortschritte machen können ohne auszubrennen (V37030810) 
LOCATION:Waldparkplatz am Krankenhaus Schranke
END:VEVENT
BEGIN:VEVENT
DTSTAMP:20260421T003540
DTSTART;TZID=Europe/Berlin:20260710T170000
DTEND;TZID=Europe/Berlin:20260710T180000
UID:V37030810-20260710T170000@VHSBÖBLINGEN-SINDELFINGEN
SUMMARY:Lauf Basic - für alle die Lust am Joggen haben und nicht wissen wie sie Fortschritte machen können ohne auszubrennen (V37030810) 
LOCATION:Waldparkplatz am Krankenhaus Schranke
END:VEVENT
BEGIN:VEVENT
DTSTAMP:20260421T003540
DTSTART;TZID=Europe/Berlin:20260717T170000
DTEND;TZID=Europe/Berlin:20260717T180000
UID:V37030810-20260717T170000@VHSBÖBLINGEN-SINDELFINGEN
SUMMARY:Lauf Basic - für alle die Lust am Joggen haben und nicht wissen wie sie Fortschritte machen können ohne auszubrennen (V37030810) 
LOCATION:Waldparkplatz am Krankenhaus Schranke
END:VEVENT
BEGIN:VEVENT
DTSTAMP:20260421T003540
DTSTART;TZID=Europe/Berlin:20260724T170000
DTEND;TZID=Europe/Berlin:20260724T180000
UID:V37030810-20260724T170000@VHSBÖBLINGEN-SINDELFINGEN
SUMMARY:Lauf Basic - für alle die Lust am Joggen haben und nicht wissen wie sie Fortschritte machen können ohne auszubrennen (V37030810) 
LOCATION:Waldparkplatz am Krankenhaus Schranke
END:VEVENT
BEGIN:VEVENT
DTSTAMP:20260421T003540
DTSTART;TZID=Europe/Berlin:20260731T170000
DTEND;TZID=Europe/Berlin:20260731T180000
UID:V37030810-20260731T170000@VHSBÖBLINGEN-SINDELFINGEN
SUMMARY:Lauf Basic - für alle die Lust am Joggen haben und nicht wissen wie sie Fortschritte machen können ohne auszubrennen (V37030810) 
LOCATION:Waldparkplatz am Krankenhaus Schranke
END:VEVENT
BEGIN:VEVENT
DTSTAMP:20260421T003540
DTSTART;TZID=Europe/Berlin:20260807T170000
DTEND;TZID=Europe/Berlin:20260807T180000
UID:V37030810-20260807T170000@VHSBÖBLINGEN-SINDELFINGEN
SUMMARY:Lauf Basic - für alle die Lust am Joggen haben und nicht wissen wie sie Fortschritte machen können ohne auszubrennen (V37030810) 
LOCATION:Waldparkplatz am Krankenhaus Schranke
END:VEVENT
END:VCALENDAR