BEGIN:VCALENDAR
VERSION:2.0
PRODID:https://www.kufer.de/kuferweb / DE
METHOD:PUBLISH
CALSCALE:GREGORIAN
X-WR-TIMEZONE:Europe/Berlin
BEGIN:VTIMEZONE
TZID:Europe/Berlin
X-LIC-LOCATION:Europe/Berlin
BEGIN:DAYLIGHT
TZOFFSETFROM:+0100
TZOFFSETTO:+0200
TZNAME:CEST
DTSTART:19700329T020000
RRULE:FREQ=YEARLY;INTERVAL=1;BYDAY=-1SU;BYMONTH=3
END:DAYLIGHT
BEGIN:STANDARD
TZOFFSETFROM:+0200
TZOFFSETTO:+0100
TZNAME:CET
DTSTART:19701025T030000
RRULE:FREQ=YEARLY;INTERVAL=1;BYDAY=-1SU;BYMONTH=10
END:STANDARD
END:VTIMEZONE
BEGIN:VEVENT
DTSTAMP:20260421T074445
DTSTART;TZID=Europe/Berlin:20260305T184500
DTEND;TZID=Europe/Berlin:20260305T193000
UID:V36140411-20260305T184500@VHSBÖBLINGEN-SINDELFINGEN
SUMMARY:Aqua-Fitness (V36140411) 
LOCATION:AI, Schallenbergschule, Schwimmhalle, Dachteler Weg 18, 71134 Aidlingen-Deufringen
END:VEVENT
BEGIN:VEVENT
DTSTAMP:20260421T074445
DTSTART;TZID=Europe/Berlin:20260319T184500
DTEND;TZID=Europe/Berlin:20260319T193000
UID:V36140411-20260319T184500@VHSBÖBLINGEN-SINDELFINGEN
SUMMARY:Aqua-Fitness (V36140411) 
LOCATION:AI, Schallenbergschule, Schwimmhalle, Dachteler Weg 18, 71134 Aidlingen-Deufringen
END:VEVENT
BEGIN:VEVENT
DTSTAMP:20260421T074445
DTSTART;TZID=Europe/Berlin:20260416T184500
DTEND;TZID=Europe/Berlin:20260416T193000
UID:V36140411-20260416T184500@VHSBÖBLINGEN-SINDELFINGEN
SUMMARY:Aqua-Fitness (V36140411) 
LOCATION:AI, Schallenbergschule, Schwimmhalle, Dachteler Weg 18, 71134 Aidlingen-Deufringen
END:VEVENT
BEGIN:VEVENT
DTSTAMP:20260421T074445
DTSTART;TZID=Europe/Berlin:20260430T184500
DTEND;TZID=Europe/Berlin:20260430T193000
UID:V36140411-20260430T184500@VHSBÖBLINGEN-SINDELFINGEN
SUMMARY:Aqua-Fitness (V36140411) 
LOCATION:AI, Schallenbergschule, Schwimmhalle, Dachteler Weg 18, 71134 Aidlingen-Deufringen
END:VEVENT
BEGIN:VEVENT
DTSTAMP:20260421T074445
DTSTART;TZID=Europe/Berlin:20260611T184500
DTEND;TZID=Europe/Berlin:20260611T193000
UID:V36140411-20260611T184500@VHSBÖBLINGEN-SINDELFINGEN
SUMMARY:Aqua-Fitness (V36140411) 
LOCATION:AI, Schallenbergschule, Schwimmhalle, Dachteler Weg 18, 71134 Aidlingen-Deufringen
END:VEVENT
BEGIN:VEVENT
DTSTAMP:20260421T074445
DTSTART;TZID=Europe/Berlin:20260625T184500
DTEND;TZID=Europe/Berlin:20260625T193000
UID:V36140411-20260625T184500@VHSBÖBLINGEN-SINDELFINGEN
SUMMARY:Aqua-Fitness (V36140411) 
LOCATION:AI, Schallenbergschule, Schwimmhalle, Dachteler Weg 18, 71134 Aidlingen-Deufringen
END:VEVENT
BEGIN:VEVENT
DTSTAMP:20260421T074445
DTSTART;TZID=Europe/Berlin:20260709T184500
DTEND;TZID=Europe/Berlin:20260709T193000
UID:V36140411-20260709T184500@VHSBÖBLINGEN-SINDELFINGEN
SUMMARY:Aqua-Fitness (V36140411) 
LOCATION:AI, Schallenbergschule, Schwimmhalle, Dachteler Weg 18, 71134 Aidlingen-Deufringen
END:VEVENT
BEGIN:VEVENT
DTSTAMP:20260421T074445
DTSTART;TZID=Europe/Berlin:20260723T184500
DTEND;TZID=Europe/Berlin:20260723T193000
UID:V36140411-20260723T184500@VHSBÖBLINGEN-SINDELFINGEN
SUMMARY:Aqua-Fitness (V36140411) 
LOCATION:AI, Schallenbergschule, Schwimmhalle, Dachteler Weg 18, 71134 Aidlingen-Deufringen
END:VEVENT
END:VCALENDAR