BEGIN:VCALENDAR
VERSION:2.0
PRODID:https://www.kufer.de/kuferweb / DE
METHOD:PUBLISH
CALSCALE:GREGORIAN
X-WR-TIMEZONE:Europe/Berlin
BEGIN:VTIMEZONE
TZID:Europe/Berlin
X-LIC-LOCATION:Europe/Berlin
BEGIN:DAYLIGHT
TZOFFSETFROM:+0100
TZOFFSETTO:+0200
TZNAME:CEST
DTSTART:19700329T020000
RRULE:FREQ=YEARLY;INTERVAL=1;BYDAY=-1SU;BYMONTH=3
END:DAYLIGHT
BEGIN:STANDARD
TZOFFSETFROM:+0200
TZOFFSETTO:+0100
TZNAME:CET
DTSTART:19701025T030000
RRULE:FREQ=YEARLY;INTERVAL=1;BYDAY=-1SU;BYMONTH=10
END:STANDARD
END:VTIMEZONE
BEGIN:VEVENT
DTSTAMP:20260421T134635
DTSTART;TZID=Europe/Berlin:20260727T190000
DTEND;TZID=Europe/Berlin:20260727T200000
UID:V35148729-20260727T190000@VHSBÖBLINGEN-SINDELFINGEN
SUMMARY:Sommer-Fitness-Mix (V35148729) 
LOCATION:SC, Gemeindehalle, Kleiner Saal, Im Hasenbühl 7, 71101 Schönaich
END:VEVENT
BEGIN:VEVENT
DTSTAMP:20260421T134635
DTSTART;TZID=Europe/Berlin:20260803T190000
DTEND;TZID=Europe/Berlin:20260803T200000
UID:V35148729-20260803T190000@VHSBÖBLINGEN-SINDELFINGEN
SUMMARY:Sommer-Fitness-Mix (V35148729) 
LOCATION:SC_Bürgerhaus, Bürgersaal, Schulstr. 2, 71101 Schönaich
END:VEVENT
BEGIN:VEVENT
DTSTAMP:20260421T134635
DTSTART;TZID=Europe/Berlin:20260810T190000
DTEND;TZID=Europe/Berlin:20260810T200000
UID:V35148729-20260810T190000@VHSBÖBLINGEN-SINDELFINGEN
SUMMARY:Sommer-Fitness-Mix (V35148729) 
LOCATION:SC_Bürgerhaus, Bürgersaal, Schulstr. 2, 71101 Schönaich
END:VEVENT
END:VCALENDAR