BEGIN:VCALENDAR
VERSION:2.0
PRODID:https://www.kufer.de/kuferweb / DE
METHOD:PUBLISH
CALSCALE:GREGORIAN
X-WR-TIMEZONE:Europe/Berlin
BEGIN:VTIMEZONE
TZID:Europe/Berlin
X-LIC-LOCATION:Europe/Berlin
BEGIN:DAYLIGHT
TZOFFSETFROM:+0100
TZOFFSETTO:+0200
TZNAME:CEST
DTSTART:19700329T020000
RRULE:FREQ=YEARLY;INTERVAL=1;BYDAY=-1SU;BYMONTH=3
END:DAYLIGHT
BEGIN:STANDARD
TZOFFSETFROM:+0200
TZOFFSETTO:+0100
TZNAME:CET
DTSTART:19701025T030000
RRULE:FREQ=YEARLY;INTERVAL=1;BYDAY=-1SU;BYMONTH=10
END:STANDARD
END:VTIMEZONE
BEGIN:VEVENT
DTSTAMP:20260420T164457
DTSTART;TZID=Europe/Berlin:20260423T170000
DTEND;TZID=Europe/Berlin:20260423T180000
UID:V34161261-20260423T170000@VHSBÖBLINGEN-SINDELFINGEN
SUMMARY:NEU! Bewegungsangebot für Menschen in der 2. Lebenshälfte (V34161261) 
LOCATION:WE, Halle Neuweiler, ___, Hennersdorfer Straße, 71093 Weil im Schönbuch
END:VEVENT
BEGIN:VEVENT
DTSTAMP:20260420T164457
DTSTART;TZID=Europe/Berlin:20260430T170000
DTEND;TZID=Europe/Berlin:20260430T180000
UID:V34161261-20260430T170000@VHSBÖBLINGEN-SINDELFINGEN
SUMMARY:NEU! Bewegungsangebot für Menschen in der 2. Lebenshälfte (V34161261) 
LOCATION:WE, Halle Neuweiler, ___, Hennersdorfer Straße, 71093 Weil im Schönbuch
END:VEVENT
BEGIN:VEVENT
DTSTAMP:20260420T164457
DTSTART;TZID=Europe/Berlin:20260507T170000
DTEND;TZID=Europe/Berlin:20260507T180000
UID:V34161261-20260507T170000@VHSBÖBLINGEN-SINDELFINGEN
SUMMARY:NEU! Bewegungsangebot für Menschen in der 2. Lebenshälfte (V34161261) 
LOCATION:WE, Halle Neuweiler, ___, Hennersdorfer Straße, 71093 Weil im Schönbuch
END:VEVENT
BEGIN:VEVENT
DTSTAMP:20260420T164457
DTSTART;TZID=Europe/Berlin:20260521T170000
DTEND;TZID=Europe/Berlin:20260521T180000
UID:V34161261-20260521T170000@VHSBÖBLINGEN-SINDELFINGEN
SUMMARY:NEU! Bewegungsangebot für Menschen in der 2. Lebenshälfte (V34161261) 
LOCATION:WE, Halle Neuweiler, ___, Hennersdorfer Straße, 71093 Weil im Schönbuch
END:VEVENT
BEGIN:VEVENT
DTSTAMP:20260420T164457
DTSTART;TZID=Europe/Berlin:20260611T170000
DTEND;TZID=Europe/Berlin:20260611T180000
UID:V34161261-20260611T170000@VHSBÖBLINGEN-SINDELFINGEN
SUMMARY:NEU! Bewegungsangebot für Menschen in der 2. Lebenshälfte (V34161261) 
LOCATION:WE, Halle Neuweiler, ___, Hennersdorfer Straße, 71093 Weil im Schönbuch
END:VEVENT
BEGIN:VEVENT
DTSTAMP:20260420T164457
DTSTART;TZID=Europe/Berlin:20260618T170000
DTEND;TZID=Europe/Berlin:20260618T180000
UID:V34161261-20260618T170000@VHSBÖBLINGEN-SINDELFINGEN
SUMMARY:NEU! Bewegungsangebot für Menschen in der 2. Lebenshälfte (V34161261) 
LOCATION:WE, Halle Neuweiler, ___, Hennersdorfer Straße, 71093 Weil im Schönbuch
END:VEVENT
BEGIN:VEVENT
DTSTAMP:20260420T164457
DTSTART;TZID=Europe/Berlin:20260625T170000
DTEND;TZID=Europe/Berlin:20260625T180000
UID:V34161261-20260625T170000@VHSBÖBLINGEN-SINDELFINGEN
SUMMARY:NEU! Bewegungsangebot für Menschen in der 2. Lebenshälfte (V34161261) 
LOCATION:WE, Halle Neuweiler, ___, Hennersdorfer Straße, 71093 Weil im Schönbuch
END:VEVENT
BEGIN:VEVENT
DTSTAMP:20260420T164457
DTSTART;TZID=Europe/Berlin:20260702T170000
DTEND;TZID=Europe/Berlin:20260702T180000
UID:V34161261-20260702T170000@VHSBÖBLINGEN-SINDELFINGEN
SUMMARY:NEU! Bewegungsangebot für Menschen in der 2. Lebenshälfte (V34161261) 
LOCATION:WE, Halle Neuweiler, ___, Hennersdorfer Straße, 71093 Weil im Schönbuch
END:VEVENT
BEGIN:VEVENT
DTSTAMP:20260420T164457
DTSTART;TZID=Europe/Berlin:20260709T170000
DTEND;TZID=Europe/Berlin:20260709T180000
UID:V34161261-20260709T170000@VHSBÖBLINGEN-SINDELFINGEN
SUMMARY:NEU! Bewegungsangebot für Menschen in der 2. Lebenshälfte (V34161261) 
LOCATION:WE, Halle Neuweiler, ___, Hennersdorfer Straße, 71093 Weil im Schönbuch
END:VEVENT
BEGIN:VEVENT
DTSTAMP:20260420T164457
DTSTART;TZID=Europe/Berlin:20260716T170000
DTEND;TZID=Europe/Berlin:20260716T180000
UID:V34161261-20260716T170000@VHSBÖBLINGEN-SINDELFINGEN
SUMMARY:NEU! Bewegungsangebot für Menschen in der 2. Lebenshälfte (V34161261) 
LOCATION:WE, Halle Neuweiler, ___, Hennersdorfer Straße, 71093 Weil im Schönbuch
END:VEVENT
BEGIN:VEVENT
DTSTAMP:20260420T164457
DTSTART;TZID=Europe/Berlin:20260723T170000
DTEND;TZID=Europe/Berlin:20260723T180000
UID:V34161261-20260723T170000@VHSBÖBLINGEN-SINDELFINGEN
SUMMARY:NEU! Bewegungsangebot für Menschen in der 2. Lebenshälfte (V34161261) 
LOCATION:WE, Halle Neuweiler, ___, Hennersdorfer Straße, 71093 Weil im Schönbuch
END:VEVENT
END:VCALENDAR