BEGIN:VCALENDAR
VERSION:2.0
PRODID:https://www.kufer.de/kuferweb / DE
METHOD:PUBLISH
CALSCALE:GREGORIAN
X-WR-TIMEZONE:Europe/Berlin
BEGIN:VTIMEZONE
TZID:Europe/Berlin
X-LIC-LOCATION:Europe/Berlin
BEGIN:DAYLIGHT
TZOFFSETFROM:+0100
TZOFFSETTO:+0200
TZNAME:CEST
DTSTART:19700329T020000
RRULE:FREQ=YEARLY;INTERVAL=1;BYDAY=-1SU;BYMONTH=3
END:DAYLIGHT
BEGIN:STANDARD
TZOFFSETFROM:+0200
TZOFFSETTO:+0100
TZNAME:CET
DTSTART:19701025T030000
RRULE:FREQ=YEARLY;INTERVAL=1;BYDAY=-1SU;BYMONTH=10
END:STANDARD
END:VTIMEZONE
BEGIN:VEVENT
DTSTAMP:20260420T202043
DTSTART;TZID=Europe/Berlin:20260311T155000
DTEND;TZID=Europe/Berlin:20260311T165000
UID:V33644121-20260311T155000@VHSBÖBLINGEN-SINDELFINGEN
SUMMARY:Rund um den Beckenboden - ganzheitliches Beckenbodentraining (V33644121) 
LOCATION:HO, Rektor-Franke-Haus, Saal, Böblinger Str. 28, 71088 Holzgerlingen
END:VEVENT
BEGIN:VEVENT
DTSTAMP:20260420T202043
DTSTART;TZID=Europe/Berlin:20260318T155000
DTEND;TZID=Europe/Berlin:20260318T165000
UID:V33644121-20260318T155000@VHSBÖBLINGEN-SINDELFINGEN
SUMMARY:Rund um den Beckenboden - ganzheitliches Beckenbodentraining (V33644121) 
LOCATION:HO, Rektor-Franke-Haus, Saal, Böblinger Str. 28, 71088 Holzgerlingen
END:VEVENT
BEGIN:VEVENT
DTSTAMP:20260420T202043
DTSTART;TZID=Europe/Berlin:20260325T155000
DTEND;TZID=Europe/Berlin:20260325T165000
UID:V33644121-20260325T155000@VHSBÖBLINGEN-SINDELFINGEN
SUMMARY:Rund um den Beckenboden - ganzheitliches Beckenbodentraining (V33644121) 
LOCATION:HO, Rektor-Franke-Haus, Saal, Böblinger Str. 28, 71088 Holzgerlingen
END:VEVENT
BEGIN:VEVENT
DTSTAMP:20260420T202043
DTSTART;TZID=Europe/Berlin:20260415T155000
DTEND;TZID=Europe/Berlin:20260415T165000
UID:V33644121-20260415T155000@VHSBÖBLINGEN-SINDELFINGEN
SUMMARY:Rund um den Beckenboden - ganzheitliches Beckenbodentraining (V33644121) 
LOCATION:HO, Rektor-Franke-Haus, Saal, Böblinger Str. 28, 71088 Holzgerlingen
END:VEVENT
BEGIN:VEVENT
DTSTAMP:20260420T202043
DTSTART;TZID=Europe/Berlin:20260422T155000
DTEND;TZID=Europe/Berlin:20260422T165000
UID:V33644121-20260422T155000@VHSBÖBLINGEN-SINDELFINGEN
SUMMARY:Rund um den Beckenboden - ganzheitliches Beckenbodentraining (V33644121) 
LOCATION:HO, Rektor-Franke-Haus, Saal, Böblinger Str. 28, 71088 Holzgerlingen
END:VEVENT
BEGIN:VEVENT
DTSTAMP:20260420T202043
DTSTART;TZID=Europe/Berlin:20260429T155000
DTEND;TZID=Europe/Berlin:20260429T165000
UID:V33644121-20260429T155000@VHSBÖBLINGEN-SINDELFINGEN
SUMMARY:Rund um den Beckenboden - ganzheitliches Beckenbodentraining (V33644121) 
LOCATION:HO, Rektor-Franke-Haus, Saal, Böblinger Str. 28, 71088 Holzgerlingen
END:VEVENT
BEGIN:VEVENT
DTSTAMP:20260420T202043
DTSTART;TZID=Europe/Berlin:20260506T155000
DTEND;TZID=Europe/Berlin:20260506T165000
UID:V33644121-20260506T155000@VHSBÖBLINGEN-SINDELFINGEN
SUMMARY:Rund um den Beckenboden - ganzheitliches Beckenbodentraining (V33644121) 
LOCATION:HO, Rektor-Franke-Haus, Saal, Böblinger Str. 28, 71088 Holzgerlingen
END:VEVENT
BEGIN:VEVENT
DTSTAMP:20260420T202043
DTSTART;TZID=Europe/Berlin:20260513T155000
DTEND;TZID=Europe/Berlin:20260513T165000
UID:V33644121-20260513T155000@VHSBÖBLINGEN-SINDELFINGEN
SUMMARY:Rund um den Beckenboden - ganzheitliches Beckenbodentraining (V33644121) 
LOCATION:HO, Rektor-Franke-Haus, Saal, Böblinger Str. 28, 71088 Holzgerlingen
END:VEVENT
BEGIN:VEVENT
DTSTAMP:20260420T202043
DTSTART;TZID=Europe/Berlin:20260520T155000
DTEND;TZID=Europe/Berlin:20260520T165000
UID:V33644121-20260520T155000@VHSBÖBLINGEN-SINDELFINGEN
SUMMARY:Rund um den Beckenboden - ganzheitliches Beckenbodentraining (V33644121) 
LOCATION:HO, Rektor-Franke-Haus, Saal, Böblinger Str. 28, 71088 Holzgerlingen
END:VEVENT
BEGIN:VEVENT
DTSTAMP:20260420T202043
DTSTART;TZID=Europe/Berlin:20260610T155000
DTEND;TZID=Europe/Berlin:20260610T165000
UID:V33644121-20260610T155000@VHSBÖBLINGEN-SINDELFINGEN
SUMMARY:Rund um den Beckenboden - ganzheitliches Beckenbodentraining (V33644121) 
LOCATION:HO, Rektor-Franke-Haus, Saal, Böblinger Str. 28, 71088 Holzgerlingen
END:VEVENT
BEGIN:VEVENT
DTSTAMP:20260420T202043
DTSTART;TZID=Europe/Berlin:20260617T155000
DTEND;TZID=Europe/Berlin:20260617T165000
UID:V33644121-20260617T155000@VHSBÖBLINGEN-SINDELFINGEN
SUMMARY:Rund um den Beckenboden - ganzheitliches Beckenbodentraining (V33644121) 
LOCATION:HO, Rektor-Franke-Haus, Saal, Böblinger Str. 28, 71088 Holzgerlingen
END:VEVENT
BEGIN:VEVENT
DTSTAMP:20260420T202043
DTSTART;TZID=Europe/Berlin:20260624T155000
DTEND;TZID=Europe/Berlin:20260624T165000
UID:V33644121-20260624T155000@VHSBÖBLINGEN-SINDELFINGEN
SUMMARY:Rund um den Beckenboden - ganzheitliches Beckenbodentraining (V33644121) 
LOCATION:HO, Rektor-Franke-Haus, Saal, Böblinger Str. 28, 71088 Holzgerlingen
END:VEVENT
BEGIN:VEVENT
DTSTAMP:20260420T202043
DTSTART;TZID=Europe/Berlin:20260701T155000
DTEND;TZID=Europe/Berlin:20260701T165000
UID:V33644121-20260701T155000@VHSBÖBLINGEN-SINDELFINGEN
SUMMARY:Rund um den Beckenboden - ganzheitliches Beckenbodentraining (V33644121) 
LOCATION:HO, Rektor-Franke-Haus, Saal, Böblinger Str. 28, 71088 Holzgerlingen
END:VEVENT
BEGIN:VEVENT
DTSTAMP:20260420T202043
DTSTART;TZID=Europe/Berlin:20260708T155000
DTEND;TZID=Europe/Berlin:20260708T165000
UID:V33644121-20260708T155000@VHSBÖBLINGEN-SINDELFINGEN
SUMMARY:Rund um den Beckenboden - ganzheitliches Beckenbodentraining (V33644121) 
LOCATION:HO, Rektor-Franke-Haus, Saal, Böblinger Str. 28, 71088 Holzgerlingen
END:VEVENT
END:VCALENDAR