BEGIN:VCALENDAR
VERSION:2.0
PRODID:https://www.kufer.de/kuferweb / DE
METHOD:PUBLISH
CALSCALE:GREGORIAN
X-WR-TIMEZONE:Europe/Berlin
BEGIN:VTIMEZONE
TZID:Europe/Berlin
X-LIC-LOCATION:Europe/Berlin
BEGIN:DAYLIGHT
TZOFFSETFROM:+0100
TZOFFSETTO:+0200
TZNAME:CEST
DTSTART:19700329T020000
RRULE:FREQ=YEARLY;INTERVAL=1;BYDAY=-1SU;BYMONTH=3
END:DAYLIGHT
BEGIN:STANDARD
TZOFFSETFROM:+0200
TZOFFSETTO:+0100
TZNAME:CET
DTSTART:19701025T030000
RRULE:FREQ=YEARLY;INTERVAL=1;BYDAY=-1SU;BYMONTH=10
END:STANDARD
END:VTIMEZONE
BEGIN:VEVENT
DTSTAMP:20260420T220625
DTSTART;TZID=Europe/Berlin:20260311T170000
DTEND;TZID=Europe/Berlin:20260311T180000
UID:V33644021-20260311T170000@VHSBÖBLINGEN-SINDELFINGEN
SUMMARY:Rund um den Beckenboden - ganzheitliches Beckenbodentraining (V33644021) 
LOCATION:HO, Rektor-Franke-Haus, Saal, Böblinger Str. 28, 71088 Holzgerlingen
END:VEVENT
BEGIN:VEVENT
DTSTAMP:20260420T220625
DTSTART;TZID=Europe/Berlin:20260318T170000
DTEND;TZID=Europe/Berlin:20260318T180000
UID:V33644021-20260318T170000@VHSBÖBLINGEN-SINDELFINGEN
SUMMARY:Rund um den Beckenboden - ganzheitliches Beckenbodentraining (V33644021) 
LOCATION:HO, Rektor-Franke-Haus, Saal, Böblinger Str. 28, 71088 Holzgerlingen
END:VEVENT
BEGIN:VEVENT
DTSTAMP:20260420T220625
DTSTART;TZID=Europe/Berlin:20260325T170000
DTEND;TZID=Europe/Berlin:20260325T180000
UID:V33644021-20260325T170000@VHSBÖBLINGEN-SINDELFINGEN
SUMMARY:Rund um den Beckenboden - ganzheitliches Beckenbodentraining (V33644021) 
LOCATION:HO, Rektor-Franke-Haus, Saal, Böblinger Str. 28, 71088 Holzgerlingen
END:VEVENT
BEGIN:VEVENT
DTSTAMP:20260420T220625
DTSTART;TZID=Europe/Berlin:20260415T170000
DTEND;TZID=Europe/Berlin:20260415T180000
UID:V33644021-20260415T170000@VHSBÖBLINGEN-SINDELFINGEN
SUMMARY:Rund um den Beckenboden - ganzheitliches Beckenbodentraining (V33644021) 
LOCATION:HO, Rektor-Franke-Haus, Saal, Böblinger Str. 28, 71088 Holzgerlingen
END:VEVENT
BEGIN:VEVENT
DTSTAMP:20260420T220625
DTSTART;TZID=Europe/Berlin:20260422T170000
DTEND;TZID=Europe/Berlin:20260422T180000
UID:V33644021-20260422T170000@VHSBÖBLINGEN-SINDELFINGEN
SUMMARY:Rund um den Beckenboden - ganzheitliches Beckenbodentraining (V33644021) 
LOCATION:HO, Rektor-Franke-Haus, Saal, Böblinger Str. 28, 71088 Holzgerlingen
END:VEVENT
BEGIN:VEVENT
DTSTAMP:20260420T220625
DTSTART;TZID=Europe/Berlin:20260429T170000
DTEND;TZID=Europe/Berlin:20260429T180000
UID:V33644021-20260429T170000@VHSBÖBLINGEN-SINDELFINGEN
SUMMARY:Rund um den Beckenboden - ganzheitliches Beckenbodentraining (V33644021) 
LOCATION:HO, Rektor-Franke-Haus, Saal, Böblinger Str. 28, 71088 Holzgerlingen
END:VEVENT
BEGIN:VEVENT
DTSTAMP:20260420T220625
DTSTART;TZID=Europe/Berlin:20260506T170000
DTEND;TZID=Europe/Berlin:20260506T180000
UID:V33644021-20260506T170000@VHSBÖBLINGEN-SINDELFINGEN
SUMMARY:Rund um den Beckenboden - ganzheitliches Beckenbodentraining (V33644021) 
LOCATION:HO, Rektor-Franke-Haus, Saal, Böblinger Str. 28, 71088 Holzgerlingen
END:VEVENT
BEGIN:VEVENT
DTSTAMP:20260420T220625
DTSTART;TZID=Europe/Berlin:20260513T170000
DTEND;TZID=Europe/Berlin:20260513T180000
UID:V33644021-20260513T170000@VHSBÖBLINGEN-SINDELFINGEN
SUMMARY:Rund um den Beckenboden - ganzheitliches Beckenbodentraining (V33644021) 
LOCATION:HO, Rektor-Franke-Haus, Saal, Böblinger Str. 28, 71088 Holzgerlingen
END:VEVENT
BEGIN:VEVENT
DTSTAMP:20260420T220625
DTSTART;TZID=Europe/Berlin:20260520T170000
DTEND;TZID=Europe/Berlin:20260520T180000
UID:V33644021-20260520T170000@VHSBÖBLINGEN-SINDELFINGEN
SUMMARY:Rund um den Beckenboden - ganzheitliches Beckenbodentraining (V33644021) 
LOCATION:HO, Rektor-Franke-Haus, Saal, Böblinger Str. 28, 71088 Holzgerlingen
END:VEVENT
BEGIN:VEVENT
DTSTAMP:20260420T220625
DTSTART;TZID=Europe/Berlin:20260610T170000
DTEND;TZID=Europe/Berlin:20260610T180000
UID:V33644021-20260610T170000@VHSBÖBLINGEN-SINDELFINGEN
SUMMARY:Rund um den Beckenboden - ganzheitliches Beckenbodentraining (V33644021) 
LOCATION:HO, Rektor-Franke-Haus, Saal, Böblinger Str. 28, 71088 Holzgerlingen
END:VEVENT
BEGIN:VEVENT
DTSTAMP:20260420T220625
DTSTART;TZID=Europe/Berlin:20260617T170000
DTEND;TZID=Europe/Berlin:20260617T180000
UID:V33644021-20260617T170000@VHSBÖBLINGEN-SINDELFINGEN
SUMMARY:Rund um den Beckenboden - ganzheitliches Beckenbodentraining (V33644021) 
LOCATION:HO, Rektor-Franke-Haus, Saal, Böblinger Str. 28, 71088 Holzgerlingen
END:VEVENT
BEGIN:VEVENT
DTSTAMP:20260420T220625
DTSTART;TZID=Europe/Berlin:20260624T170000
DTEND;TZID=Europe/Berlin:20260624T180000
UID:V33644021-20260624T170000@VHSBÖBLINGEN-SINDELFINGEN
SUMMARY:Rund um den Beckenboden - ganzheitliches Beckenbodentraining (V33644021) 
LOCATION:HO, Rektor-Franke-Haus, Saal, Böblinger Str. 28, 71088 Holzgerlingen
END:VEVENT
BEGIN:VEVENT
DTSTAMP:20260420T220625
DTSTART;TZID=Europe/Berlin:20260701T170000
DTEND;TZID=Europe/Berlin:20260701T180000
UID:V33644021-20260701T170000@VHSBÖBLINGEN-SINDELFINGEN
SUMMARY:Rund um den Beckenboden - ganzheitliches Beckenbodentraining (V33644021) 
LOCATION:HO, Rektor-Franke-Haus, Saal, Böblinger Str. 28, 71088 Holzgerlingen
END:VEVENT
BEGIN:VEVENT
DTSTAMP:20260420T220625
DTSTART;TZID=Europe/Berlin:20260708T170000
DTEND;TZID=Europe/Berlin:20260708T180000
UID:V33644021-20260708T170000@VHSBÖBLINGEN-SINDELFINGEN
SUMMARY:Rund um den Beckenboden - ganzheitliches Beckenbodentraining (V33644021) 
LOCATION:HO, Rektor-Franke-Haus, Saal, Böblinger Str. 28, 71088 Holzgerlingen
END:VEVENT
END:VCALENDAR