BEGIN:VCALENDAR
VERSION:2.0
PRODID:https://www.kufer.de/kuferweb / DE
METHOD:PUBLISH
CALSCALE:GREGORIAN
X-WR-TIMEZONE:Europe/Berlin
BEGIN:VTIMEZONE
TZID:Europe/Berlin
X-LIC-LOCATION:Europe/Berlin
BEGIN:DAYLIGHT
TZOFFSETFROM:+0100
TZOFFSETTO:+0200
TZNAME:CEST
DTSTART:19700329T020000
RRULE:FREQ=YEARLY;INTERVAL=1;BYDAY=-1SU;BYMONTH=3
END:DAYLIGHT
BEGIN:STANDARD
TZOFFSETFROM:+0200
TZOFFSETTO:+0100
TZNAME:CET
DTSTART:19701025T030000
RRULE:FREQ=YEARLY;INTERVAL=1;BYDAY=-1SU;BYMONTH=10
END:STANDARD
END:VTIMEZONE
BEGIN:VEVENT
DTSTAMP:20260421T004137
DTSTART;TZID=Europe/Berlin:20260701T180000
DTEND;TZID=Europe/Berlin:20260701T193000
UID:V32661622-20260701T180000@VHSBÖBLINGEN-SINDELFINGEN
SUMMARY:Qi Gong und Meditation (V32661622) 
LOCATION:MA, Neues Schulhaus, Gymnastikraum, 2.OG, Neue Stuttgarter Str. 1, 71106 Magstadt
END:VEVENT
BEGIN:VEVENT
DTSTAMP:20260421T004137
DTSTART;TZID=Europe/Berlin:20260708T180000
DTEND;TZID=Europe/Berlin:20260708T193000
UID:V32661622-20260708T180000@VHSBÖBLINGEN-SINDELFINGEN
SUMMARY:Qi Gong und Meditation (V32661622) 
LOCATION:MA, Neues Schulhaus, Gymnastikraum, 2.OG, Neue Stuttgarter Str. 1, 71106 Magstadt
END:VEVENT
BEGIN:VEVENT
DTSTAMP:20260421T004137
DTSTART;TZID=Europe/Berlin:20260715T180000
DTEND;TZID=Europe/Berlin:20260715T193000
UID:V32661622-20260715T180000@VHSBÖBLINGEN-SINDELFINGEN
SUMMARY:Qi Gong und Meditation (V32661622) 
LOCATION:MA, Neues Schulhaus, Gymnastikraum, 2.OG, Neue Stuttgarter Str. 1, 71106 Magstadt
END:VEVENT
BEGIN:VEVENT
DTSTAMP:20260421T004137
DTSTART;TZID=Europe/Berlin:20260722T180000
DTEND;TZID=Europe/Berlin:20260722T193000
UID:V32661622-20260722T180000@VHSBÖBLINGEN-SINDELFINGEN
SUMMARY:Qi Gong und Meditation (V32661622) 
LOCATION:MA, Neues Schulhaus, Gymnastikraum, 2.OG, Neue Stuttgarter Str. 1, 71106 Magstadt
END:VEVENT
BEGIN:VEVENT
DTSTAMP:20260421T004137
DTSTART;TZID=Europe/Berlin:20260729T180000
DTEND;TZID=Europe/Berlin:20260729T193000
UID:V32661622-20260729T180000@VHSBÖBLINGEN-SINDELFINGEN
SUMMARY:Qi Gong und Meditation (V32661622) 
LOCATION:MA, Neues Schulhaus, Gymnastikraum, 2.OG, Neue Stuttgarter Str. 1, 71106 Magstadt
END:VEVENT
END:VCALENDAR