BEGIN:VCALENDAR
VERSION:2.0
PRODID:https://www.kufer.de/kuferweb / DE
METHOD:PUBLISH
CALSCALE:GREGORIAN
X-WR-TIMEZONE:Europe/Berlin
BEGIN:VTIMEZONE
TZID:Europe/Berlin
X-LIC-LOCATION:Europe/Berlin
BEGIN:DAYLIGHT
TZOFFSETFROM:+0100
TZOFFSETTO:+0200
TZNAME:CEST
DTSTART:19700329T020000
RRULE:FREQ=YEARLY;INTERVAL=1;BYDAY=-1SU;BYMONTH=3
END:DAYLIGHT
BEGIN:STANDARD
TZOFFSETFROM:+0200
TZOFFSETTO:+0100
TZNAME:CET
DTSTART:19701025T030000
RRULE:FREQ=YEARLY;INTERVAL=1;BYDAY=-1SU;BYMONTH=10
END:STANDARD
END:VTIMEZONE
BEGIN:VEVENT
DTSTAMP:20260421T152048
DTSTART;TZID=Europe/Berlin:20260805T180000
DTEND;TZID=Europe/Berlin:20260805T193000
UID:V32661610-20260805T180000@VHSBÖBLINGEN-SINDELFINGEN
SUMMARY:Qi Gong und Meditation im Park (V32661610) 
LOCATION:Sommerhofenpark
END:VEVENT
BEGIN:VEVENT
DTSTAMP:20260421T152048
DTSTART;TZID=Europe/Berlin:20260812T180000
DTEND;TZID=Europe/Berlin:20260812T193000
UID:V32661610-20260812T180000@VHSBÖBLINGEN-SINDELFINGEN
SUMMARY:Qi Gong und Meditation im Park (V32661610) 
LOCATION:Sommerhofenpark
END:VEVENT
BEGIN:VEVENT
DTSTAMP:20260421T152048
DTSTART;TZID=Europe/Berlin:20260819T180000
DTEND;TZID=Europe/Berlin:20260819T193000
UID:V32661610-20260819T180000@VHSBÖBLINGEN-SINDELFINGEN
SUMMARY:Qi Gong und Meditation im Park (V32661610) 
LOCATION:Sommerhofenpark
END:VEVENT
BEGIN:VEVENT
DTSTAMP:20260421T152048
DTSTART;TZID=Europe/Berlin:20260826T180000
DTEND;TZID=Europe/Berlin:20260826T193000
UID:V32661610-20260826T180000@VHSBÖBLINGEN-SINDELFINGEN
SUMMARY:Qi Gong und Meditation im Park (V32661610) 
LOCATION:Sommerhofenpark
END:VEVENT
BEGIN:VEVENT
DTSTAMP:20260421T152048
DTSTART;TZID=Europe/Berlin:20260902T180000
DTEND;TZID=Europe/Berlin:20260902T193000
UID:V32661610-20260902T180000@VHSBÖBLINGEN-SINDELFINGEN
SUMMARY:Qi Gong und Meditation im Park (V32661610) 
LOCATION:Sommerhofenpark
END:VEVENT
END:VCALENDAR