BEGIN:VCALENDAR
VERSION:2.0
PRODID:https://www.kufer.de/kuferweb / DE
METHOD:PUBLISH
CALSCALE:GREGORIAN
X-WR-TIMEZONE:Europe/Berlin
BEGIN:VTIMEZONE
TZID:Europe/Berlin
X-LIC-LOCATION:Europe/Berlin
BEGIN:DAYLIGHT
TZOFFSETFROM:+0100
TZOFFSETTO:+0200
TZNAME:CEST
DTSTART:19700329T020000
RRULE:FREQ=YEARLY;INTERVAL=1;BYDAY=-1SU;BYMONTH=3
END:DAYLIGHT
BEGIN:STANDARD
TZOFFSETFROM:+0200
TZOFFSETTO:+0100
TZNAME:CET
DTSTART:19701025T030000
RRULE:FREQ=YEARLY;INTERVAL=1;BYDAY=-1SU;BYMONTH=10
END:STANDARD
END:VTIMEZONE
BEGIN:VEVENT
DTSTAMP:20260421T054824
DTSTART;TZID=Europe/Berlin:20260710T100000
DTEND;TZID=Europe/Berlin:20260710T113000
UID:V32631710-20260710T100000@VHSBÖBLINGEN-SINDELFINGEN
SUMMARY:Qi Gong -Tai Chi Chuan für den Rücken (V32631710) 
LOCATION:vhs.Werk, Halle 2, Wurmbergstr. 5, 71063 Sindelfingen
END:VEVENT
BEGIN:VEVENT
DTSTAMP:20260421T054824
DTSTART;TZID=Europe/Berlin:20260717T100000
DTEND;TZID=Europe/Berlin:20260717T113000
UID:V32631710-20260717T100000@VHSBÖBLINGEN-SINDELFINGEN
SUMMARY:Qi Gong -Tai Chi Chuan für den Rücken (V32631710) 
LOCATION:vhs.Werk, Halle 2, Wurmbergstr. 5, 71063 Sindelfingen
END:VEVENT
BEGIN:VEVENT
DTSTAMP:20260421T054824
DTSTART;TZID=Europe/Berlin:20260724T100000
DTEND;TZID=Europe/Berlin:20260724T113000
UID:V32631710-20260724T100000@VHSBÖBLINGEN-SINDELFINGEN
SUMMARY:Qi Gong -Tai Chi Chuan für den Rücken (V32631710) 
LOCATION:vhs.Werk, Halle 2, Wurmbergstr. 5, 71063 Sindelfingen
END:VEVENT
BEGIN:VEVENT
DTSTAMP:20260421T054824
DTSTART;TZID=Europe/Berlin:20260731T100000
DTEND;TZID=Europe/Berlin:20260731T113000
UID:V32631710-20260731T100000@VHSBÖBLINGEN-SINDELFINGEN
SUMMARY:Qi Gong -Tai Chi Chuan für den Rücken (V32631710) 
LOCATION:vhs.Werk, Halle 2, Wurmbergstr. 5, 71063 Sindelfingen
END:VEVENT
BEGIN:VEVENT
DTSTAMP:20260421T054824
DTSTART;TZID=Europe/Berlin:20260807T100000
DTEND;TZID=Europe/Berlin:20260807T113000
UID:V32631710-20260807T100000@VHSBÖBLINGEN-SINDELFINGEN
SUMMARY:Qi Gong -Tai Chi Chuan für den Rücken (V32631710) 
LOCATION:vhs.Werk, Halle 2, Wurmbergstr. 5, 71063 Sindelfingen
END:VEVENT
END:VCALENDAR