BEGIN:VCALENDAR
VERSION:2.0
PRODID:https://www.kufer.de/kuferweb / DE
METHOD:PUBLISH
CALSCALE:GREGORIAN
X-WR-TIMEZONE:Europe/Berlin
BEGIN:VTIMEZONE
TZID:Europe/Berlin
X-LIC-LOCATION:Europe/Berlin
BEGIN:DAYLIGHT
TZOFFSETFROM:+0100
TZOFFSETTO:+0200
TZNAME:CEST
DTSTART:19700329T020000
RRULE:FREQ=YEARLY;INTERVAL=1;BYDAY=-1SU;BYMONTH=3
END:DAYLIGHT
BEGIN:STANDARD
TZOFFSETFROM:+0200
TZOFFSETTO:+0100
TZNAME:CET
DTSTART:19701025T030000
RRULE:FREQ=YEARLY;INTERVAL=1;BYDAY=-1SU;BYMONTH=10
END:STANDARD
END:VTIMEZONE
BEGIN:VEVENT
DTSTAMP:20260421T090035
DTSTART;TZID=Europe/Berlin:20260227T100000
DTEND;TZID=Europe/Berlin:20260227T113000
UID:V32631610-20260227T100000@VHSBÖBLINGEN-SINDELFINGEN
SUMMARY:Qi Gong -Tai Chi Chuan für den Rücken (V32631610) 
LOCATION:vhs.Werk, Halle 2, Wurmbergstr. 5, 71063 Sindelfingen
END:VEVENT
BEGIN:VEVENT
DTSTAMP:20260421T090035
DTSTART;TZID=Europe/Berlin:20260306T100000
DTEND;TZID=Europe/Berlin:20260306T113000
UID:V32631610-20260306T100000@VHSBÖBLINGEN-SINDELFINGEN
SUMMARY:Qi Gong -Tai Chi Chuan für den Rücken (V32631610) 
LOCATION:vhs.Werk, Halle 2, Wurmbergstr. 5, 71063 Sindelfingen
END:VEVENT
BEGIN:VEVENT
DTSTAMP:20260421T090035
DTSTART;TZID=Europe/Berlin:20260313T100000
DTEND;TZID=Europe/Berlin:20260313T113000
UID:V32631610-20260313T100000@VHSBÖBLINGEN-SINDELFINGEN
SUMMARY:Qi Gong -Tai Chi Chuan für den Rücken (V32631610) 
LOCATION:vhs.Werk, Halle 2, Wurmbergstr. 5, 71063 Sindelfingen
END:VEVENT
BEGIN:VEVENT
DTSTAMP:20260421T090035
DTSTART;TZID=Europe/Berlin:20260320T100000
DTEND;TZID=Europe/Berlin:20260320T113000
UID:V32631610-20260320T100000@VHSBÖBLINGEN-SINDELFINGEN
SUMMARY:Qi Gong -Tai Chi Chuan für den Rücken (V32631610) 
LOCATION:vhs.Werk, Halle 2, Wurmbergstr. 5, 71063 Sindelfingen
END:VEVENT
BEGIN:VEVENT
DTSTAMP:20260421T090035
DTSTART;TZID=Europe/Berlin:20260327T100000
DTEND;TZID=Europe/Berlin:20260327T113000
UID:V32631610-20260327T100000@VHSBÖBLINGEN-SINDELFINGEN
SUMMARY:Qi Gong -Tai Chi Chuan für den Rücken (V32631610) 
LOCATION:vhs.Werk, Halle 2, Wurmbergstr. 5, 71063 Sindelfingen
END:VEVENT
BEGIN:VEVENT
DTSTAMP:20260421T090035
DTSTART;TZID=Europe/Berlin:20260417T100000
DTEND;TZID=Europe/Berlin:20260417T113000
UID:V32631610-20260417T100000@VHSBÖBLINGEN-SINDELFINGEN
SUMMARY:Qi Gong -Tai Chi Chuan für den Rücken (V32631610) 
LOCATION:vhs.Werk, Halle 2, Wurmbergstr. 5, 71063 Sindelfingen
END:VEVENT
BEGIN:VEVENT
DTSTAMP:20260421T090035
DTSTART;TZID=Europe/Berlin:20260424T100000
DTEND;TZID=Europe/Berlin:20260424T113000
UID:V32631610-20260424T100000@VHSBÖBLINGEN-SINDELFINGEN
SUMMARY:Qi Gong -Tai Chi Chuan für den Rücken (V32631610) 
LOCATION:vhs.Werk, Halle 2, Wurmbergstr. 5, 71063 Sindelfingen
END:VEVENT
BEGIN:VEVENT
DTSTAMP:20260421T090035
DTSTART;TZID=Europe/Berlin:20260508T100000
DTEND;TZID=Europe/Berlin:20260508T113000
UID:V32631610-20260508T100000@VHSBÖBLINGEN-SINDELFINGEN
SUMMARY:Qi Gong -Tai Chi Chuan für den Rücken (V32631610) 
LOCATION:vhs.Werk, Halle 2, Wurmbergstr. 5, 71063 Sindelfingen
END:VEVENT
BEGIN:VEVENT
DTSTAMP:20260421T090035
DTSTART;TZID=Europe/Berlin:20260515T100000
DTEND;TZID=Europe/Berlin:20260515T113000
UID:V32631610-20260515T100000@VHSBÖBLINGEN-SINDELFINGEN
SUMMARY:Qi Gong -Tai Chi Chuan für den Rücken (V32631610) 
LOCATION:vhs.Werk, Halle 2, Wurmbergstr. 5, 71063 Sindelfingen
END:VEVENT
BEGIN:VEVENT
DTSTAMP:20260421T090035
DTSTART;TZID=Europe/Berlin:20260522T100000
DTEND;TZID=Europe/Berlin:20260522T113000
UID:V32631610-20260522T100000@VHSBÖBLINGEN-SINDELFINGEN
SUMMARY:Qi Gong -Tai Chi Chuan für den Rücken (V32631610) 
LOCATION:vhs.Werk, Halle 2, Wurmbergstr. 5, 71063 Sindelfingen
END:VEVENT
BEGIN:VEVENT
DTSTAMP:20260421T090035
DTSTART;TZID=Europe/Berlin:20260612T100000
DTEND;TZID=Europe/Berlin:20260612T113000
UID:V32631610-20260612T100000@VHSBÖBLINGEN-SINDELFINGEN
SUMMARY:Qi Gong -Tai Chi Chuan für den Rücken (V32631610) 
LOCATION:vhs.Werk, Halle 2, Wurmbergstr. 5, 71063 Sindelfingen
END:VEVENT
BEGIN:VEVENT
DTSTAMP:20260421T090035
DTSTART;TZID=Europe/Berlin:20260619T100000
DTEND;TZID=Europe/Berlin:20260619T113000
UID:V32631610-20260619T100000@VHSBÖBLINGEN-SINDELFINGEN
SUMMARY:Qi Gong -Tai Chi Chuan für den Rücken (V32631610) 
LOCATION:vhs.Werk, Halle 2, Wurmbergstr. 5, 71063 Sindelfingen
END:VEVENT
BEGIN:VEVENT
DTSTAMP:20260421T090035
DTSTART;TZID=Europe/Berlin:20260626T100000
DTEND;TZID=Europe/Berlin:20260626T113000
UID:V32631610-20260626T100000@VHSBÖBLINGEN-SINDELFINGEN
SUMMARY:Qi Gong -Tai Chi Chuan für den Rücken (V32631610) 
LOCATION:vhs.Werk, Halle 2, Wurmbergstr. 5, 71063 Sindelfingen
END:VEVENT
BEGIN:VEVENT
DTSTAMP:20260421T090035
DTSTART;TZID=Europe/Berlin:20260703T100000
DTEND;TZID=Europe/Berlin:20260703T113000
UID:V32631610-20260703T100000@VHSBÖBLINGEN-SINDELFINGEN
SUMMARY:Qi Gong -Tai Chi Chuan für den Rücken (V32631610) 
LOCATION:vhs.Werk, Halle 2, Wurmbergstr. 5, 71063 Sindelfingen
END:VEVENT
END:VCALENDAR