BEGIN:VCALENDAR
VERSION:2.0
PRODID:https://www.kufer.de/kuferweb / DE
METHOD:PUBLISH
CALSCALE:GREGORIAN
X-WR-TIMEZONE:Europe/Berlin
BEGIN:VTIMEZONE
TZID:Europe/Berlin
X-LIC-LOCATION:Europe/Berlin
BEGIN:DAYLIGHT
TZOFFSETFROM:+0100
TZOFFSETTO:+0200
TZNAME:CEST
DTSTART:19700329T020000
RRULE:FREQ=YEARLY;INTERVAL=1;BYDAY=-1SU;BYMONTH=3
END:DAYLIGHT
BEGIN:STANDARD
TZOFFSETFROM:+0200
TZOFFSETTO:+0100
TZNAME:CET
DTSTART:19701025T030000
RRULE:FREQ=YEARLY;INTERVAL=1;BYDAY=-1SU;BYMONTH=10
END:STANDARD
END:VTIMEZONE
BEGIN:VEVENT
DTSTAMP:20260421T093756
DTSTART;TZID=Europe/Berlin:20260811T151500
DTEND;TZID=Europe/Berlin:20260811T161500
UID:V32522612K-20260811T151500@VHSBÖBLINGEN-SINDELFINGEN
SUMMARY:Sei ein Yoki! - Yoga für Kinder von 9-10 Jahren (V32522612K) 
LOCATION:AL, Schönbuchschule, Schönbuchsaal, Im Sommerfeld 2, 71157 Hildrizhausen
END:VEVENT
END:VCALENDAR