BEGIN:VCALENDAR
VERSION:2.0
PRODID:https://www.kufer.de/kuferweb / DE
METHOD:PUBLISH
CALSCALE:GREGORIAN
X-WR-TIMEZONE:Europe/Berlin
BEGIN:VTIMEZONE
TZID:Europe/Berlin
X-LIC-LOCATION:Europe/Berlin
BEGIN:DAYLIGHT
TZOFFSETFROM:+0100
TZOFFSETTO:+0200
TZNAME:CEST
DTSTART:19700329T020000
RRULE:FREQ=YEARLY;INTERVAL=1;BYDAY=-1SU;BYMONTH=3
END:DAYLIGHT
BEGIN:STANDARD
TZOFFSETFROM:+0200
TZOFFSETTO:+0100
TZNAME:CET
DTSTART:19701025T030000
RRULE:FREQ=YEARLY;INTERVAL=1;BYDAY=-1SU;BYMONTH=10
END:STANDARD
END:VTIMEZONE
BEGIN:VEVENT
DTSTAMP:20260421T184632
DTSTART;TZID=Europe/Berlin:20260413T202500
DTEND;TZID=Europe/Berlin:20260413T214000
UID:V32249131-20260413T202500@VHSBÖBLINGEN-SINDELFINGEN
SUMMARY:Yin Yoga und Yoga Nidra mit Klangschalen (V32249131) 
LOCATION:ST, Bürgerhaus, Bürgersaal, Stuttgarter Straße 7, 71144 Steinenbronn
END:VEVENT
BEGIN:VEVENT
DTSTAMP:20260421T184632
DTSTART;TZID=Europe/Berlin:20260420T202500
DTEND;TZID=Europe/Berlin:20260420T214000
UID:V32249131-20260420T202500@VHSBÖBLINGEN-SINDELFINGEN
SUMMARY:Yin Yoga und Yoga Nidra mit Klangschalen (V32249131) 
LOCATION:ST, Bürgerhaus, Bürgersaal, Stuttgarter Straße 7, 71144 Steinenbronn
END:VEVENT
BEGIN:VEVENT
DTSTAMP:20260421T184632
DTSTART;TZID=Europe/Berlin:20260427T202500
DTEND;TZID=Europe/Berlin:20260427T214000
UID:V32249131-20260427T202500@VHSBÖBLINGEN-SINDELFINGEN
SUMMARY:Yin Yoga und Yoga Nidra mit Klangschalen (V32249131) 
LOCATION:ST, Bürgerhaus, Bürgersaal, Stuttgarter Straße 7, 71144 Steinenbronn
END:VEVENT
BEGIN:VEVENT
DTSTAMP:20260421T184632
DTSTART;TZID=Europe/Berlin:20260511T202500
DTEND;TZID=Europe/Berlin:20260511T214000
UID:V32249131-20260511T202500@VHSBÖBLINGEN-SINDELFINGEN
SUMMARY:Yin Yoga und Yoga Nidra mit Klangschalen (V32249131) 
LOCATION:ST, Bürgerhaus, Bürgersaal, Stuttgarter Straße 7, 71144 Steinenbronn
END:VEVENT
END:VCALENDAR