BEGIN:VCALENDAR
VERSION:2.0
PRODID:https://www.kufer.de/kuferweb / DE
METHOD:PUBLISH
CALSCALE:GREGORIAN
X-WR-TIMEZONE:Europe/Berlin
BEGIN:VTIMEZONE
TZID:Europe/Berlin
X-LIC-LOCATION:Europe/Berlin
BEGIN:DAYLIGHT
TZOFFSETFROM:+0100
TZOFFSETTO:+0200
TZNAME:CEST
DTSTART:19700329T020000
RRULE:FREQ=YEARLY;INTERVAL=1;BYDAY=-1SU;BYMONTH=3
END:DAYLIGHT
BEGIN:STANDARD
TZOFFSETFROM:+0200
TZOFFSETTO:+0100
TZNAME:CET
DTSTART:19701025T030000
RRULE:FREQ=YEARLY;INTERVAL=1;BYDAY=-1SU;BYMONTH=10
END:STANDARD
END:VTIMEZONE
BEGIN:VEVENT
DTSTAMP:20260420T194046
DTSTART;TZID=Europe/Berlin:20260423T101500
DTEND;TZID=Europe/Berlin:20260423T113000
UID:V32244021-20260423T101500@VHSBÖBLINGEN-SINDELFINGEN
SUMMARY:Yin Yang Yoga (V32244021) 
LOCATION:HO, Rektor-Franke-Haus, Saal, Böblinger Str. 28, 71088 Holzgerlingen
END:VEVENT
BEGIN:VEVENT
DTSTAMP:20260420T194046
DTSTART;TZID=Europe/Berlin:20260430T101500
DTEND;TZID=Europe/Berlin:20260430T113000
UID:V32244021-20260430T101500@VHSBÖBLINGEN-SINDELFINGEN
SUMMARY:Yin Yang Yoga (V32244021) 
LOCATION:HO, Rektor-Franke-Haus, Saal, Böblinger Str. 28, 71088 Holzgerlingen
END:VEVENT
BEGIN:VEVENT
DTSTAMP:20260420T194046
DTSTART;TZID=Europe/Berlin:20260507T101500
DTEND;TZID=Europe/Berlin:20260507T113000
UID:V32244021-20260507T101500@VHSBÖBLINGEN-SINDELFINGEN
SUMMARY:Yin Yang Yoga (V32244021) 
LOCATION:HO, Rektor-Franke-Haus, Saal, Böblinger Str. 28, 71088 Holzgerlingen
END:VEVENT
BEGIN:VEVENT
DTSTAMP:20260420T194046
DTSTART;TZID=Europe/Berlin:20260521T101500
DTEND;TZID=Europe/Berlin:20260521T113000
UID:V32244021-20260521T101500@VHSBÖBLINGEN-SINDELFINGEN
SUMMARY:Yin Yang Yoga (V32244021) 
LOCATION:HO, Rektor-Franke-Haus, Saal, Böblinger Str. 28, 71088 Holzgerlingen
END:VEVENT
END:VCALENDAR