BEGIN:VCALENDAR
VERSION:2.0
PRODID:https://www.kufer.de/kuferweb / DE
METHOD:PUBLISH
CALSCALE:GREGORIAN
X-WR-TIMEZONE:Europe/Berlin
BEGIN:VTIMEZONE
TZID:Europe/Berlin
X-LIC-LOCATION:Europe/Berlin
BEGIN:DAYLIGHT
TZOFFSETFROM:+0100
TZOFFSETTO:+0200
TZNAME:CEST
DTSTART:19700329T020000
RRULE:FREQ=YEARLY;INTERVAL=1;BYDAY=-1SU;BYMONTH=3
END:DAYLIGHT
BEGIN:STANDARD
TZOFFSETFROM:+0200
TZOFFSETTO:+0100
TZNAME:CET
DTSTART:19701025T030000
RRULE:FREQ=YEARLY;INTERVAL=1;BYDAY=-1SU;BYMONTH=10
END:STANDARD
END:VTIMEZONE
BEGIN:VEVENT
DTSTAMP:20260421T041740
DTSTART;TZID=Europe/Berlin:20260612T173000
DTEND;TZID=Europe/Berlin:20260612T190000
UID:V31840910-20260612T173000@VHSBÖBLINGEN-SINDELFINGEN
SUMMARY:Meditation und Entspannung mit Qi Gong-Elementen (V31840910) 
LOCATION:vhs.Werk, Halle 1, Wurmbergstr. 5, 71063 Sindelfingen
END:VEVENT
BEGIN:VEVENT
DTSTAMP:20260421T041740
DTSTART;TZID=Europe/Berlin:20260619T173000
DTEND;TZID=Europe/Berlin:20260619T190000
UID:V31840910-20260619T173000@VHSBÖBLINGEN-SINDELFINGEN
SUMMARY:Meditation und Entspannung mit Qi Gong-Elementen (V31840910) 
LOCATION:vhs.Werk, Halle 1, Wurmbergstr. 5, 71063 Sindelfingen
END:VEVENT
BEGIN:VEVENT
DTSTAMP:20260421T041740
DTSTART;TZID=Europe/Berlin:20260626T173000
DTEND;TZID=Europe/Berlin:20260626T190000
UID:V31840910-20260626T173000@VHSBÖBLINGEN-SINDELFINGEN
SUMMARY:Meditation und Entspannung mit Qi Gong-Elementen (V31840910) 
LOCATION:vhs.Werk, Halle 1, Wurmbergstr. 5, 71063 Sindelfingen
END:VEVENT
BEGIN:VEVENT
DTSTAMP:20260421T041740
DTSTART;TZID=Europe/Berlin:20260703T173000
DTEND;TZID=Europe/Berlin:20260703T190000
UID:V31840910-20260703T173000@VHSBÖBLINGEN-SINDELFINGEN
SUMMARY:Meditation und Entspannung mit Qi Gong-Elementen (V31840910) 
LOCATION:vhs.Werk, Halle 1, Wurmbergstr. 5, 71063 Sindelfingen
END:VEVENT
BEGIN:VEVENT
DTSTAMP:20260421T041740
DTSTART;TZID=Europe/Berlin:20260710T173000
DTEND;TZID=Europe/Berlin:20260710T190000
UID:V31840910-20260710T173000@VHSBÖBLINGEN-SINDELFINGEN
SUMMARY:Meditation und Entspannung mit Qi Gong-Elementen (V31840910) 
LOCATION:vhs.Werk, Halle 1, Wurmbergstr. 5, 71063 Sindelfingen
END:VEVENT
END:VCALENDAR