BEGIN:VCALENDAR
VERSION:2.0
PRODID:https://www.kufer.de/kuferweb / DE
METHOD:PUBLISH
CALSCALE:GREGORIAN
X-WR-TIMEZONE:Europe/Berlin
BEGIN:VTIMEZONE
TZID:Europe/Berlin
X-LIC-LOCATION:Europe/Berlin
BEGIN:DAYLIGHT
TZOFFSETFROM:+0100
TZOFFSETTO:+0200
TZNAME:CEST
DTSTART:19700329T020000
RRULE:FREQ=YEARLY;INTERVAL=1;BYDAY=-1SU;BYMONTH=3
END:DAYLIGHT
BEGIN:STANDARD
TZOFFSETFROM:+0200
TZOFFSETTO:+0100
TZNAME:CET
DTSTART:19701025T030000
RRULE:FREQ=YEARLY;INTERVAL=1;BYDAY=-1SU;BYMONTH=10
END:STANDARD
END:VTIMEZONE
BEGIN:VEVENT
DTSTAMP:20260421T041938
DTSTART;TZID=Europe/Berlin:20260312T190000
DTEND;TZID=Europe/Berlin:20260312T210000
UID:V27741021-20260312T190000@VHSBÖBLINGEN-SINDELFINGEN
SUMMARY:Mit Ikebana vom Frühling bis zum Sommer (V27741021) 
LOCATION:HO, Turmstraße 14, ___, Turmstr. 14, 71088 Holzgerlingen
END:VEVENT
BEGIN:VEVENT
DTSTAMP:20260421T041938
DTSTART;TZID=Europe/Berlin:20260326T190000
DTEND;TZID=Europe/Berlin:20260326T210000
UID:V27741021-20260326T190000@VHSBÖBLINGEN-SINDELFINGEN
SUMMARY:Mit Ikebana vom Frühling bis zum Sommer (V27741021) 
LOCATION:HO, Turmstraße 14, ___, Turmstr. 14, 71088 Holzgerlingen
END:VEVENT
BEGIN:VEVENT
DTSTAMP:20260421T041938
DTSTART;TZID=Europe/Berlin:20260416T190000
DTEND;TZID=Europe/Berlin:20260416T210000
UID:V27741021-20260416T190000@VHSBÖBLINGEN-SINDELFINGEN
SUMMARY:Mit Ikebana vom Frühling bis zum Sommer (V27741021) 
LOCATION:HO, Turmstraße 14, ___, Turmstr. 14, 71088 Holzgerlingen
END:VEVENT
BEGIN:VEVENT
DTSTAMP:20260421T041938
DTSTART;TZID=Europe/Berlin:20260507T190000
DTEND;TZID=Europe/Berlin:20260507T210000
UID:V27741021-20260507T190000@VHSBÖBLINGEN-SINDELFINGEN
SUMMARY:Mit Ikebana vom Frühling bis zum Sommer (V27741021) 
LOCATION:HO, Turmstraße 14, ___, Turmstr. 14, 71088 Holzgerlingen
END:VEVENT
BEGIN:VEVENT
DTSTAMP:20260421T041938
DTSTART;TZID=Europe/Berlin:20260611T190000
DTEND;TZID=Europe/Berlin:20260611T210000
UID:V27741021-20260611T190000@VHSBÖBLINGEN-SINDELFINGEN
SUMMARY:Mit Ikebana vom Frühling bis zum Sommer (V27741021) 
LOCATION:HO, Turmstraße 14, ___, Turmstr. 14, 71088 Holzgerlingen
END:VEVENT
BEGIN:VEVENT
DTSTAMP:20260421T041938
DTSTART;TZID=Europe/Berlin:20260625T190000
DTEND;TZID=Europe/Berlin:20260625T210000
UID:V27741021-20260625T190000@VHSBÖBLINGEN-SINDELFINGEN
SUMMARY:Mit Ikebana vom Frühling bis zum Sommer (V27741021) 
LOCATION:HO, Turmstraße 14, ___, Turmstr. 14, 71088 Holzgerlingen
END:VEVENT
END:VCALENDAR