BEGIN:VCALENDAR
VERSION:2.0
PRODID:https://www.kufer.de/kuferweb / DE
METHOD:PUBLISH
CALSCALE:GREGORIAN
X-WR-TIMEZONE:Europe/Berlin
BEGIN:VTIMEZONE
TZID:Europe/Berlin
X-LIC-LOCATION:Europe/Berlin
BEGIN:DAYLIGHT
TZOFFSETFROM:+0100
TZOFFSETTO:+0200
TZNAME:CEST
DTSTART:19700329T020000
RRULE:FREQ=YEARLY;INTERVAL=1;BYDAY=-1SU;BYMONTH=3
END:DAYLIGHT
BEGIN:STANDARD
TZOFFSETFROM:+0200
TZOFFSETTO:+0100
TZNAME:CET
DTSTART:19701025T030000
RRULE:FREQ=YEARLY;INTERVAL=1;BYDAY=-1SU;BYMONTH=10
END:STANDARD
END:VTIMEZONE
BEGIN:VEVENT
DTSTAMP:20260421T043235
DTSTART;TZID=Europe/Berlin:20260616T190000
DTEND;TZID=Europe/Berlin:20260616T210000
UID:V27651112-20260616T190000@VHSBÖBLINGEN-SINDELFINGEN
SUMMARY:Grundkurs Strauß und Gesteck (V27651112) 
LOCATION:AL, Altes Forsthaus, ___, Ehninger Str. 21, 71157 Hildrizhausen
END:VEVENT
BEGIN:VEVENT
DTSTAMP:20260421T043235
DTSTART;TZID=Europe/Berlin:20260623T190000
DTEND;TZID=Europe/Berlin:20260623T210000
UID:V27651112-20260623T190000@VHSBÖBLINGEN-SINDELFINGEN
SUMMARY:Grundkurs Strauß und Gesteck (V27651112) 
LOCATION:AL, Altes Forsthaus, ___, Ehninger Str. 21, 71157 Hildrizhausen
END:VEVENT
END:VCALENDAR