BEGIN:VCALENDAR
VERSION:2.0
PRODID:https://www.kufer.de/kuferweb / DE
METHOD:PUBLISH
CALSCALE:GREGORIAN
X-WR-TIMEZONE:Europe/Berlin
BEGIN:VTIMEZONE
TZID:Europe/Berlin
X-LIC-LOCATION:Europe/Berlin
BEGIN:DAYLIGHT
TZOFFSETFROM:+0100
TZOFFSETTO:+0200
TZNAME:CEST
DTSTART:19700329T020000
RRULE:FREQ=YEARLY;INTERVAL=1;BYDAY=-1SU;BYMONTH=3
END:DAYLIGHT
BEGIN:STANDARD
TZOFFSETFROM:+0200
TZOFFSETTO:+0100
TZNAME:CET
DTSTART:19701025T030000
RRULE:FREQ=YEARLY;INTERVAL=1;BYDAY=-1SU;BYMONTH=10
END:STANDARD
END:VTIMEZONE
BEGIN:VEVENT
DTSTAMP:20260420T182301
DTSTART;TZID=Europe/Berlin:20260415T160000
DTEND;TZID=Europe/Berlin:20260415T183000
UID:V26391622K-20260415T160000@VHSBÖBLINGEN-SINDELFINGEN
SUMMARY:Töpfern für Kinder für Kinder ab 8 Jahren   (V26391622K) 
LOCATION:MA, Neues Schulhaus, Werkraum, 2. Stock, Neue Stuttgarter Str. 1, 71106 Magstadt
END:VEVENT
BEGIN:VEVENT
DTSTAMP:20260420T182301
DTSTART;TZID=Europe/Berlin:20260423T160000
DTEND;TZID=Europe/Berlin:20260423T180000
UID:V26391622K-20260423T160000@VHSBÖBLINGEN-SINDELFINGEN
SUMMARY:Töpfern für Kinder für Kinder ab 8 Jahren   (V26391622K) 
LOCATION:MA, Neues Schulhaus, Werkraum, 2. Stock, Neue Stuttgarter Str. 1, 71106 Magstadt
END:VEVENT
END:VCALENDAR