BEGIN:VCALENDAR
VERSION:2.0
PRODID:https://www.kufer.de/kuferweb / DE
METHOD:PUBLISH
CALSCALE:GREGORIAN
X-WR-TIMEZONE:Europe/Berlin
BEGIN:VTIMEZONE
TZID:Europe/Berlin
X-LIC-LOCATION:Europe/Berlin
BEGIN:DAYLIGHT
TZOFFSETFROM:+0100
TZOFFSETTO:+0200
TZNAME:CEST
DTSTART:19700329T020000
RRULE:FREQ=YEARLY;INTERVAL=1;BYDAY=-1SU;BYMONTH=3
END:DAYLIGHT
BEGIN:STANDARD
TZOFFSETFROM:+0200
TZOFFSETTO:+0100
TZNAME:CET
DTSTART:19701025T030000
RRULE:FREQ=YEARLY;INTERVAL=1;BYDAY=-1SU;BYMONTH=10
END:STANDARD
END:VTIMEZONE
BEGIN:VEVENT
DTSTAMP:20260421T150755
DTSTART;TZID=Europe/Berlin:20260327T180000
DTEND;TZID=Europe/Berlin:20260327T203000
UID:V26355010-20260327T180000@VHSBÖBLINGEN-SINDELFINGEN
SUMMARY:Drehkurs an der Töpferscheibe Wheel-turned pottery / Poterie tournée de la roue Kleingruppe (V26355010) 
LOCATION:Stifts, vhs.033, UG, Böblinger Str. 24, 71065 Sindelfingen
END:VEVENT
BEGIN:VEVENT
DTSTAMP:20260421T150755
DTSTART;TZID=Europe/Berlin:20260328T100000
DTEND;TZID=Europe/Berlin:20260328T170000
UID:V26355010-20260328T100000@VHSBÖBLINGEN-SINDELFINGEN
SUMMARY:Drehkurs an der Töpferscheibe Wheel-turned pottery / Poterie tournée de la roue Kleingruppe (V26355010) 
LOCATION:Stifts, vhs.033, UG, Böblinger Str. 24, 71065 Sindelfingen
END:VEVENT
BEGIN:VEVENT
DTSTAMP:20260421T150755
DTSTART;TZID=Europe/Berlin:20260329T100000
DTEND;TZID=Europe/Berlin:20260329T133000
UID:V26355010-20260329T100000@VHSBÖBLINGEN-SINDELFINGEN
SUMMARY:Drehkurs an der Töpferscheibe Wheel-turned pottery / Poterie tournée de la roue Kleingruppe (V26355010) 
LOCATION:Stifts, vhs.033, UG, Böblinger Str. 24, 71065 Sindelfingen
END:VEVENT
END:VCALENDAR