BEGIN:VCALENDAR
VERSION:2.0
PRODID:https://www.kufer.de/kuferweb / DE
METHOD:PUBLISH
CALSCALE:GREGORIAN
X-WR-TIMEZONE:Europe/Berlin
BEGIN:VTIMEZONE
TZID:Europe/Berlin
X-LIC-LOCATION:Europe/Berlin
BEGIN:DAYLIGHT
TZOFFSETFROM:+0100
TZOFFSETTO:+0200
TZNAME:CEST
DTSTART:19700329T020000
RRULE:FREQ=YEARLY;INTERVAL=1;BYDAY=-1SU;BYMONTH=3
END:DAYLIGHT
BEGIN:STANDARD
TZOFFSETFROM:+0200
TZOFFSETTO:+0100
TZNAME:CET
DTSTART:19701025T030000
RRULE:FREQ=YEARLY;INTERVAL=1;BYDAY=-1SU;BYMONTH=10
END:STANDARD
END:VTIMEZONE
BEGIN:VEVENT
DTSTAMP:20260421T234738
DTSTART;TZID=Europe/Berlin:20260302T090000
DTEND;TZID=Europe/Berlin:20260302T110000
UID:V26341212-20260302T090000@VHSBÖBLINGEN-SINDELFINGEN
SUMMARY:Töpfern am Vormittag Aufbaukeramik (V26341212) 
LOCATION:AL, Adolf-Rehn-Schule, Töpferraum, Kellergesch., Schulstraße 19, 71155 Altdorf
END:VEVENT
BEGIN:VEVENT
DTSTAMP:20260421T234738
DTSTART;TZID=Europe/Berlin:20260309T090000
DTEND;TZID=Europe/Berlin:20260309T110000
UID:V26341212-20260309T090000@VHSBÖBLINGEN-SINDELFINGEN
SUMMARY:Töpfern am Vormittag Aufbaukeramik (V26341212) 
LOCATION:AL, Adolf-Rehn-Schule, Töpferraum, Kellergesch., Schulstraße 19, 71155 Altdorf
END:VEVENT
BEGIN:VEVENT
DTSTAMP:20260421T234738
DTSTART;TZID=Europe/Berlin:20260316T090000
DTEND;TZID=Europe/Berlin:20260316T110000
UID:V26341212-20260316T090000@VHSBÖBLINGEN-SINDELFINGEN
SUMMARY:Töpfern am Vormittag Aufbaukeramik (V26341212) 
LOCATION:AL, Adolf-Rehn-Schule, Töpferraum, Kellergesch., Schulstraße 19, 71155 Altdorf
END:VEVENT
BEGIN:VEVENT
DTSTAMP:20260421T234738
DTSTART;TZID=Europe/Berlin:20260323T090000
DTEND;TZID=Europe/Berlin:20260323T110000
UID:V26341212-20260323T090000@VHSBÖBLINGEN-SINDELFINGEN
SUMMARY:Töpfern am Vormittag Aufbaukeramik (V26341212) 
LOCATION:AL, Adolf-Rehn-Schule, Töpferraum, Kellergesch., Schulstraße 19, 71155 Altdorf
END:VEVENT
BEGIN:VEVENT
DTSTAMP:20260421T234738
DTSTART;TZID=Europe/Berlin:20260413T090000
DTEND;TZID=Europe/Berlin:20260413T110000
UID:V26341212-20260413T090000@VHSBÖBLINGEN-SINDELFINGEN
SUMMARY:Töpfern am Vormittag Aufbaukeramik (V26341212) 
LOCATION:AL, Adolf-Rehn-Schule, Töpferraum, Kellergesch., Schulstraße 19, 71155 Altdorf
END:VEVENT
BEGIN:VEVENT
DTSTAMP:20260421T234738
DTSTART;TZID=Europe/Berlin:20260420T090000
DTEND;TZID=Europe/Berlin:20260420T110000
UID:V26341212-20260420T090000@VHSBÖBLINGEN-SINDELFINGEN
SUMMARY:Töpfern am Vormittag Aufbaukeramik (V26341212) 
LOCATION:AL, Adolf-Rehn-Schule, Töpferraum, Kellergesch., Schulstraße 19, 71155 Altdorf
END:VEVENT
BEGIN:VEVENT
DTSTAMP:20260421T234738
DTSTART;TZID=Europe/Berlin:20260427T090000
DTEND;TZID=Europe/Berlin:20260427T110000
UID:V26341212-20260427T090000@VHSBÖBLINGEN-SINDELFINGEN
SUMMARY:Töpfern am Vormittag Aufbaukeramik (V26341212) 
LOCATION:AL, Adolf-Rehn-Schule, Töpferraum, Kellergesch., Schulstraße 19, 71155 Altdorf
END:VEVENT
BEGIN:VEVENT
DTSTAMP:20260421T234738
DTSTART;TZID=Europe/Berlin:20260504T090000
DTEND;TZID=Europe/Berlin:20260504T110000
UID:V26341212-20260504T090000@VHSBÖBLINGEN-SINDELFINGEN
SUMMARY:Töpfern am Vormittag Aufbaukeramik (V26341212) 
LOCATION:AL, Adolf-Rehn-Schule, Töpferraum, Kellergesch., Schulstraße 19, 71155 Altdorf
END:VEVENT
BEGIN:VEVENT
DTSTAMP:20260421T234738
DTSTART;TZID=Europe/Berlin:20260511T090000
DTEND;TZID=Europe/Berlin:20260511T110000
UID:V26341212-20260511T090000@VHSBÖBLINGEN-SINDELFINGEN
SUMMARY:Töpfern am Vormittag Aufbaukeramik (V26341212) 
LOCATION:AL, Adolf-Rehn-Schule, Töpferraum, Kellergesch., Schulstraße 19, 71155 Altdorf
END:VEVENT
END:VCALENDAR