BEGIN:VCALENDAR
VERSION:2.0
PRODID:https://www.kufer.de/kuferweb / DE
METHOD:PUBLISH
CALSCALE:GREGORIAN
X-WR-TIMEZONE:Europe/Berlin
BEGIN:VTIMEZONE
TZID:Europe/Berlin
X-LIC-LOCATION:Europe/Berlin
BEGIN:DAYLIGHT
TZOFFSETFROM:+0100
TZOFFSETTO:+0200
TZNAME:CEST
DTSTART:19700329T020000
RRULE:FREQ=YEARLY;INTERVAL=1;BYDAY=-1SU;BYMONTH=3
END:DAYLIGHT
BEGIN:STANDARD
TZOFFSETFROM:+0200
TZOFFSETTO:+0100
TZNAME:CET
DTSTART:19701025T030000
RRULE:FREQ=YEARLY;INTERVAL=1;BYDAY=-1SU;BYMONTH=10
END:STANDARD
END:VTIMEZONE
BEGIN:VEVENT
DTSTAMP:20260421T112016
DTSTART;TZID=Europe/Berlin:20260226T183000
DTEND;TZID=Europe/Berlin:20260226T210000
UID:V26341010-20260226T183000@VHSBÖBLINGEN-SINDELFINGEN
SUMMARY:Ein Abend nur für mich - Töpfern zur Entspannung Do pottery for relaxation (V26341010) 
LOCATION:Stifts, vhs.033, UG, Böblinger Str. 24, 71065 Sindelfingen
END:VEVENT
BEGIN:VEVENT
DTSTAMP:20260421T112016
DTSTART;TZID=Europe/Berlin:20260305T183000
DTEND;TZID=Europe/Berlin:20260305T210000
UID:V26341010-20260305T183000@VHSBÖBLINGEN-SINDELFINGEN
SUMMARY:Ein Abend nur für mich - Töpfern zur Entspannung Do pottery for relaxation (V26341010) 
LOCATION:Stifts, vhs.033, UG, Böblinger Str. 24, 71065 Sindelfingen
END:VEVENT
BEGIN:VEVENT
DTSTAMP:20260421T112016
DTSTART;TZID=Europe/Berlin:20260312T183000
DTEND;TZID=Europe/Berlin:20260312T210000
UID:V26341010-20260312T183000@VHSBÖBLINGEN-SINDELFINGEN
SUMMARY:Ein Abend nur für mich - Töpfern zur Entspannung Do pottery for relaxation (V26341010) 
LOCATION:Stifts, vhs.033, UG, Böblinger Str. 24, 71065 Sindelfingen
END:VEVENT
BEGIN:VEVENT
DTSTAMP:20260421T112016
DTSTART;TZID=Europe/Berlin:20260319T183000
DTEND;TZID=Europe/Berlin:20260319T210000
UID:V26341010-20260319T183000@VHSBÖBLINGEN-SINDELFINGEN
SUMMARY:Ein Abend nur für mich - Töpfern zur Entspannung Do pottery for relaxation (V26341010) 
LOCATION:Stifts, vhs.033, UG, Böblinger Str. 24, 71065 Sindelfingen
END:VEVENT
BEGIN:VEVENT
DTSTAMP:20260421T112016
DTSTART;TZID=Europe/Berlin:20260326T183000
DTEND;TZID=Europe/Berlin:20260326T210000
UID:V26341010-20260326T183000@VHSBÖBLINGEN-SINDELFINGEN
SUMMARY:Ein Abend nur für mich - Töpfern zur Entspannung Do pottery for relaxation (V26341010) 
LOCATION:Stifts, vhs.033, UG, Böblinger Str. 24, 71065 Sindelfingen
END:VEVENT
BEGIN:VEVENT
DTSTAMP:20260421T112016
DTSTART;TZID=Europe/Berlin:20260416T183000
DTEND;TZID=Europe/Berlin:20260416T210000
UID:V26341010-20260416T183000@VHSBÖBLINGEN-SINDELFINGEN
SUMMARY:Ein Abend nur für mich - Töpfern zur Entspannung Do pottery for relaxation (V26341010) 
LOCATION:Stifts, vhs.033, UG, Böblinger Str. 24, 71065 Sindelfingen
END:VEVENT
BEGIN:VEVENT
DTSTAMP:20260421T112016
DTSTART;TZID=Europe/Berlin:20260423T183000
DTEND;TZID=Europe/Berlin:20260423T210000
UID:V26341010-20260423T183000@VHSBÖBLINGEN-SINDELFINGEN
SUMMARY:Ein Abend nur für mich - Töpfern zur Entspannung Do pottery for relaxation (V26341010) 
LOCATION:Stifts, vhs.033, UG, Böblinger Str. 24, 71065 Sindelfingen
END:VEVENT
BEGIN:VEVENT
DTSTAMP:20260421T112016
DTSTART;TZID=Europe/Berlin:20260430T183000
DTEND;TZID=Europe/Berlin:20260430T210000
UID:V26341010-20260430T183000@VHSBÖBLINGEN-SINDELFINGEN
SUMMARY:Ein Abend nur für mich - Töpfern zur Entspannung Do pottery for relaxation (V26341010) 
LOCATION:Stifts, vhs.033, UG, Böblinger Str. 24, 71065 Sindelfingen
END:VEVENT
BEGIN:VEVENT
DTSTAMP:20260421T112016
DTSTART;TZID=Europe/Berlin:20260507T183000
DTEND;TZID=Europe/Berlin:20260507T210000
UID:V26341010-20260507T183000@VHSBÖBLINGEN-SINDELFINGEN
SUMMARY:Ein Abend nur für mich - Töpfern zur Entspannung Do pottery for relaxation (V26341010) 
LOCATION:Stifts, vhs.033, UG, Böblinger Str. 24, 71065 Sindelfingen
END:VEVENT
BEGIN:VEVENT
DTSTAMP:20260421T112016
DTSTART;TZID=Europe/Berlin:20260521T183000
DTEND;TZID=Europe/Berlin:20260521T210000
UID:V26341010-20260521T183000@VHSBÖBLINGEN-SINDELFINGEN
SUMMARY:Ein Abend nur für mich - Töpfern zur Entspannung Do pottery for relaxation (V26341010) 
LOCATION:Stifts, vhs.033, UG, Böblinger Str. 24, 71065 Sindelfingen
END:VEVENT
END:VCALENDAR