BEGIN:VCALENDAR
VERSION:2.0
PRODID:https://www.kufer.de/kuferweb / DE
METHOD:PUBLISH
CALSCALE:GREGORIAN
X-WR-TIMEZONE:Europe/Berlin
BEGIN:VTIMEZONE
TZID:Europe/Berlin
X-LIC-LOCATION:Europe/Berlin
BEGIN:DAYLIGHT
TZOFFSETFROM:+0100
TZOFFSETTO:+0200
TZNAME:CEST
DTSTART:19700329T020000
RRULE:FREQ=YEARLY;INTERVAL=1;BYDAY=-1SU;BYMONTH=3
END:DAYLIGHT
BEGIN:STANDARD
TZOFFSETFROM:+0200
TZOFFSETTO:+0100
TZNAME:CET
DTSTART:19701025T030000
RRULE:FREQ=YEARLY;INTERVAL=1;BYDAY=-1SU;BYMONTH=10
END:STANDARD
END:VTIMEZONE
BEGIN:VEVENT
DTSTAMP:20260421T124920
DTSTART;TZID=Europe/Berlin:20260609T190000
DTEND;TZID=Europe/Berlin:20260609T211500
UID:V26252110-20260609T190000@VHSBÖBLINGEN-SINDELFINGEN
SUMMARY:Goldschmieden für Fortgeschrittene (V26252110) 
LOCATION:Höfle, U 007, UG, Pestalozzistr. 4, 71032 Böblingen
END:VEVENT
BEGIN:VEVENT
DTSTAMP:20260421T124920
DTSTART;TZID=Europe/Berlin:20260616T190000
DTEND;TZID=Europe/Berlin:20260616T211500
UID:V26252110-20260616T190000@VHSBÖBLINGEN-SINDELFINGEN
SUMMARY:Goldschmieden für Fortgeschrittene (V26252110) 
LOCATION:Höfle, U 007, UG, Pestalozzistr. 4, 71032 Böblingen
END:VEVENT
BEGIN:VEVENT
DTSTAMP:20260421T124920
DTSTART;TZID=Europe/Berlin:20260623T190000
DTEND;TZID=Europe/Berlin:20260623T211500
UID:V26252110-20260623T190000@VHSBÖBLINGEN-SINDELFINGEN
SUMMARY:Goldschmieden für Fortgeschrittene (V26252110) 
LOCATION:Höfle, U 007, UG, Pestalozzistr. 4, 71032 Böblingen
END:VEVENT
BEGIN:VEVENT
DTSTAMP:20260421T124920
DTSTART;TZID=Europe/Berlin:20260630T190000
DTEND;TZID=Europe/Berlin:20260630T211500
UID:V26252110-20260630T190000@VHSBÖBLINGEN-SINDELFINGEN
SUMMARY:Goldschmieden für Fortgeschrittene (V26252110) 
LOCATION:Höfle, U 007, UG, Pestalozzistr. 4, 71032 Böblingen
END:VEVENT
END:VCALENDAR