BEGIN:VCALENDAR
VERSION:2.0
PRODID:https://www.kufer.de/kuferweb / DE
METHOD:PUBLISH
CALSCALE:GREGORIAN
X-WR-TIMEZONE:Europe/Berlin
BEGIN:VTIMEZONE
TZID:Europe/Berlin
X-LIC-LOCATION:Europe/Berlin
BEGIN:DAYLIGHT
TZOFFSETFROM:+0100
TZOFFSETTO:+0200
TZNAME:CEST
DTSTART:19700329T020000
RRULE:FREQ=YEARLY;INTERVAL=1;BYDAY=-1SU;BYMONTH=3
END:DAYLIGHT
BEGIN:STANDARD
TZOFFSETFROM:+0200
TZOFFSETTO:+0100
TZNAME:CET
DTSTART:19701025T030000
RRULE:FREQ=YEARLY;INTERVAL=1;BYDAY=-1SU;BYMONTH=10
END:STANDARD
END:VTIMEZONE
BEGIN:VEVENT
DTSTAMP:20260421T152734
DTSTART;TZID=Europe/Berlin:20260611T163000
DTEND;TZID=Europe/Berlin:20260611T173000
UID:V25988918K-20260611T163000@VHSBÖBLINGEN-SINDELFINGEN
SUMMARY:Kids Dance-Aerobic für 6- 10-Jährige (V25988918K) 
LOCATION:GR, Graf-Ulrich-Bau, ___, Gartenstraße, 71120 Grafenau
END:VEVENT
BEGIN:VEVENT
DTSTAMP:20260421T152734
DTSTART;TZID=Europe/Berlin:20260618T163000
DTEND;TZID=Europe/Berlin:20260618T173000
UID:V25988918K-20260618T163000@VHSBÖBLINGEN-SINDELFINGEN
SUMMARY:Kids Dance-Aerobic für 6- 10-Jährige (V25988918K) 
LOCATION:GR, Graf-Ulrich-Bau, ___, Gartenstraße, 71120 Grafenau
END:VEVENT
BEGIN:VEVENT
DTSTAMP:20260421T152734
DTSTART;TZID=Europe/Berlin:20260625T163000
DTEND;TZID=Europe/Berlin:20260625T173000
UID:V25988918K-20260625T163000@VHSBÖBLINGEN-SINDELFINGEN
SUMMARY:Kids Dance-Aerobic für 6- 10-Jährige (V25988918K) 
LOCATION:GR, Graf-Ulrich-Bau, ___, Gartenstraße, 71120 Grafenau
END:VEVENT
BEGIN:VEVENT
DTSTAMP:20260421T152734
DTSTART;TZID=Europe/Berlin:20260702T163000
DTEND;TZID=Europe/Berlin:20260702T173000
UID:V25988918K-20260702T163000@VHSBÖBLINGEN-SINDELFINGEN
SUMMARY:Kids Dance-Aerobic für 6- 10-Jährige (V25988918K) 
LOCATION:GR, Graf-Ulrich-Bau, ___, Gartenstraße, 71120 Grafenau
END:VEVENT
BEGIN:VEVENT
DTSTAMP:20260421T152734
DTSTART;TZID=Europe/Berlin:20260709T163000
DTEND;TZID=Europe/Berlin:20260709T173000
UID:V25988918K-20260709T163000@VHSBÖBLINGEN-SINDELFINGEN
SUMMARY:Kids Dance-Aerobic für 6- 10-Jährige (V25988918K) 
LOCATION:GR, Graf-Ulrich-Bau, ___, Gartenstraße, 71120 Grafenau
END:VEVENT
BEGIN:VEVENT
DTSTAMP:20260421T152734
DTSTART;TZID=Europe/Berlin:20260716T163000
DTEND;TZID=Europe/Berlin:20260716T173000
UID:V25988918K-20260716T163000@VHSBÖBLINGEN-SINDELFINGEN
SUMMARY:Kids Dance-Aerobic für 6- 10-Jährige (V25988918K) 
LOCATION:GR, Graf-Ulrich-Bau, ___, Gartenstraße, 71120 Grafenau
END:VEVENT
BEGIN:VEVENT
DTSTAMP:20260421T152734
DTSTART;TZID=Europe/Berlin:20260723T163000
DTEND;TZID=Europe/Berlin:20260723T173000
UID:V25988918K-20260723T163000@VHSBÖBLINGEN-SINDELFINGEN
SUMMARY:Kids Dance-Aerobic für 6- 10-Jährige (V25988918K) 
LOCATION:GR, Graf-Ulrich-Bau, ___, Gartenstraße, 71120 Grafenau
END:VEVENT
END:VCALENDAR