BEGIN:VCALENDAR
VERSION:2.0
PRODID:https://www.kufer.de/kuferweb / DE
METHOD:PUBLISH
CALSCALE:GREGORIAN
X-WR-TIMEZONE:Europe/Berlin
BEGIN:VTIMEZONE
TZID:Europe/Berlin
X-LIC-LOCATION:Europe/Berlin
BEGIN:DAYLIGHT
TZOFFSETFROM:+0100
TZOFFSETTO:+0200
TZNAME:CEST
DTSTART:19700329T020000
RRULE:FREQ=YEARLY;INTERVAL=1;BYDAY=-1SU;BYMONTH=3
END:DAYLIGHT
BEGIN:STANDARD
TZOFFSETFROM:+0200
TZOFFSETTO:+0100
TZNAME:CET
DTSTART:19701025T030000
RRULE:FREQ=YEARLY;INTERVAL=1;BYDAY=-1SU;BYMONTH=10
END:STANDARD
END:VTIMEZONE
BEGIN:VEVENT
DTSTAMP:20260421T043305
DTSTART;TZID=Europe/Berlin:20260224T163000
DTEND;TZID=Europe/Berlin:20260224T171500
UID:V25930510K-20260224T163000@VHSBÖBLINGEN-SINDELFINGEN
SUMMARY:Ballett für Kinder Tänzerische Früherziehung (V25930510K) 
LOCATION:Höfle, Saal, 107, 1. OG, Pestalozzistr. 4, 71032 Böblingen
END:VEVENT
BEGIN:VEVENT
DTSTAMP:20260421T043305
DTSTART;TZID=Europe/Berlin:20260303T163000
DTEND;TZID=Europe/Berlin:20260303T171500
UID:V25930510K-20260303T163000@VHSBÖBLINGEN-SINDELFINGEN
SUMMARY:Ballett für Kinder Tänzerische Früherziehung (V25930510K) 
LOCATION:Höfle, Saal, 107, 1. OG, Pestalozzistr. 4, 71032 Böblingen
END:VEVENT
BEGIN:VEVENT
DTSTAMP:20260421T043305
DTSTART;TZID=Europe/Berlin:20260310T163000
DTEND;TZID=Europe/Berlin:20260310T171500
UID:V25930510K-20260310T163000@VHSBÖBLINGEN-SINDELFINGEN
SUMMARY:Ballett für Kinder Tänzerische Früherziehung (V25930510K) 
LOCATION:Höfle, Saal, 107, 1. OG, Pestalozzistr. 4, 71032 Böblingen
END:VEVENT
BEGIN:VEVENT
DTSTAMP:20260421T043305
DTSTART;TZID=Europe/Berlin:20260317T163000
DTEND;TZID=Europe/Berlin:20260317T171500
UID:V25930510K-20260317T163000@VHSBÖBLINGEN-SINDELFINGEN
SUMMARY:Ballett für Kinder Tänzerische Früherziehung (V25930510K) 
LOCATION:Höfle, Saal, 107, 1. OG, Pestalozzistr. 4, 71032 Böblingen
END:VEVENT
BEGIN:VEVENT
DTSTAMP:20260421T043305
DTSTART;TZID=Europe/Berlin:20260324T163000
DTEND;TZID=Europe/Berlin:20260324T171500
UID:V25930510K-20260324T163000@VHSBÖBLINGEN-SINDELFINGEN
SUMMARY:Ballett für Kinder Tänzerische Früherziehung (V25930510K) 
LOCATION:Höfle, Saal, 107, 1. OG, Pestalozzistr. 4, 71032 Böblingen
END:VEVENT
BEGIN:VEVENT
DTSTAMP:20260421T043305
DTSTART;TZID=Europe/Berlin:20260414T163000
DTEND;TZID=Europe/Berlin:20260414T171500
UID:V25930510K-20260414T163000@VHSBÖBLINGEN-SINDELFINGEN
SUMMARY:Ballett für Kinder Tänzerische Früherziehung (V25930510K) 
LOCATION:Höfle, Saal, 107, 1. OG, Pestalozzistr. 4, 71032 Böblingen
END:VEVENT
BEGIN:VEVENT
DTSTAMP:20260421T043305
DTSTART;TZID=Europe/Berlin:20260421T163000
DTEND;TZID=Europe/Berlin:20260421T171500
UID:V25930510K-20260421T163000@VHSBÖBLINGEN-SINDELFINGEN
SUMMARY:Ballett für Kinder Tänzerische Früherziehung (V25930510K) 
LOCATION:Höfle, Saal, 107, 1. OG, Pestalozzistr. 4, 71032 Böblingen
END:VEVENT
BEGIN:VEVENT
DTSTAMP:20260421T043305
DTSTART;TZID=Europe/Berlin:20260421T163000
DTEND;TZID=Europe/Berlin:20260421T171500
UID:V25930510K-20260421T163000@VHSBÖBLINGEN-SINDELFINGEN
SUMMARY:Ballett für Kinder Tänzerische Früherziehung (V25930510K) 
LOCATION:Höfle, Saal, 107, 1. OG, Pestalozzistr. 4, 71032 Böblingen
END:VEVENT
BEGIN:VEVENT
DTSTAMP:20260421T043305
DTSTART;TZID=Europe/Berlin:20260428T163000
DTEND;TZID=Europe/Berlin:20260428T171500
UID:V25930510K-20260428T163000@VHSBÖBLINGEN-SINDELFINGEN
SUMMARY:Ballett für Kinder Tänzerische Früherziehung (V25930510K) 
LOCATION:Höfle, Saal, 107, 1. OG, Pestalozzistr. 4, 71032 Böblingen
END:VEVENT
BEGIN:VEVENT
DTSTAMP:20260421T043305
DTSTART;TZID=Europe/Berlin:20260428T163000
DTEND;TZID=Europe/Berlin:20260428T171500
UID:V25930510K-20260428T163000@VHSBÖBLINGEN-SINDELFINGEN
SUMMARY:Ballett für Kinder Tänzerische Früherziehung (V25930510K) 
LOCATION:Höfle, Saal, 107, 1. OG, Pestalozzistr. 4, 71032 Böblingen
END:VEVENT
BEGIN:VEVENT
DTSTAMP:20260421T043305
DTSTART;TZID=Europe/Berlin:20260505T163000
DTEND;TZID=Europe/Berlin:20260505T171500
UID:V25930510K-20260505T163000@VHSBÖBLINGEN-SINDELFINGEN
SUMMARY:Ballett für Kinder Tänzerische Früherziehung (V25930510K) 
LOCATION:Höfle, Saal, 107, 1. OG, Pestalozzistr. 4, 71032 Böblingen
END:VEVENT
BEGIN:VEVENT
DTSTAMP:20260421T043305
DTSTART;TZID=Europe/Berlin:20260505T163000
DTEND;TZID=Europe/Berlin:20260505T171500
UID:V25930510K-20260505T163000@VHSBÖBLINGEN-SINDELFINGEN
SUMMARY:Ballett für Kinder Tänzerische Früherziehung (V25930510K) 
LOCATION:Höfle, Saal, 107, 1. OG, Pestalozzistr. 4, 71032 Böblingen
END:VEVENT
BEGIN:VEVENT
DTSTAMP:20260421T043305
DTSTART;TZID=Europe/Berlin:20260512T163000
DTEND;TZID=Europe/Berlin:20260512T171500
UID:V25930510K-20260512T163000@VHSBÖBLINGEN-SINDELFINGEN
SUMMARY:Ballett für Kinder Tänzerische Früherziehung (V25930510K) 
LOCATION:Höfle, Saal, 107, 1. OG, Pestalozzistr. 4, 71032 Böblingen
END:VEVENT
BEGIN:VEVENT
DTSTAMP:20260421T043305
DTSTART;TZID=Europe/Berlin:20260512T163000
DTEND;TZID=Europe/Berlin:20260512T171500
UID:V25930510K-20260512T163000@VHSBÖBLINGEN-SINDELFINGEN
SUMMARY:Ballett für Kinder Tänzerische Früherziehung (V25930510K) 
LOCATION:Höfle, Saal, 107, 1. OG, Pestalozzistr. 4, 71032 Böblingen
END:VEVENT
BEGIN:VEVENT
DTSTAMP:20260421T043305
DTSTART;TZID=Europe/Berlin:20260519T163000
DTEND;TZID=Europe/Berlin:20260519T171500
UID:V25930510K-20260519T163000@VHSBÖBLINGEN-SINDELFINGEN
SUMMARY:Ballett für Kinder Tänzerische Früherziehung (V25930510K) 
LOCATION:Höfle, Saal, 107, 1. OG, Pestalozzistr. 4, 71032 Böblingen
END:VEVENT
BEGIN:VEVENT
DTSTAMP:20260421T043305
DTSTART;TZID=Europe/Berlin:20260519T163000
DTEND;TZID=Europe/Berlin:20260519T171500
UID:V25930510K-20260519T163000@VHSBÖBLINGEN-SINDELFINGEN
SUMMARY:Ballett für Kinder Tänzerische Früherziehung (V25930510K) 
LOCATION:Höfle, Saal, 107, 1. OG, Pestalozzistr. 4, 71032 Böblingen
END:VEVENT
BEGIN:VEVENT
DTSTAMP:20260421T043305
DTSTART;TZID=Europe/Berlin:20260609T163000
DTEND;TZID=Europe/Berlin:20260609T171500
UID:V25930510K-20260609T163000@VHSBÖBLINGEN-SINDELFINGEN
SUMMARY:Ballett für Kinder Tänzerische Früherziehung (V25930510K) 
LOCATION:Höfle, Saal, 107, 1. OG, Pestalozzistr. 4, 71032 Böblingen
END:VEVENT
BEGIN:VEVENT
DTSTAMP:20260421T043305
DTSTART;TZID=Europe/Berlin:20260609T163000
DTEND;TZID=Europe/Berlin:20260609T171500
UID:V25930510K-20260609T163000@VHSBÖBLINGEN-SINDELFINGEN
SUMMARY:Ballett für Kinder Tänzerische Früherziehung (V25930510K) 
LOCATION:Höfle, Saal, 107, 1. OG, Pestalozzistr. 4, 71032 Böblingen
END:VEVENT
BEGIN:VEVENT
DTSTAMP:20260421T043305
DTSTART;TZID=Europe/Berlin:20260616T163000
DTEND;TZID=Europe/Berlin:20260616T171500
UID:V25930510K-20260616T163000@VHSBÖBLINGEN-SINDELFINGEN
SUMMARY:Ballett für Kinder Tänzerische Früherziehung (V25930510K) 
LOCATION:Höfle, Saal, 107, 1. OG, Pestalozzistr. 4, 71032 Böblingen
END:VEVENT
BEGIN:VEVENT
DTSTAMP:20260421T043305
DTSTART;TZID=Europe/Berlin:20260616T163000
DTEND;TZID=Europe/Berlin:20260616T171500
UID:V25930510K-20260616T163000@VHSBÖBLINGEN-SINDELFINGEN
SUMMARY:Ballett für Kinder Tänzerische Früherziehung (V25930510K) 
LOCATION:Höfle, Saal, 107, 1. OG, Pestalozzistr. 4, 71032 Böblingen
END:VEVENT
BEGIN:VEVENT
DTSTAMP:20260421T043305
DTSTART;TZID=Europe/Berlin:20260623T163000
DTEND;TZID=Europe/Berlin:20260623T171500
UID:V25930510K-20260623T163000@VHSBÖBLINGEN-SINDELFINGEN
SUMMARY:Ballett für Kinder Tänzerische Früherziehung (V25930510K) 
LOCATION:Höfle, Saal, 107, 1. OG, Pestalozzistr. 4, 71032 Böblingen
END:VEVENT
BEGIN:VEVENT
DTSTAMP:20260421T043305
DTSTART;TZID=Europe/Berlin:20260623T163000
DTEND;TZID=Europe/Berlin:20260623T171500
UID:V25930510K-20260623T163000@VHSBÖBLINGEN-SINDELFINGEN
SUMMARY:Ballett für Kinder Tänzerische Früherziehung (V25930510K) 
LOCATION:Höfle, Saal, 107, 1. OG, Pestalozzistr. 4, 71032 Böblingen
END:VEVENT
BEGIN:VEVENT
DTSTAMP:20260421T043305
DTSTART;TZID=Europe/Berlin:20260630T163000
DTEND;TZID=Europe/Berlin:20260630T171500
UID:V25930510K-20260630T163000@VHSBÖBLINGEN-SINDELFINGEN
SUMMARY:Ballett für Kinder Tänzerische Früherziehung (V25930510K) 
LOCATION:Höfle, Saal, 107, 1. OG, Pestalozzistr. 4, 71032 Böblingen
END:VEVENT
BEGIN:VEVENT
DTSTAMP:20260421T043305
DTSTART;TZID=Europe/Berlin:20260630T163000
DTEND;TZID=Europe/Berlin:20260630T171500
UID:V25930510K-20260630T163000@VHSBÖBLINGEN-SINDELFINGEN
SUMMARY:Ballett für Kinder Tänzerische Früherziehung (V25930510K) 
LOCATION:Höfle, Saal, 107, 1. OG, Pestalozzistr. 4, 71032 Böblingen
END:VEVENT
END:VCALENDAR