BEGIN:VCALENDAR
VERSION:2.0
PRODID:https://www.kufer.de/kuferweb / DE
METHOD:PUBLISH
CALSCALE:GREGORIAN
X-WR-TIMEZONE:Europe/Berlin
BEGIN:VTIMEZONE
TZID:Europe/Berlin
X-LIC-LOCATION:Europe/Berlin
BEGIN:DAYLIGHT
TZOFFSETFROM:+0100
TZOFFSETTO:+0200
TZNAME:CEST
DTSTART:19700329T020000
RRULE:FREQ=YEARLY;INTERVAL=1;BYDAY=-1SU;BYMONTH=3
END:DAYLIGHT
BEGIN:STANDARD
TZOFFSETFROM:+0200
TZOFFSETTO:+0100
TZNAME:CET
DTSTART:19701025T030000
RRULE:FREQ=YEARLY;INTERVAL=1;BYDAY=-1SU;BYMONTH=10
END:STANDARD
END:VTIMEZONE
BEGIN:VEVENT
DTSTAMP:20260421T121702
DTSTART;TZID=Europe/Berlin:20260224T154000
DTEND;TZID=Europe/Berlin:20260224T162500
UID:V25930010K-20260224T154000@VHSBÖBLINGEN-SINDELFINGEN
SUMMARY:Ballett für Kinder Tänzerische Früherziehung (V25930010K) 
LOCATION:Höfle, Saal, 107, 1. OG, Pestalozzistr. 4, 71032 Böblingen
END:VEVENT
BEGIN:VEVENT
DTSTAMP:20260421T121702
DTSTART;TZID=Europe/Berlin:20260303T154000
DTEND;TZID=Europe/Berlin:20260303T162500
UID:V25930010K-20260303T154000@VHSBÖBLINGEN-SINDELFINGEN
SUMMARY:Ballett für Kinder Tänzerische Früherziehung (V25930010K) 
LOCATION:Höfle, Saal, 107, 1. OG, Pestalozzistr. 4, 71032 Böblingen
END:VEVENT
BEGIN:VEVENT
DTSTAMP:20260421T121702
DTSTART;TZID=Europe/Berlin:20260310T154000
DTEND;TZID=Europe/Berlin:20260310T162500
UID:V25930010K-20260310T154000@VHSBÖBLINGEN-SINDELFINGEN
SUMMARY:Ballett für Kinder Tänzerische Früherziehung (V25930010K) 
LOCATION:Höfle, Saal, 107, 1. OG, Pestalozzistr. 4, 71032 Böblingen
END:VEVENT
BEGIN:VEVENT
DTSTAMP:20260421T121702
DTSTART;TZID=Europe/Berlin:20260317T154000
DTEND;TZID=Europe/Berlin:20260317T162500
UID:V25930010K-20260317T154000@VHSBÖBLINGEN-SINDELFINGEN
SUMMARY:Ballett für Kinder Tänzerische Früherziehung (V25930010K) 
LOCATION:Höfle, Saal, 107, 1. OG, Pestalozzistr. 4, 71032 Böblingen
END:VEVENT
BEGIN:VEVENT
DTSTAMP:20260421T121702
DTSTART;TZID=Europe/Berlin:20260324T154000
DTEND;TZID=Europe/Berlin:20260324T162500
UID:V25930010K-20260324T154000@VHSBÖBLINGEN-SINDELFINGEN
SUMMARY:Ballett für Kinder Tänzerische Früherziehung (V25930010K) 
LOCATION:Höfle, Saal, 107, 1. OG, Pestalozzistr. 4, 71032 Böblingen
END:VEVENT
BEGIN:VEVENT
DTSTAMP:20260421T121702
DTSTART;TZID=Europe/Berlin:20260414T154000
DTEND;TZID=Europe/Berlin:20260414T162500
UID:V25930010K-20260414T154000@VHSBÖBLINGEN-SINDELFINGEN
SUMMARY:Ballett für Kinder Tänzerische Früherziehung (V25930010K) 
LOCATION:Höfle, Saal, 107, 1. OG, Pestalozzistr. 4, 71032 Böblingen
END:VEVENT
BEGIN:VEVENT
DTSTAMP:20260421T121702
DTSTART;TZID=Europe/Berlin:20260421T154000
DTEND;TZID=Europe/Berlin:20260421T162500
UID:V25930010K-20260421T154000@VHSBÖBLINGEN-SINDELFINGEN
SUMMARY:Ballett für Kinder Tänzerische Früherziehung (V25930010K) 
LOCATION:Höfle, Saal, 107, 1. OG, Pestalozzistr. 4, 71032 Böblingen
END:VEVENT
BEGIN:VEVENT
DTSTAMP:20260421T121702
DTSTART;TZID=Europe/Berlin:20260421T154000
DTEND;TZID=Europe/Berlin:20260421T162500
UID:V25930010K-20260421T154000@VHSBÖBLINGEN-SINDELFINGEN
SUMMARY:Ballett für Kinder Tänzerische Früherziehung (V25930010K) 
LOCATION:Höfle, Saal, 107, 1. OG, Pestalozzistr. 4, 71032 Böblingen
END:VEVENT
BEGIN:VEVENT
DTSTAMP:20260421T121702
DTSTART;TZID=Europe/Berlin:20260428T154000
DTEND;TZID=Europe/Berlin:20260428T162500
UID:V25930010K-20260428T154000@VHSBÖBLINGEN-SINDELFINGEN
SUMMARY:Ballett für Kinder Tänzerische Früherziehung (V25930010K) 
LOCATION:Höfle, Saal, 107, 1. OG, Pestalozzistr. 4, 71032 Böblingen
END:VEVENT
BEGIN:VEVENT
DTSTAMP:20260421T121702
DTSTART;TZID=Europe/Berlin:20260428T154000
DTEND;TZID=Europe/Berlin:20260428T162500
UID:V25930010K-20260428T154000@VHSBÖBLINGEN-SINDELFINGEN
SUMMARY:Ballett für Kinder Tänzerische Früherziehung (V25930010K) 
LOCATION:Höfle, Saal, 107, 1. OG, Pestalozzistr. 4, 71032 Böblingen
END:VEVENT
BEGIN:VEVENT
DTSTAMP:20260421T121702
DTSTART;TZID=Europe/Berlin:20260505T154000
DTEND;TZID=Europe/Berlin:20260505T162500
UID:V25930010K-20260505T154000@VHSBÖBLINGEN-SINDELFINGEN
SUMMARY:Ballett für Kinder Tänzerische Früherziehung (V25930010K) 
LOCATION:Höfle, Saal, 107, 1. OG, Pestalozzistr. 4, 71032 Böblingen
END:VEVENT
BEGIN:VEVENT
DTSTAMP:20260421T121702
DTSTART;TZID=Europe/Berlin:20260505T154000
DTEND;TZID=Europe/Berlin:20260505T162500
UID:V25930010K-20260505T154000@VHSBÖBLINGEN-SINDELFINGEN
SUMMARY:Ballett für Kinder Tänzerische Früherziehung (V25930010K) 
LOCATION:Höfle, Saal, 107, 1. OG, Pestalozzistr. 4, 71032 Böblingen
END:VEVENT
BEGIN:VEVENT
DTSTAMP:20260421T121702
DTSTART;TZID=Europe/Berlin:20260512T154000
DTEND;TZID=Europe/Berlin:20260512T162500
UID:V25930010K-20260512T154000@VHSBÖBLINGEN-SINDELFINGEN
SUMMARY:Ballett für Kinder Tänzerische Früherziehung (V25930010K) 
LOCATION:Höfle, Saal, 107, 1. OG, Pestalozzistr. 4, 71032 Böblingen
END:VEVENT
BEGIN:VEVENT
DTSTAMP:20260421T121702
DTSTART;TZID=Europe/Berlin:20260512T154000
DTEND;TZID=Europe/Berlin:20260512T162500
UID:V25930010K-20260512T154000@VHSBÖBLINGEN-SINDELFINGEN
SUMMARY:Ballett für Kinder Tänzerische Früherziehung (V25930010K) 
LOCATION:Höfle, Saal, 107, 1. OG, Pestalozzistr. 4, 71032 Böblingen
END:VEVENT
BEGIN:VEVENT
DTSTAMP:20260421T121702
DTSTART;TZID=Europe/Berlin:20260519T154000
DTEND;TZID=Europe/Berlin:20260519T162500
UID:V25930010K-20260519T154000@VHSBÖBLINGEN-SINDELFINGEN
SUMMARY:Ballett für Kinder Tänzerische Früherziehung (V25930010K) 
LOCATION:Höfle, Saal, 107, 1. OG, Pestalozzistr. 4, 71032 Böblingen
END:VEVENT
BEGIN:VEVENT
DTSTAMP:20260421T121702
DTSTART;TZID=Europe/Berlin:20260519T154000
DTEND;TZID=Europe/Berlin:20260519T162500
UID:V25930010K-20260519T154000@VHSBÖBLINGEN-SINDELFINGEN
SUMMARY:Ballett für Kinder Tänzerische Früherziehung (V25930010K) 
LOCATION:Höfle, Saal, 107, 1. OG, Pestalozzistr. 4, 71032 Böblingen
END:VEVENT
BEGIN:VEVENT
DTSTAMP:20260421T121702
DTSTART;TZID=Europe/Berlin:20260609T154000
DTEND;TZID=Europe/Berlin:20260609T162500
UID:V25930010K-20260609T154000@VHSBÖBLINGEN-SINDELFINGEN
SUMMARY:Ballett für Kinder Tänzerische Früherziehung (V25930010K) 
LOCATION:Höfle, Saal, 107, 1. OG, Pestalozzistr. 4, 71032 Böblingen
END:VEVENT
BEGIN:VEVENT
DTSTAMP:20260421T121702
DTSTART;TZID=Europe/Berlin:20260609T154000
DTEND;TZID=Europe/Berlin:20260609T162500
UID:V25930010K-20260609T154000@VHSBÖBLINGEN-SINDELFINGEN
SUMMARY:Ballett für Kinder Tänzerische Früherziehung (V25930010K) 
LOCATION:Höfle, Saal, 107, 1. OG, Pestalozzistr. 4, 71032 Böblingen
END:VEVENT
BEGIN:VEVENT
DTSTAMP:20260421T121702
DTSTART;TZID=Europe/Berlin:20260616T154000
DTEND;TZID=Europe/Berlin:20260616T162500
UID:V25930010K-20260616T154000@VHSBÖBLINGEN-SINDELFINGEN
SUMMARY:Ballett für Kinder Tänzerische Früherziehung (V25930010K) 
LOCATION:Höfle, Saal, 107, 1. OG, Pestalozzistr. 4, 71032 Böblingen
END:VEVENT
BEGIN:VEVENT
DTSTAMP:20260421T121702
DTSTART;TZID=Europe/Berlin:20260616T154000
DTEND;TZID=Europe/Berlin:20260616T162500
UID:V25930010K-20260616T154000@VHSBÖBLINGEN-SINDELFINGEN
SUMMARY:Ballett für Kinder Tänzerische Früherziehung (V25930010K) 
LOCATION:Höfle, Saal, 107, 1. OG, Pestalozzistr. 4, 71032 Böblingen
END:VEVENT
BEGIN:VEVENT
DTSTAMP:20260421T121702
DTSTART;TZID=Europe/Berlin:20260623T154000
DTEND;TZID=Europe/Berlin:20260623T162500
UID:V25930010K-20260623T154000@VHSBÖBLINGEN-SINDELFINGEN
SUMMARY:Ballett für Kinder Tänzerische Früherziehung (V25930010K) 
LOCATION:Höfle, Saal, 107, 1. OG, Pestalozzistr. 4, 71032 Böblingen
END:VEVENT
BEGIN:VEVENT
DTSTAMP:20260421T121702
DTSTART;TZID=Europe/Berlin:20260623T154000
DTEND;TZID=Europe/Berlin:20260623T162500
UID:V25930010K-20260623T154000@VHSBÖBLINGEN-SINDELFINGEN
SUMMARY:Ballett für Kinder Tänzerische Früherziehung (V25930010K) 
LOCATION:Höfle, Saal, 107, 1. OG, Pestalozzistr. 4, 71032 Böblingen
END:VEVENT
BEGIN:VEVENT
DTSTAMP:20260421T121702
DTSTART;TZID=Europe/Berlin:20260630T154000
DTEND;TZID=Europe/Berlin:20260630T162500
UID:V25930010K-20260630T154000@VHSBÖBLINGEN-SINDELFINGEN
SUMMARY:Ballett für Kinder Tänzerische Früherziehung (V25930010K) 
LOCATION:Höfle, Saal, 107, 1. OG, Pestalozzistr. 4, 71032 Böblingen
END:VEVENT
BEGIN:VEVENT
DTSTAMP:20260421T121702
DTSTART;TZID=Europe/Berlin:20260630T154000
DTEND;TZID=Europe/Berlin:20260630T162500
UID:V25930010K-20260630T154000@VHSBÖBLINGEN-SINDELFINGEN
SUMMARY:Ballett für Kinder Tänzerische Früherziehung (V25930010K) 
LOCATION:Höfle, Saal, 107, 1. OG, Pestalozzistr. 4, 71032 Böblingen
END:VEVENT
END:VCALENDAR