BEGIN:VCALENDAR
VERSION:2.0
PRODID:https://www.kufer.de/kuferweb / DE
METHOD:PUBLISH
CALSCALE:GREGORIAN
X-WR-TIMEZONE:Europe/Berlin
BEGIN:VTIMEZONE
TZID:Europe/Berlin
X-LIC-LOCATION:Europe/Berlin
BEGIN:DAYLIGHT
TZOFFSETFROM:+0100
TZOFFSETTO:+0200
TZNAME:CEST
DTSTART:19700329T020000
RRULE:FREQ=YEARLY;INTERVAL=1;BYDAY=-1SU;BYMONTH=3
END:DAYLIGHT
BEGIN:STANDARD
TZOFFSETFROM:+0200
TZOFFSETTO:+0100
TZNAME:CET
DTSTART:19701025T030000
RRULE:FREQ=YEARLY;INTERVAL=1;BYDAY=-1SU;BYMONTH=10
END:STANDARD
END:VTIMEZONE
BEGIN:VEVENT
DTSTAMP:20260420T184316
DTSTART;TZID=Europe/Berlin:20260226T163000
DTEND;TZID=Europe/Berlin:20260226T183000
UID:V25722029-20260226T163000@VHSBÖBLINGEN-SINDELFINGEN
SUMMARY:Latino Linedance Solotanzspaß für Junggebliebene nach Latino-Rhythmen (V25722029) 
LOCATION:SC, Altes Schulhaus, Raum 13, Große Gasse 3, 71101 Schönaich
END:VEVENT
BEGIN:VEVENT
DTSTAMP:20260420T184316
DTSTART;TZID=Europe/Berlin:20260305T163000
DTEND;TZID=Europe/Berlin:20260305T183000
UID:V25722029-20260305T163000@VHSBÖBLINGEN-SINDELFINGEN
SUMMARY:Latino Linedance Solotanzspaß für Junggebliebene nach Latino-Rhythmen (V25722029) 
LOCATION:SC, Altes Schulhaus, Raum 13, Große Gasse 3, 71101 Schönaich
END:VEVENT
BEGIN:VEVENT
DTSTAMP:20260420T184316
DTSTART;TZID=Europe/Berlin:20260312T163000
DTEND;TZID=Europe/Berlin:20260312T183000
UID:V25722029-20260312T163000@VHSBÖBLINGEN-SINDELFINGEN
SUMMARY:Latino Linedance Solotanzspaß für Junggebliebene nach Latino-Rhythmen (V25722029) 
LOCATION:SC, Altes Schulhaus, Raum 13, Große Gasse 3, 71101 Schönaich
END:VEVENT
BEGIN:VEVENT
DTSTAMP:20260420T184316
DTSTART;TZID=Europe/Berlin:20260319T163000
DTEND;TZID=Europe/Berlin:20260319T183000
UID:V25722029-20260319T163000@VHSBÖBLINGEN-SINDELFINGEN
SUMMARY:Latino Linedance Solotanzspaß für Junggebliebene nach Latino-Rhythmen (V25722029) 
LOCATION:SC, Altes Schulhaus, Raum 13, Große Gasse 3, 71101 Schönaich
END:VEVENT
BEGIN:VEVENT
DTSTAMP:20260420T184316
DTSTART;TZID=Europe/Berlin:20260326T163000
DTEND;TZID=Europe/Berlin:20260326T183000
UID:V25722029-20260326T163000@VHSBÖBLINGEN-SINDELFINGEN
SUMMARY:Latino Linedance Solotanzspaß für Junggebliebene nach Latino-Rhythmen (V25722029) 
LOCATION:SC, Altes Schulhaus, Raum 13, Große Gasse 3, 71101 Schönaich
END:VEVENT
END:VCALENDAR