BEGIN:VCALENDAR
VERSION:2.0
PRODID:https://www.kufer.de/kuferweb / DE
METHOD:PUBLISH
CALSCALE:GREGORIAN
X-WR-TIMEZONE:Europe/Berlin
BEGIN:VTIMEZONE
TZID:Europe/Berlin
X-LIC-LOCATION:Europe/Berlin
BEGIN:DAYLIGHT
TZOFFSETFROM:+0100
TZOFFSETTO:+0200
TZNAME:CEST
DTSTART:19700329T020000
RRULE:FREQ=YEARLY;INTERVAL=1;BYDAY=-1SU;BYMONTH=3
END:DAYLIGHT
BEGIN:STANDARD
TZOFFSETFROM:+0200
TZOFFSETTO:+0100
TZNAME:CET
DTSTART:19701025T030000
RRULE:FREQ=YEARLY;INTERVAL=1;BYDAY=-1SU;BYMONTH=10
END:STANDARD
END:VTIMEZONE
BEGIN:VEVENT
DTSTAMP:20260420T202204
DTSTART;TZID=Europe/Berlin:20260227T163000
DTEND;TZID=Europe/Berlin:20260227T173000
UID:V25599821K-20260227T163000@VHSBÖBLINGEN-SINDELFINGEN
SUMMARY:Zumba® Kids  für Kinder von 7 bis 11 Jahren (V25599821K) 
LOCATION:HO, Grund- und Werkrealschule, Gymnastikpavillon, Berkenstr. 18, 71088 Holzgerlingen
END:VEVENT
BEGIN:VEVENT
DTSTAMP:20260420T202204
DTSTART;TZID=Europe/Berlin:20260306T163000
DTEND;TZID=Europe/Berlin:20260306T173000
UID:V25599821K-20260306T163000@VHSBÖBLINGEN-SINDELFINGEN
SUMMARY:Zumba® Kids  für Kinder von 7 bis 11 Jahren (V25599821K) 
LOCATION:HO, Grund- und Werkrealschule, Gymnastikpavillon, Berkenstr. 18, 71088 Holzgerlingen
END:VEVENT
BEGIN:VEVENT
DTSTAMP:20260420T202204
DTSTART;TZID=Europe/Berlin:20260313T163000
DTEND;TZID=Europe/Berlin:20260313T173000
UID:V25599821K-20260313T163000@VHSBÖBLINGEN-SINDELFINGEN
SUMMARY:Zumba® Kids  für Kinder von 7 bis 11 Jahren (V25599821K) 
LOCATION:HO, Grund- und Werkrealschule, Gymnastikpavillon, Berkenstr. 18, 71088 Holzgerlingen
END:VEVENT
BEGIN:VEVENT
DTSTAMP:20260420T202204
DTSTART;TZID=Europe/Berlin:20260320T163000
DTEND;TZID=Europe/Berlin:20260320T173000
UID:V25599821K-20260320T163000@VHSBÖBLINGEN-SINDELFINGEN
SUMMARY:Zumba® Kids  für Kinder von 7 bis 11 Jahren (V25599821K) 
LOCATION:HO, Grund- und Werkrealschule, Gymnastikpavillon, Berkenstr. 18, 71088 Holzgerlingen
END:VEVENT
BEGIN:VEVENT
DTSTAMP:20260420T202204
DTSTART;TZID=Europe/Berlin:20260327T163000
DTEND;TZID=Europe/Berlin:20260327T173000
UID:V25599821K-20260327T163000@VHSBÖBLINGEN-SINDELFINGEN
SUMMARY:Zumba® Kids  für Kinder von 7 bis 11 Jahren (V25599821K) 
LOCATION:HO, Grund- und Werkrealschule, Gymnastikpavillon, Berkenstr. 18, 71088 Holzgerlingen
END:VEVENT
END:VCALENDAR