BEGIN:VCALENDAR
VERSION:2.0
PRODID:https://www.kufer.de/kuferweb / DE
METHOD:PUBLISH
CALSCALE:GREGORIAN
X-WR-TIMEZONE:Europe/Berlin
BEGIN:VTIMEZONE
TZID:Europe/Berlin
X-LIC-LOCATION:Europe/Berlin
BEGIN:DAYLIGHT
TZOFFSETFROM:+0100
TZOFFSETTO:+0200
TZNAME:CEST
DTSTART:19700329T020000
RRULE:FREQ=YEARLY;INTERVAL=1;BYDAY=-1SU;BYMONTH=3
END:DAYLIGHT
BEGIN:STANDARD
TZOFFSETFROM:+0200
TZOFFSETTO:+0100
TZNAME:CET
DTSTART:19701025T030000
RRULE:FREQ=YEARLY;INTERVAL=1;BYDAY=-1SU;BYMONTH=10
END:STANDARD
END:VTIMEZONE
BEGIN:VEVENT
DTSTAMP:20260420T214358
DTSTART;TZID=Europe/Berlin:20260226T190000
DTEND;TZID=Europe/Berlin:20260226T200000
UID:V25560812-20260226T190000@VHSBÖBLINGEN-SINDELFINGEN
SUMMARY:Zumba® Tanz und Fitness (V25560812) 
LOCATION:AL, Schönbuchschule, Schönbuchsaal, Im Sommerfeld 2, 71157 Hildrizhausen
END:VEVENT
BEGIN:VEVENT
DTSTAMP:20260420T214358
DTSTART;TZID=Europe/Berlin:20260305T190000
DTEND;TZID=Europe/Berlin:20260305T200000
UID:V25560812-20260305T190000@VHSBÖBLINGEN-SINDELFINGEN
SUMMARY:Zumba® Tanz und Fitness (V25560812) 
LOCATION:AL, Schönbuchschule, Schönbuchsaal, Im Sommerfeld 2, 71157 Hildrizhausen
END:VEVENT
BEGIN:VEVENT
DTSTAMP:20260420T214358
DTSTART;TZID=Europe/Berlin:20260312T190000
DTEND;TZID=Europe/Berlin:20260312T200000
UID:V25560812-20260312T190000@VHSBÖBLINGEN-SINDELFINGEN
SUMMARY:Zumba® Tanz und Fitness (V25560812) 
LOCATION:AL, Schönbuchschule, Schönbuchsaal, Im Sommerfeld 2, 71157 Hildrizhausen
END:VEVENT
BEGIN:VEVENT
DTSTAMP:20260420T214358
DTSTART;TZID=Europe/Berlin:20260319T190000
DTEND;TZID=Europe/Berlin:20260319T200000
UID:V25560812-20260319T190000@VHSBÖBLINGEN-SINDELFINGEN
SUMMARY:Zumba® Tanz und Fitness (V25560812) 
LOCATION:AL, Schönbuchschule, Schönbuchsaal, Im Sommerfeld 2, 71157 Hildrizhausen
END:VEVENT
BEGIN:VEVENT
DTSTAMP:20260420T214358
DTSTART;TZID=Europe/Berlin:20260326T190000
DTEND;TZID=Europe/Berlin:20260326T200000
UID:V25560812-20260326T190000@VHSBÖBLINGEN-SINDELFINGEN
SUMMARY:Zumba® Tanz und Fitness (V25560812) 
LOCATION:AL, Schönbuchschule, Schönbuchsaal, Im Sommerfeld 2, 71157 Hildrizhausen
END:VEVENT
BEGIN:VEVENT
DTSTAMP:20260420T214358
DTSTART;TZID=Europe/Berlin:20260416T190000
DTEND;TZID=Europe/Berlin:20260416T200000
UID:V25560812-20260416T190000@VHSBÖBLINGEN-SINDELFINGEN
SUMMARY:Zumba® Tanz und Fitness (V25560812) 
LOCATION:AL, Schönbuchschule, Schönbuchsaal, Im Sommerfeld 2, 71157 Hildrizhausen
END:VEVENT
BEGIN:VEVENT
DTSTAMP:20260420T214358
DTSTART;TZID=Europe/Berlin:20260423T190000
DTEND;TZID=Europe/Berlin:20260423T200000
UID:V25560812-20260423T190000@VHSBÖBLINGEN-SINDELFINGEN
SUMMARY:Zumba® Tanz und Fitness (V25560812) 
LOCATION:AL, Schönbuchschule, Schönbuchsaal, Im Sommerfeld 2, 71157 Hildrizhausen
END:VEVENT
BEGIN:VEVENT
DTSTAMP:20260420T214358
DTSTART;TZID=Europe/Berlin:20260430T190000
DTEND;TZID=Europe/Berlin:20260430T200000
UID:V25560812-20260430T190000@VHSBÖBLINGEN-SINDELFINGEN
SUMMARY:Zumba® Tanz und Fitness (V25560812) 
LOCATION:AL, Schönbuchschule, Schönbuchsaal, Im Sommerfeld 2, 71157 Hildrizhausen
END:VEVENT
BEGIN:VEVENT
DTSTAMP:20260420T214358
DTSTART;TZID=Europe/Berlin:20260507T190000
DTEND;TZID=Europe/Berlin:20260507T200000
UID:V25560812-20260507T190000@VHSBÖBLINGEN-SINDELFINGEN
SUMMARY:Zumba® Tanz und Fitness (V25560812) 
LOCATION:AL, Schönbuchschule, Schönbuchsaal, Im Sommerfeld 2, 71157 Hildrizhausen
END:VEVENT
BEGIN:VEVENT
DTSTAMP:20260420T214358
DTSTART;TZID=Europe/Berlin:20260521T190000
DTEND;TZID=Europe/Berlin:20260521T200000
UID:V25560812-20260521T190000@VHSBÖBLINGEN-SINDELFINGEN
SUMMARY:Zumba® Tanz und Fitness (V25560812) 
LOCATION:AL, Schönbuchschule, Schönbuchsaal, Im Sommerfeld 2, 71157 Hildrizhausen
END:VEVENT
BEGIN:VEVENT
DTSTAMP:20260420T214358
DTSTART;TZID=Europe/Berlin:20260611T190000
DTEND;TZID=Europe/Berlin:20260611T200000
UID:V25560812-20260611T190000@VHSBÖBLINGEN-SINDELFINGEN
SUMMARY:Zumba® Tanz und Fitness (V25560812) 
LOCATION:AL, Schönbuchschule, Schönbuchsaal, Im Sommerfeld 2, 71157 Hildrizhausen
END:VEVENT
BEGIN:VEVENT
DTSTAMP:20260420T214358
DTSTART;TZID=Europe/Berlin:20260618T190000
DTEND;TZID=Europe/Berlin:20260618T200000
UID:V25560812-20260618T190000@VHSBÖBLINGEN-SINDELFINGEN
SUMMARY:Zumba® Tanz und Fitness (V25560812) 
LOCATION:AL, Schönbuchschule, Schönbuchsaal, Im Sommerfeld 2, 71157 Hildrizhausen
END:VEVENT
BEGIN:VEVENT
DTSTAMP:20260420T214358
DTSTART;TZID=Europe/Berlin:20260625T190000
DTEND;TZID=Europe/Berlin:20260625T200000
UID:V25560812-20260625T190000@VHSBÖBLINGEN-SINDELFINGEN
SUMMARY:Zumba® Tanz und Fitness (V25560812) 
LOCATION:AL, Schönbuchschule, Schönbuchsaal, Im Sommerfeld 2, 71157 Hildrizhausen
END:VEVENT
BEGIN:VEVENT
DTSTAMP:20260420T214358
DTSTART;TZID=Europe/Berlin:20260702T190000
DTEND;TZID=Europe/Berlin:20260702T200000
UID:V25560812-20260702T190000@VHSBÖBLINGEN-SINDELFINGEN
SUMMARY:Zumba® Tanz und Fitness (V25560812) 
LOCATION:AL, Schönbuchschule, Schönbuchsaal, Im Sommerfeld 2, 71157 Hildrizhausen
END:VEVENT
BEGIN:VEVENT
DTSTAMP:20260420T214358
DTSTART;TZID=Europe/Berlin:20260709T190000
DTEND;TZID=Europe/Berlin:20260709T200000
UID:V25560812-20260709T190000@VHSBÖBLINGEN-SINDELFINGEN
SUMMARY:Zumba® Tanz und Fitness (V25560812) 
LOCATION:AL, Schönbuchschule, Schönbuchsaal, Im Sommerfeld 2, 71157 Hildrizhausen
END:VEVENT
BEGIN:VEVENT
DTSTAMP:20260420T214358
DTSTART;TZID=Europe/Berlin:20260716T190000
DTEND;TZID=Europe/Berlin:20260716T200000
UID:V25560812-20260716T190000@VHSBÖBLINGEN-SINDELFINGEN
SUMMARY:Zumba® Tanz und Fitness (V25560812) 
LOCATION:AL, Schönbuchschule, Schönbuchsaal, Im Sommerfeld 2, 71157 Hildrizhausen
END:VEVENT
BEGIN:VEVENT
DTSTAMP:20260420T214358
DTSTART;TZID=Europe/Berlin:20260723T190000
DTEND;TZID=Europe/Berlin:20260723T200000
UID:V25560812-20260723T190000@VHSBÖBLINGEN-SINDELFINGEN
SUMMARY:Zumba® Tanz und Fitness (V25560812) 
LOCATION:AL, Schönbuchschule, Schönbuchsaal, Im Sommerfeld 2, 71157 Hildrizhausen
END:VEVENT
END:VCALENDAR