BEGIN:VCALENDAR
VERSION:2.0
PRODID:https://www.kufer.de/kuferweb / DE
METHOD:PUBLISH
CALSCALE:GREGORIAN
X-WR-TIMEZONE:Europe/Berlin
BEGIN:VTIMEZONE
TZID:Europe/Berlin
X-LIC-LOCATION:Europe/Berlin
BEGIN:DAYLIGHT
TZOFFSETFROM:+0100
TZOFFSETTO:+0200
TZNAME:CEST
DTSTART:19700329T020000
RRULE:FREQ=YEARLY;INTERVAL=1;BYDAY=-1SU;BYMONTH=3
END:DAYLIGHT
BEGIN:STANDARD
TZOFFSETFROM:+0200
TZOFFSETTO:+0100
TZNAME:CET
DTSTART:19701025T030000
RRULE:FREQ=YEARLY;INTERVAL=1;BYDAY=-1SU;BYMONTH=10
END:STANDARD
END:VTIMEZONE
BEGIN:VEVENT
DTSTAMP:20260420T132752
DTSTART;TZID=Europe/Berlin:20260416T193000
DTEND;TZID=Europe/Berlin:20260416T203000
UID:V25560621-20260416T193000@VHSBÖBLINGEN-SINDELFINGEN
SUMMARY:Zumba® Tanz und Fitness (V25560621) 
LOCATION:HO, Heinrich-Harpprecht-Förderschule, F - Gymnastikraum, Berkenstraße 14, 71088 Holzgerlingen
END:VEVENT
BEGIN:VEVENT
DTSTAMP:20260420T132752
DTSTART;TZID=Europe/Berlin:20260423T193000
DTEND;TZID=Europe/Berlin:20260423T203000
UID:V25560621-20260423T193000@VHSBÖBLINGEN-SINDELFINGEN
SUMMARY:Zumba® Tanz und Fitness (V25560621) 
LOCATION:HO, Heinrich-Harpprecht-Förderschule, F - Gymnastikraum, Berkenstraße 14, 71088 Holzgerlingen
END:VEVENT
BEGIN:VEVENT
DTSTAMP:20260420T132752
DTSTART;TZID=Europe/Berlin:20260430T193000
DTEND;TZID=Europe/Berlin:20260430T203000
UID:V25560621-20260430T193000@VHSBÖBLINGEN-SINDELFINGEN
SUMMARY:Zumba® Tanz und Fitness (V25560621) 
LOCATION:HO, Heinrich-Harpprecht-Förderschule, F - Gymnastikraum, Berkenstraße 14, 71088 Holzgerlingen
END:VEVENT
BEGIN:VEVENT
DTSTAMP:20260420T132752
DTSTART;TZID=Europe/Berlin:20260507T193000
DTEND;TZID=Europe/Berlin:20260507T203000
UID:V25560621-20260507T193000@VHSBÖBLINGEN-SINDELFINGEN
SUMMARY:Zumba® Tanz und Fitness (V25560621) 
LOCATION:HO, Heinrich-Harpprecht-Förderschule, F - Gymnastikraum, Berkenstraße 14, 71088 Holzgerlingen
END:VEVENT
BEGIN:VEVENT
DTSTAMP:20260420T132752
DTSTART;TZID=Europe/Berlin:20260521T193000
DTEND;TZID=Europe/Berlin:20260521T203000
UID:V25560621-20260521T193000@VHSBÖBLINGEN-SINDELFINGEN
SUMMARY:Zumba® Tanz und Fitness (V25560621) 
LOCATION:HO, Heinrich-Harpprecht-Förderschule, F - Gymnastikraum, Berkenstraße 14, 71088 Holzgerlingen
END:VEVENT
BEGIN:VEVENT
DTSTAMP:20260420T132752
DTSTART;TZID=Europe/Berlin:20260611T193000
DTEND;TZID=Europe/Berlin:20260611T203000
UID:V25560621-20260611T193000@VHSBÖBLINGEN-SINDELFINGEN
SUMMARY:Zumba® Tanz und Fitness (V25560621) 
LOCATION:HO, Heinrich-Harpprecht-Förderschule, F - Gymnastikraum, Berkenstraße 14, 71088 Holzgerlingen
END:VEVENT
BEGIN:VEVENT
DTSTAMP:20260420T132752
DTSTART;TZID=Europe/Berlin:20260618T193000
DTEND;TZID=Europe/Berlin:20260618T203000
UID:V25560621-20260618T193000@VHSBÖBLINGEN-SINDELFINGEN
SUMMARY:Zumba® Tanz und Fitness (V25560621) 
LOCATION:HO, Heinrich-Harpprecht-Förderschule, F - Gymnastikraum, Berkenstraße 14, 71088 Holzgerlingen
END:VEVENT
BEGIN:VEVENT
DTSTAMP:20260420T132752
DTSTART;TZID=Europe/Berlin:20260625T193000
DTEND;TZID=Europe/Berlin:20260625T203000
UID:V25560621-20260625T193000@VHSBÖBLINGEN-SINDELFINGEN
SUMMARY:Zumba® Tanz und Fitness (V25560621) 
LOCATION:HO, Heinrich-Harpprecht-Förderschule, F - Gymnastikraum, Berkenstraße 14, 71088 Holzgerlingen
END:VEVENT
BEGIN:VEVENT
DTSTAMP:20260420T132752
DTSTART;TZID=Europe/Berlin:20260702T193000
DTEND;TZID=Europe/Berlin:20260702T203000
UID:V25560621-20260702T193000@VHSBÖBLINGEN-SINDELFINGEN
SUMMARY:Zumba® Tanz und Fitness (V25560621) 
LOCATION:HO, Heinrich-Harpprecht-Förderschule, F - Gymnastikraum, Berkenstraße 14, 71088 Holzgerlingen
END:VEVENT
BEGIN:VEVENT
DTSTAMP:20260420T132752
DTSTART;TZID=Europe/Berlin:20260709T193000
DTEND;TZID=Europe/Berlin:20260709T203000
UID:V25560621-20260709T193000@VHSBÖBLINGEN-SINDELFINGEN
SUMMARY:Zumba® Tanz und Fitness (V25560621) 
LOCATION:HO, Heinrich-Harpprecht-Förderschule, F - Gymnastikraum, Berkenstraße 14, 71088 Holzgerlingen
END:VEVENT
BEGIN:VEVENT
DTSTAMP:20260420T132752
DTSTART;TZID=Europe/Berlin:20260716T193000
DTEND;TZID=Europe/Berlin:20260716T203000
UID:V25560621-20260716T193000@VHSBÖBLINGEN-SINDELFINGEN
SUMMARY:Zumba® Tanz und Fitness (V25560621) 
LOCATION:HO, Heinrich-Harpprecht-Förderschule, F - Gymnastikraum, Berkenstraße 14, 71088 Holzgerlingen
END:VEVENT
BEGIN:VEVENT
DTSTAMP:20260420T132752
DTSTART;TZID=Europe/Berlin:20260723T193000
DTEND;TZID=Europe/Berlin:20260723T203000
UID:V25560621-20260723T193000@VHSBÖBLINGEN-SINDELFINGEN
SUMMARY:Zumba® Tanz und Fitness (V25560621) 
LOCATION:HO, Heinrich-Harpprecht-Förderschule, F - Gymnastikraum, Berkenstraße 14, 71088 Holzgerlingen
END:VEVENT
END:VCALENDAR