BEGIN:VCALENDAR
VERSION:2.0
PRODID:https://www.kufer.de/kuferweb / DE
METHOD:PUBLISH
CALSCALE:GREGORIAN
X-WR-TIMEZONE:Europe/Berlin
BEGIN:VTIMEZONE
TZID:Europe/Berlin
X-LIC-LOCATION:Europe/Berlin
BEGIN:DAYLIGHT
TZOFFSETFROM:+0100
TZOFFSETTO:+0200
TZNAME:CEST
DTSTART:19700329T020000
RRULE:FREQ=YEARLY;INTERVAL=1;BYDAY=-1SU;BYMONTH=3
END:DAYLIGHT
BEGIN:STANDARD
TZOFFSETFROM:+0200
TZOFFSETTO:+0100
TZNAME:CET
DTSTART:19701025T030000
RRULE:FREQ=YEARLY;INTERVAL=1;BYDAY=-1SU;BYMONTH=10
END:STANDARD
END:VTIMEZONE
BEGIN:VEVENT
DTSTAMP:20260420T184256
DTSTART;TZID=Europe/Berlin:20260225T201000
DTEND;TZID=Europe/Berlin:20260225T211000
UID:V25550511-20260225T201000@VHSBÖBLINGEN-SINDELFINGEN
SUMMARY:Zumba® Tanz und Fitness (V25550511) 
LOCATION:AI, Sonnenberghalle, Halle, Feldbergstr. 26, 71124 Aidlingen
END:VEVENT
BEGIN:VEVENT
DTSTAMP:20260420T184256
DTSTART;TZID=Europe/Berlin:20260304T201000
DTEND;TZID=Europe/Berlin:20260304T211000
UID:V25550511-20260304T201000@VHSBÖBLINGEN-SINDELFINGEN
SUMMARY:Zumba® Tanz und Fitness (V25550511) 
LOCATION:AI, Sonnenberghalle, Halle, Feldbergstr. 26, 71124 Aidlingen
END:VEVENT
BEGIN:VEVENT
DTSTAMP:20260420T184256
DTSTART;TZID=Europe/Berlin:20260311T201000
DTEND;TZID=Europe/Berlin:20260311T211000
UID:V25550511-20260311T201000@VHSBÖBLINGEN-SINDELFINGEN
SUMMARY:Zumba® Tanz und Fitness (V25550511) 
LOCATION:AI, Sonnenberghalle, Halle, Feldbergstr. 26, 71124 Aidlingen
END:VEVENT
BEGIN:VEVENT
DTSTAMP:20260420T184256
DTSTART;TZID=Europe/Berlin:20260318T201000
DTEND;TZID=Europe/Berlin:20260318T211000
UID:V25550511-20260318T201000@VHSBÖBLINGEN-SINDELFINGEN
SUMMARY:Zumba® Tanz und Fitness (V25550511) 
LOCATION:AI, Sonnenberghalle, Halle, Feldbergstr. 26, 71124 Aidlingen
END:VEVENT
BEGIN:VEVENT
DTSTAMP:20260420T184256
DTSTART;TZID=Europe/Berlin:20260325T201000
DTEND;TZID=Europe/Berlin:20260325T211000
UID:V25550511-20260325T201000@VHSBÖBLINGEN-SINDELFINGEN
SUMMARY:Zumba® Tanz und Fitness (V25550511) 
LOCATION:AI, Sonnenberghalle, Halle, Feldbergstr. 26, 71124 Aidlingen
END:VEVENT
BEGIN:VEVENT
DTSTAMP:20260420T184256
DTSTART;TZID=Europe/Berlin:20260415T201000
DTEND;TZID=Europe/Berlin:20260415T211000
UID:V25550511-20260415T201000@VHSBÖBLINGEN-SINDELFINGEN
SUMMARY:Zumba® Tanz und Fitness (V25550511) 
LOCATION:AI, Sonnenberghalle, Halle, Feldbergstr. 26, 71124 Aidlingen
END:VEVENT
BEGIN:VEVENT
DTSTAMP:20260420T184256
DTSTART;TZID=Europe/Berlin:20260422T201000
DTEND;TZID=Europe/Berlin:20260422T211000
UID:V25550511-20260422T201000@VHSBÖBLINGEN-SINDELFINGEN
SUMMARY:Zumba® Tanz und Fitness (V25550511) 
LOCATION:AI, Sonnenberghalle, Halle, Feldbergstr. 26, 71124 Aidlingen
END:VEVENT
BEGIN:VEVENT
DTSTAMP:20260420T184256
DTSTART;TZID=Europe/Berlin:20260429T201000
DTEND;TZID=Europe/Berlin:20260429T211000
UID:V25550511-20260429T201000@VHSBÖBLINGEN-SINDELFINGEN
SUMMARY:Zumba® Tanz und Fitness (V25550511) 
LOCATION:AI, Sonnenberghalle, Halle, Feldbergstr. 26, 71124 Aidlingen
END:VEVENT
BEGIN:VEVENT
DTSTAMP:20260420T184256
DTSTART;TZID=Europe/Berlin:20260506T201000
DTEND;TZID=Europe/Berlin:20260506T211000
UID:V25550511-20260506T201000@VHSBÖBLINGEN-SINDELFINGEN
SUMMARY:Zumba® Tanz und Fitness (V25550511) 
LOCATION:AI, Sonnenberghalle, Halle, Feldbergstr. 26, 71124 Aidlingen
END:VEVENT
BEGIN:VEVENT
DTSTAMP:20260420T184256
DTSTART;TZID=Europe/Berlin:20260513T201000
DTEND;TZID=Europe/Berlin:20260513T211000
UID:V25550511-20260513T201000@VHSBÖBLINGEN-SINDELFINGEN
SUMMARY:Zumba® Tanz und Fitness (V25550511) 
LOCATION:AI, Sonnenberghalle, Halle, Feldbergstr. 26, 71124 Aidlingen
END:VEVENT
BEGIN:VEVENT
DTSTAMP:20260420T184256
DTSTART;TZID=Europe/Berlin:20260520T201000
DTEND;TZID=Europe/Berlin:20260520T211000
UID:V25550511-20260520T201000@VHSBÖBLINGEN-SINDELFINGEN
SUMMARY:Zumba® Tanz und Fitness (V25550511) 
LOCATION:AI, Sonnenberghalle, Halle, Feldbergstr. 26, 71124 Aidlingen
END:VEVENT
BEGIN:VEVENT
DTSTAMP:20260420T184256
DTSTART;TZID=Europe/Berlin:20260610T201000
DTEND;TZID=Europe/Berlin:20260610T211000
UID:V25550511-20260610T201000@VHSBÖBLINGEN-SINDELFINGEN
SUMMARY:Zumba® Tanz und Fitness (V25550511) 
LOCATION:AI, Sonnenberghalle, Halle, Feldbergstr. 26, 71124 Aidlingen
END:VEVENT
BEGIN:VEVENT
DTSTAMP:20260420T184256
DTSTART;TZID=Europe/Berlin:20260617T201000
DTEND;TZID=Europe/Berlin:20260617T211000
UID:V25550511-20260617T201000@VHSBÖBLINGEN-SINDELFINGEN
SUMMARY:Zumba® Tanz und Fitness (V25550511) 
LOCATION:AI, Sonnenberghalle, Halle, Feldbergstr. 26, 71124 Aidlingen
END:VEVENT
BEGIN:VEVENT
DTSTAMP:20260420T184256
DTSTART;TZID=Europe/Berlin:20260624T201000
DTEND;TZID=Europe/Berlin:20260624T211000
UID:V25550511-20260624T201000@VHSBÖBLINGEN-SINDELFINGEN
SUMMARY:Zumba® Tanz und Fitness (V25550511) 
LOCATION:AI, Sonnenberghalle, Halle, Feldbergstr. 26, 71124 Aidlingen
END:VEVENT
BEGIN:VEVENT
DTSTAMP:20260420T184256
DTSTART;TZID=Europe/Berlin:20260701T201000
DTEND;TZID=Europe/Berlin:20260701T211000
UID:V25550511-20260701T201000@VHSBÖBLINGEN-SINDELFINGEN
SUMMARY:Zumba® Tanz und Fitness (V25550511) 
LOCATION:AI, Sonnenberghalle, Halle, Feldbergstr. 26, 71124 Aidlingen
END:VEVENT
BEGIN:VEVENT
DTSTAMP:20260420T184256
DTSTART;TZID=Europe/Berlin:20260708T201000
DTEND;TZID=Europe/Berlin:20260708T211000
UID:V25550511-20260708T201000@VHSBÖBLINGEN-SINDELFINGEN
SUMMARY:Zumba® Tanz und Fitness (V25550511) 
LOCATION:AI, Sonnenberghalle, Halle, Feldbergstr. 26, 71124 Aidlingen
END:VEVENT
BEGIN:VEVENT
DTSTAMP:20260420T184256
DTSTART;TZID=Europe/Berlin:20260715T201000
DTEND;TZID=Europe/Berlin:20260715T211000
UID:V25550511-20260715T201000@VHSBÖBLINGEN-SINDELFINGEN
SUMMARY:Zumba® Tanz und Fitness (V25550511) 
LOCATION:AI, Sonnenberghalle, Halle, Feldbergstr. 26, 71124 Aidlingen
END:VEVENT
BEGIN:VEVENT
DTSTAMP:20260420T184256
DTSTART;TZID=Europe/Berlin:20260722T201000
DTEND;TZID=Europe/Berlin:20260722T211000
UID:V25550511-20260722T201000@VHSBÖBLINGEN-SINDELFINGEN
SUMMARY:Zumba® Tanz und Fitness (V25550511) 
LOCATION:AI, Sonnenberghalle, Halle, Feldbergstr. 26, 71124 Aidlingen
END:VEVENT
END:VCALENDAR