BEGIN:VCALENDAR
VERSION:2.0
PRODID:https://www.kufer.de/kuferweb / DE
METHOD:PUBLISH
CALSCALE:GREGORIAN
X-WR-TIMEZONE:Europe/Berlin
BEGIN:VTIMEZONE
TZID:Europe/Berlin
X-LIC-LOCATION:Europe/Berlin
BEGIN:DAYLIGHT
TZOFFSETFROM:+0100
TZOFFSETTO:+0200
TZNAME:CEST
DTSTART:19700329T020000
RRULE:FREQ=YEARLY;INTERVAL=1;BYDAY=-1SU;BYMONTH=3
END:DAYLIGHT
BEGIN:STANDARD
TZOFFSETFROM:+0200
TZOFFSETTO:+0100
TZNAME:CET
DTSTART:19701025T030000
RRULE:FREQ=YEARLY;INTERVAL=1;BYDAY=-1SU;BYMONTH=10
END:STANDARD
END:VTIMEZONE
BEGIN:VEVENT
DTSTAMP:20260420T184306
DTSTART;TZID=Europe/Berlin:20260225T190000
DTEND;TZID=Europe/Berlin:20260225T200000
UID:V25550215-20260225T190000@VHSBÖBLINGEN-SINDELFINGEN
SUMMARY:Zumba® 
Tanz und Fitness (V25550215) 
LOCATION:EH, Sportzentrum Schalkwiese Halle 2, G1, Hildrizhauser Str. 80, 71139 Ehningen
END:VEVENT
BEGIN:VEVENT
DTSTAMP:20260420T184306
DTSTART;TZID=Europe/Berlin:20260304T190000
DTEND;TZID=Europe/Berlin:20260304T200000
UID:V25550215-20260304T190000@VHSBÖBLINGEN-SINDELFINGEN
SUMMARY:Zumba® 
Tanz und Fitness (V25550215) 
LOCATION:EH, Sportzentrum Schalkwiese Halle 2, G1, Hildrizhauser Str. 80, 71139 Ehningen
END:VEVENT
BEGIN:VEVENT
DTSTAMP:20260420T184306
DTSTART;TZID=Europe/Berlin:20260311T190000
DTEND;TZID=Europe/Berlin:20260311T200000
UID:V25550215-20260311T190000@VHSBÖBLINGEN-SINDELFINGEN
SUMMARY:Zumba® 
Tanz und Fitness (V25550215) 
LOCATION:EH, Sportzentrum Schalkwiese Halle 2, G1, Hildrizhauser Str. 80, 71139 Ehningen
END:VEVENT
BEGIN:VEVENT
DTSTAMP:20260420T184306
DTSTART;TZID=Europe/Berlin:20260318T190000
DTEND;TZID=Europe/Berlin:20260318T200000
UID:V25550215-20260318T190000@VHSBÖBLINGEN-SINDELFINGEN
SUMMARY:Zumba® 
Tanz und Fitness (V25550215) 
LOCATION:EH, Sportzentrum Schalkwiese Halle 2, G1, Hildrizhauser Str. 80, 71139 Ehningen
END:VEVENT
BEGIN:VEVENT
DTSTAMP:20260420T184306
DTSTART;TZID=Europe/Berlin:20260325T190000
DTEND;TZID=Europe/Berlin:20260325T200000
UID:V25550215-20260325T190000@VHSBÖBLINGEN-SINDELFINGEN
SUMMARY:Zumba® 
Tanz und Fitness (V25550215) 
LOCATION:EH, Sportzentrum Schalkwiese Halle 2, G1, Hildrizhauser Str. 80, 71139 Ehningen
END:VEVENT
BEGIN:VEVENT
DTSTAMP:20260420T184306
DTSTART;TZID=Europe/Berlin:20260422T190000
DTEND;TZID=Europe/Berlin:20260422T200000
UID:V25550215-20260422T190000@VHSBÖBLINGEN-SINDELFINGEN
SUMMARY:Zumba® 
Tanz und Fitness (V25550215) 
LOCATION:EH, Sportzentrum Schalkwiese Halle 2, G1, Hildrizhauser Str. 80, 71139 Ehningen
END:VEVENT
BEGIN:VEVENT
DTSTAMP:20260420T184306
DTSTART;TZID=Europe/Berlin:20260429T190000
DTEND;TZID=Europe/Berlin:20260429T200000
UID:V25550215-20260429T190000@VHSBÖBLINGEN-SINDELFINGEN
SUMMARY:Zumba® 
Tanz und Fitness (V25550215) 
LOCATION:EH, Sportzentrum Schalkwiese Halle 2, G1, Hildrizhauser Str. 80, 71139 Ehningen
END:VEVENT
BEGIN:VEVENT
DTSTAMP:20260420T184306
DTSTART;TZID=Europe/Berlin:20260506T190000
DTEND;TZID=Europe/Berlin:20260506T200000
UID:V25550215-20260506T190000@VHSBÖBLINGEN-SINDELFINGEN
SUMMARY:Zumba® 
Tanz und Fitness (V25550215) 
LOCATION:EH, Sportzentrum Schalkwiese Halle 2, G1, Hildrizhauser Str. 80, 71139 Ehningen
END:VEVENT
BEGIN:VEVENT
DTSTAMP:20260420T184306
DTSTART;TZID=Europe/Berlin:20260513T190000
DTEND;TZID=Europe/Berlin:20260513T200000
UID:V25550215-20260513T190000@VHSBÖBLINGEN-SINDELFINGEN
SUMMARY:Zumba® 
Tanz und Fitness (V25550215) 
LOCATION:EH, Sportzentrum Schalkwiese Halle 2, G1, Hildrizhauser Str. 80, 71139 Ehningen
END:VEVENT
BEGIN:VEVENT
DTSTAMP:20260420T184306
DTSTART;TZID=Europe/Berlin:20260520T190000
DTEND;TZID=Europe/Berlin:20260520T200000
UID:V25550215-20260520T190000@VHSBÖBLINGEN-SINDELFINGEN
SUMMARY:Zumba® 
Tanz und Fitness (V25550215) 
LOCATION:EH, Sportzentrum Schalkwiese Halle 2, G1, Hildrizhauser Str. 80, 71139 Ehningen
END:VEVENT
BEGIN:VEVENT
DTSTAMP:20260420T184306
DTSTART;TZID=Europe/Berlin:20260610T190000
DTEND;TZID=Europe/Berlin:20260610T200000
UID:V25550215-20260610T190000@VHSBÖBLINGEN-SINDELFINGEN
SUMMARY:Zumba® 
Tanz und Fitness (V25550215) 
LOCATION:EH, Sportzentrum Schalkwiese Halle 2, G1, Hildrizhauser Str. 80, 71139 Ehningen
END:VEVENT
BEGIN:VEVENT
DTSTAMP:20260420T184306
DTSTART;TZID=Europe/Berlin:20260617T190000
DTEND;TZID=Europe/Berlin:20260617T200000
UID:V25550215-20260617T190000@VHSBÖBLINGEN-SINDELFINGEN
SUMMARY:Zumba® 
Tanz und Fitness (V25550215) 
LOCATION:EH, Sportzentrum Schalkwiese Halle 2, G1, Hildrizhauser Str. 80, 71139 Ehningen
END:VEVENT
BEGIN:VEVENT
DTSTAMP:20260420T184306
DTSTART;TZID=Europe/Berlin:20260624T190000
DTEND;TZID=Europe/Berlin:20260624T200000
UID:V25550215-20260624T190000@VHSBÖBLINGEN-SINDELFINGEN
SUMMARY:Zumba® 
Tanz und Fitness (V25550215) 
LOCATION:EH, Sportzentrum Schalkwiese Halle 2, G1, Hildrizhauser Str. 80, 71139 Ehningen
END:VEVENT
BEGIN:VEVENT
DTSTAMP:20260420T184306
DTSTART;TZID=Europe/Berlin:20260701T190000
DTEND;TZID=Europe/Berlin:20260701T200000
UID:V25550215-20260701T190000@VHSBÖBLINGEN-SINDELFINGEN
SUMMARY:Zumba® 
Tanz und Fitness (V25550215) 
LOCATION:EH, Sportzentrum Schalkwiese Halle 2, G1, Hildrizhauser Str. 80, 71139 Ehningen
END:VEVENT
BEGIN:VEVENT
DTSTAMP:20260420T184306
DTSTART;TZID=Europe/Berlin:20260708T190000
DTEND;TZID=Europe/Berlin:20260708T200000
UID:V25550215-20260708T190000@VHSBÖBLINGEN-SINDELFINGEN
SUMMARY:Zumba® 
Tanz und Fitness (V25550215) 
LOCATION:EH, Sportzentrum Schalkwiese Halle 2, G1, Hildrizhauser Str. 80, 71139 Ehningen
END:VEVENT
BEGIN:VEVENT
DTSTAMP:20260420T184306
DTSTART;TZID=Europe/Berlin:20260715T190000
DTEND;TZID=Europe/Berlin:20260715T200000
UID:V25550215-20260715T190000@VHSBÖBLINGEN-SINDELFINGEN
SUMMARY:Zumba® 
Tanz und Fitness (V25550215) 
LOCATION:EH, Sportzentrum Schalkwiese Halle 2, G1, Hildrizhauser Str. 80, 71139 Ehningen
END:VEVENT
BEGIN:VEVENT
DTSTAMP:20260420T184306
DTSTART;TZID=Europe/Berlin:20260722T190000
DTEND;TZID=Europe/Berlin:20260722T200000
UID:V25550215-20260722T190000@VHSBÖBLINGEN-SINDELFINGEN
SUMMARY:Zumba® 
Tanz und Fitness (V25550215) 
LOCATION:EH, Sportzentrum Schalkwiese Halle 2, G1, Hildrizhauser Str. 80, 71139 Ehningen
END:VEVENT
END:VCALENDAR