BEGIN:VCALENDAR
VERSION:2.0
PRODID:https://www.kufer.de/kuferweb / DE
METHOD:PUBLISH
CALSCALE:GREGORIAN
X-WR-TIMEZONE:Europe/Berlin
BEGIN:VTIMEZONE
TZID:Europe/Berlin
X-LIC-LOCATION:Europe/Berlin
BEGIN:DAYLIGHT
TZOFFSETFROM:+0100
TZOFFSETTO:+0200
TZNAME:CEST
DTSTART:19700329T020000
RRULE:FREQ=YEARLY;INTERVAL=1;BYDAY=-1SU;BYMONTH=3
END:DAYLIGHT
BEGIN:STANDARD
TZOFFSETFROM:+0200
TZOFFSETTO:+0100
TZNAME:CET
DTSTART:19701025T030000
RRULE:FREQ=YEARLY;INTERVAL=1;BYDAY=-1SU;BYMONTH=10
END:STANDARD
END:VTIMEZONE
BEGIN:VEVENT
DTSTAMP:20260421T011554
DTSTART;TZID=Europe/Berlin:20260224T164500
DTEND;TZID=Europe/Berlin:20260224T174500
UID:V25431922-20260224T164500@VHSBÖBLINGEN-SINDELFINGEN
SUMMARY:Line Dance, Beginner mit Vorkenntnissen (Level: Beginner/Improver) (V25431922) 
LOCATION:MA, Neues Schulhaus, Gymnastikraum, 2.OG, Neue Stuttgarter Str. 1, 71106 Magstadt
END:VEVENT
BEGIN:VEVENT
DTSTAMP:20260421T011554
DTSTART;TZID=Europe/Berlin:20260303T164500
DTEND;TZID=Europe/Berlin:20260303T174500
UID:V25431922-20260303T164500@VHSBÖBLINGEN-SINDELFINGEN
SUMMARY:Line Dance, Beginner mit Vorkenntnissen (Level: Beginner/Improver) (V25431922) 
LOCATION:MA, Neues Schulhaus, Gymnastikraum, 2.OG, Neue Stuttgarter Str. 1, 71106 Magstadt
END:VEVENT
BEGIN:VEVENT
DTSTAMP:20260421T011554
DTSTART;TZID=Europe/Berlin:20260310T164500
DTEND;TZID=Europe/Berlin:20260310T174500
UID:V25431922-20260310T164500@VHSBÖBLINGEN-SINDELFINGEN
SUMMARY:Line Dance, Beginner mit Vorkenntnissen (Level: Beginner/Improver) (V25431922) 
LOCATION:MA, Neues Schulhaus, Gymnastikraum, 2.OG, Neue Stuttgarter Str. 1, 71106 Magstadt
END:VEVENT
BEGIN:VEVENT
DTSTAMP:20260421T011554
DTSTART;TZID=Europe/Berlin:20260317T164500
DTEND;TZID=Europe/Berlin:20260317T174500
UID:V25431922-20260317T164500@VHSBÖBLINGEN-SINDELFINGEN
SUMMARY:Line Dance, Beginner mit Vorkenntnissen (Level: Beginner/Improver) (V25431922) 
LOCATION:MA, Neues Schulhaus, Gymnastikraum, 2.OG, Neue Stuttgarter Str. 1, 71106 Magstadt
END:VEVENT
BEGIN:VEVENT
DTSTAMP:20260421T011554
DTSTART;TZID=Europe/Berlin:20260324T164500
DTEND;TZID=Europe/Berlin:20260324T174500
UID:V25431922-20260324T164500@VHSBÖBLINGEN-SINDELFINGEN
SUMMARY:Line Dance, Beginner mit Vorkenntnissen (Level: Beginner/Improver) (V25431922) 
LOCATION:MA, Neues Schulhaus, Gymnastikraum, 2.OG, Neue Stuttgarter Str. 1, 71106 Magstadt
END:VEVENT
BEGIN:VEVENT
DTSTAMP:20260421T011554
DTSTART;TZID=Europe/Berlin:20260414T164500
DTEND;TZID=Europe/Berlin:20260414T174500
UID:V25431922-20260414T164500@VHSBÖBLINGEN-SINDELFINGEN
SUMMARY:Line Dance, Beginner mit Vorkenntnissen (Level: Beginner/Improver) (V25431922) 
LOCATION:MA, Neues Schulhaus, Gymnastikraum, 2.OG, Neue Stuttgarter Str. 1, 71106 Magstadt
END:VEVENT
BEGIN:VEVENT
DTSTAMP:20260421T011554
DTSTART;TZID=Europe/Berlin:20260421T164500
DTEND;TZID=Europe/Berlin:20260421T174500
UID:V25431922-20260421T164500@VHSBÖBLINGEN-SINDELFINGEN
SUMMARY:Line Dance, Beginner mit Vorkenntnissen (Level: Beginner/Improver) (V25431922) 
LOCATION:MA, Neues Schulhaus, Gymnastikraum, 2.OG, Neue Stuttgarter Str. 1, 71106 Magstadt
END:VEVENT
BEGIN:VEVENT
DTSTAMP:20260421T011554
DTSTART;TZID=Europe/Berlin:20260428T164500
DTEND;TZID=Europe/Berlin:20260428T174500
UID:V25431922-20260428T164500@VHSBÖBLINGEN-SINDELFINGEN
SUMMARY:Line Dance, Beginner mit Vorkenntnissen (Level: Beginner/Improver) (V25431922) 
LOCATION:MA, Neues Schulhaus, Gymnastikraum, 2.OG, Neue Stuttgarter Str. 1, 71106 Magstadt
END:VEVENT
BEGIN:VEVENT
DTSTAMP:20260421T011554
DTSTART;TZID=Europe/Berlin:20260505T164500
DTEND;TZID=Europe/Berlin:20260505T174500
UID:V25431922-20260505T164500@VHSBÖBLINGEN-SINDELFINGEN
SUMMARY:Line Dance, Beginner mit Vorkenntnissen (Level: Beginner/Improver) (V25431922) 
LOCATION:MA, Neues Schulhaus, Gymnastikraum, 2.OG, Neue Stuttgarter Str. 1, 71106 Magstadt
END:VEVENT
BEGIN:VEVENT
DTSTAMP:20260421T011554
DTSTART;TZID=Europe/Berlin:20260512T164500
DTEND;TZID=Europe/Berlin:20260512T174500
UID:V25431922-20260512T164500@VHSBÖBLINGEN-SINDELFINGEN
SUMMARY:Line Dance, Beginner mit Vorkenntnissen (Level: Beginner/Improver) (V25431922) 
LOCATION:MA, Neues Schulhaus, Gymnastikraum, 2.OG, Neue Stuttgarter Str. 1, 71106 Magstadt
END:VEVENT
BEGIN:VEVENT
DTSTAMP:20260421T011554
DTSTART;TZID=Europe/Berlin:20260519T164500
DTEND;TZID=Europe/Berlin:20260519T174500
UID:V25431922-20260519T164500@VHSBÖBLINGEN-SINDELFINGEN
SUMMARY:Line Dance, Beginner mit Vorkenntnissen (Level: Beginner/Improver) (V25431922) 
LOCATION:MA, Neues Schulhaus, Gymnastikraum, 2.OG, Neue Stuttgarter Str. 1, 71106 Magstadt
END:VEVENT
BEGIN:VEVENT
DTSTAMP:20260421T011554
DTSTART;TZID=Europe/Berlin:20260609T164500
DTEND;TZID=Europe/Berlin:20260609T174500
UID:V25431922-20260609T164500@VHSBÖBLINGEN-SINDELFINGEN
SUMMARY:Line Dance, Beginner mit Vorkenntnissen (Level: Beginner/Improver) (V25431922) 
LOCATION:MA, Neues Schulhaus, Gymnastikraum, 2.OG, Neue Stuttgarter Str. 1, 71106 Magstadt
END:VEVENT
BEGIN:VEVENT
DTSTAMP:20260421T011554
DTSTART;TZID=Europe/Berlin:20260616T164500
DTEND;TZID=Europe/Berlin:20260616T174500
UID:V25431922-20260616T164500@VHSBÖBLINGEN-SINDELFINGEN
SUMMARY:Line Dance, Beginner mit Vorkenntnissen (Level: Beginner/Improver) (V25431922) 
LOCATION:MA, Neues Schulhaus, Gymnastikraum, 2.OG, Neue Stuttgarter Str. 1, 71106 Magstadt
END:VEVENT
BEGIN:VEVENT
DTSTAMP:20260421T011554
DTSTART;TZID=Europe/Berlin:20260623T164500
DTEND;TZID=Europe/Berlin:20260623T174500
UID:V25431922-20260623T164500@VHSBÖBLINGEN-SINDELFINGEN
SUMMARY:Line Dance, Beginner mit Vorkenntnissen (Level: Beginner/Improver) (V25431922) 
LOCATION:MA, Neues Schulhaus, Gymnastikraum, 2.OG, Neue Stuttgarter Str. 1, 71106 Magstadt
END:VEVENT
BEGIN:VEVENT
DTSTAMP:20260421T011554
DTSTART;TZID=Europe/Berlin:20260630T164500
DTEND;TZID=Europe/Berlin:20260630T174500
UID:V25431922-20260630T164500@VHSBÖBLINGEN-SINDELFINGEN
SUMMARY:Line Dance, Beginner mit Vorkenntnissen (Level: Beginner/Improver) (V25431922) 
LOCATION:MA, Neues Schulhaus, Gymnastikraum, 2.OG, Neue Stuttgarter Str. 1, 71106 Magstadt
END:VEVENT
BEGIN:VEVENT
DTSTAMP:20260421T011554
DTSTART;TZID=Europe/Berlin:20260707T164500
DTEND;TZID=Europe/Berlin:20260707T174500
UID:V25431922-20260707T164500@VHSBÖBLINGEN-SINDELFINGEN
SUMMARY:Line Dance, Beginner mit Vorkenntnissen (Level: Beginner/Improver) (V25431922) 
LOCATION:MA, Neues Schulhaus, Gymnastikraum, 2.OG, Neue Stuttgarter Str. 1, 71106 Magstadt
END:VEVENT
BEGIN:VEVENT
DTSTAMP:20260421T011554
DTSTART;TZID=Europe/Berlin:20260714T164500
DTEND;TZID=Europe/Berlin:20260714T174500
UID:V25431922-20260714T164500@VHSBÖBLINGEN-SINDELFINGEN
SUMMARY:Line Dance, Beginner mit Vorkenntnissen (Level: Beginner/Improver) (V25431922) 
LOCATION:MA, Neues Schulhaus, Gymnastikraum, 2.OG, Neue Stuttgarter Str. 1, 71106 Magstadt
END:VEVENT
BEGIN:VEVENT
DTSTAMP:20260421T011554
DTSTART;TZID=Europe/Berlin:20260721T164500
DTEND;TZID=Europe/Berlin:20260721T174500
UID:V25431922-20260721T164500@VHSBÖBLINGEN-SINDELFINGEN
SUMMARY:Line Dance, Beginner mit Vorkenntnissen (Level: Beginner/Improver) (V25431922) 
LOCATION:MA, Neues Schulhaus, Gymnastikraum, 2.OG, Neue Stuttgarter Str. 1, 71106 Magstadt
END:VEVENT
END:VCALENDAR