BEGIN:VCALENDAR
VERSION:2.0
PRODID:https://www.kufer.de/kuferweb / DE
METHOD:PUBLISH
CALSCALE:GREGORIAN
X-WR-TIMEZONE:Europe/Berlin
BEGIN:VTIMEZONE
TZID:Europe/Berlin
X-LIC-LOCATION:Europe/Berlin
BEGIN:DAYLIGHT
TZOFFSETFROM:+0100
TZOFFSETTO:+0200
TZNAME:CEST
DTSTART:19700329T020000
RRULE:FREQ=YEARLY;INTERVAL=1;BYDAY=-1SU;BYMONTH=3
END:DAYLIGHT
BEGIN:STANDARD
TZOFFSETFROM:+0200
TZOFFSETTO:+0100
TZNAME:CET
DTSTART:19701025T030000
RRULE:FREQ=YEARLY;INTERVAL=1;BYDAY=-1SU;BYMONTH=10
END:STANDARD
END:VTIMEZONE
BEGIN:VEVENT
DTSTAMP:20260420T184246
DTSTART;TZID=Europe/Berlin:20260223T194500
DTEND;TZID=Europe/Berlin:20260223T210000
UID:V25431029-20260223T194500@VHSBÖBLINGEN-SINDELFINGEN
SUMMARY:Energy Dance® Raus aus dem Kopf - Rein in den Körper! (V25431029) 
LOCATION:SC, Altes Schulhaus, Raum 13, Große Gasse 3, 71101 Schönaich
END:VEVENT
BEGIN:VEVENT
DTSTAMP:20260420T184246
DTSTART;TZID=Europe/Berlin:20260302T194500
DTEND;TZID=Europe/Berlin:20260302T210000
UID:V25431029-20260302T194500@VHSBÖBLINGEN-SINDELFINGEN
SUMMARY:Energy Dance® Raus aus dem Kopf - Rein in den Körper! (V25431029) 
LOCATION:SC, Altes Schulhaus, Raum 13, Große Gasse 3, 71101 Schönaich
END:VEVENT
BEGIN:VEVENT
DTSTAMP:20260420T184246
DTSTART;TZID=Europe/Berlin:20260309T194500
DTEND;TZID=Europe/Berlin:20260309T210000
UID:V25431029-20260309T194500@VHSBÖBLINGEN-SINDELFINGEN
SUMMARY:Energy Dance® Raus aus dem Kopf - Rein in den Körper! (V25431029) 
LOCATION:SC, Altes Schulhaus, Raum 13, Große Gasse 3, 71101 Schönaich
END:VEVENT
BEGIN:VEVENT
DTSTAMP:20260420T184246
DTSTART;TZID=Europe/Berlin:20260316T194500
DTEND;TZID=Europe/Berlin:20260316T210000
UID:V25431029-20260316T194500@VHSBÖBLINGEN-SINDELFINGEN
SUMMARY:Energy Dance® Raus aus dem Kopf - Rein in den Körper! (V25431029) 
LOCATION:SC, Altes Schulhaus, Raum 13, Große Gasse 3, 71101 Schönaich
END:VEVENT
BEGIN:VEVENT
DTSTAMP:20260420T184246
DTSTART;TZID=Europe/Berlin:20260323T194500
DTEND;TZID=Europe/Berlin:20260323T210000
UID:V25431029-20260323T194500@VHSBÖBLINGEN-SINDELFINGEN
SUMMARY:Energy Dance® Raus aus dem Kopf - Rein in den Körper! (V25431029) 
LOCATION:SC, Altes Schulhaus, Raum 13, Große Gasse 3, 71101 Schönaich
END:VEVENT
BEGIN:VEVENT
DTSTAMP:20260420T184246
DTSTART;TZID=Europe/Berlin:20260413T194500
DTEND;TZID=Europe/Berlin:20260413T210000
UID:V25431029-20260413T194500@VHSBÖBLINGEN-SINDELFINGEN
SUMMARY:Energy Dance® Raus aus dem Kopf - Rein in den Körper! (V25431029) 
LOCATION:SC, Altes Schulhaus, Raum 13, Große Gasse 3, 71101 Schönaich
END:VEVENT
BEGIN:VEVENT
DTSTAMP:20260420T184246
DTSTART;TZID=Europe/Berlin:20260420T194500
DTEND;TZID=Europe/Berlin:20260420T210000
UID:V25431029-20260420T194500@VHSBÖBLINGEN-SINDELFINGEN
SUMMARY:Energy Dance® Raus aus dem Kopf - Rein in den Körper! (V25431029) 
LOCATION:SC, Altes Schulhaus, Raum 13, Große Gasse 3, 71101 Schönaich
END:VEVENT
END:VCALENDAR