BEGIN:VCALENDAR
VERSION:2.0
PRODID:https://www.kufer.de/kuferweb / DE
METHOD:PUBLISH
CALSCALE:GREGORIAN
X-WR-TIMEZONE:Europe/Berlin
BEGIN:VTIMEZONE
TZID:Europe/Berlin
X-LIC-LOCATION:Europe/Berlin
BEGIN:DAYLIGHT
TZOFFSETFROM:+0100
TZOFFSETTO:+0200
TZNAME:CEST
DTSTART:19700329T020000
RRULE:FREQ=YEARLY;INTERVAL=1;BYDAY=-1SU;BYMONTH=3
END:DAYLIGHT
BEGIN:STANDARD
TZOFFSETFROM:+0200
TZOFFSETTO:+0100
TZNAME:CET
DTSTART:19701025T030000
RRULE:FREQ=YEARLY;INTERVAL=1;BYDAY=-1SU;BYMONTH=10
END:STANDARD
END:VTIMEZONE
BEGIN:VEVENT
DTSTAMP:20260420T214417
DTSTART;TZID=Europe/Berlin:20260504T194000
DTEND;TZID=Europe/Berlin:20260504T204000
UID:V25430410-20260504T194000@VHSBÖBLINGEN-SINDELFINGEN
SUMMARY:Belly Dance Mittelstufe (V25430410) 
LOCATION:vhs auf der Hulb, ___, Otto-Lilienthal-Straße 4 , 71034 Böblingen
END:VEVENT
BEGIN:VEVENT
DTSTAMP:20260420T214417
DTSTART;TZID=Europe/Berlin:20260511T194000
DTEND;TZID=Europe/Berlin:20260511T204000
UID:V25430410-20260511T194000@VHSBÖBLINGEN-SINDELFINGEN
SUMMARY:Belly Dance Mittelstufe (V25430410) 
LOCATION:vhs auf der Hulb, ___, Otto-Lilienthal-Straße 4 , 71034 Böblingen
END:VEVENT
BEGIN:VEVENT
DTSTAMP:20260420T214417
DTSTART;TZID=Europe/Berlin:20260518T194000
DTEND;TZID=Europe/Berlin:20260518T204000
UID:V25430410-20260518T194000@VHSBÖBLINGEN-SINDELFINGEN
SUMMARY:Belly Dance Mittelstufe (V25430410) 
LOCATION:vhs auf der Hulb, ___, Otto-Lilienthal-Straße 4 , 71034 Böblingen
END:VEVENT
BEGIN:VEVENT
DTSTAMP:20260420T214417
DTSTART;TZID=Europe/Berlin:20260608T194000
DTEND;TZID=Europe/Berlin:20260608T204000
UID:V25430410-20260608T194000@VHSBÖBLINGEN-SINDELFINGEN
SUMMARY:Belly Dance Mittelstufe (V25430410) 
LOCATION:vhs auf der Hulb, ___, Otto-Lilienthal-Straße 4 , 71034 Böblingen
END:VEVENT
BEGIN:VEVENT
DTSTAMP:20260420T214417
DTSTART;TZID=Europe/Berlin:20260615T194000
DTEND;TZID=Europe/Berlin:20260615T204000
UID:V25430410-20260615T194000@VHSBÖBLINGEN-SINDELFINGEN
SUMMARY:Belly Dance Mittelstufe (V25430410) 
LOCATION:vhs auf der Hulb, ___, Otto-Lilienthal-Straße 4 , 71034 Böblingen
END:VEVENT
BEGIN:VEVENT
DTSTAMP:20260420T214417
DTSTART;TZID=Europe/Berlin:20260622T194000
DTEND;TZID=Europe/Berlin:20260622T204000
UID:V25430410-20260622T194000@VHSBÖBLINGEN-SINDELFINGEN
SUMMARY:Belly Dance Mittelstufe (V25430410) 
LOCATION:vhs auf der Hulb, ___, Otto-Lilienthal-Straße 4 , 71034 Böblingen
END:VEVENT
BEGIN:VEVENT
DTSTAMP:20260420T214417
DTSTART;TZID=Europe/Berlin:20260629T194000
DTEND;TZID=Europe/Berlin:20260629T204000
UID:V25430410-20260629T194000@VHSBÖBLINGEN-SINDELFINGEN
SUMMARY:Belly Dance Mittelstufe (V25430410) 
LOCATION:vhs auf der Hulb, ___, Otto-Lilienthal-Straße 4 , 71034 Böblingen
END:VEVENT
BEGIN:VEVENT
DTSTAMP:20260420T214417
DTSTART;TZID=Europe/Berlin:20260706T194000
DTEND;TZID=Europe/Berlin:20260706T204000
UID:V25430410-20260706T194000@VHSBÖBLINGEN-SINDELFINGEN
SUMMARY:Belly Dance Mittelstufe (V25430410) 
LOCATION:vhs auf der Hulb, ___, Otto-Lilienthal-Straße 4 , 71034 Böblingen
END:VEVENT
END:VCALENDAR