BEGIN:VCALENDAR
VERSION:2.0
PRODID:https://www.kufer.de/kuferweb / DE
METHOD:PUBLISH
CALSCALE:GREGORIAN
X-WR-TIMEZONE:Europe/Berlin
BEGIN:VTIMEZONE
TZID:Europe/Berlin
X-LIC-LOCATION:Europe/Berlin
BEGIN:DAYLIGHT
TZOFFSETFROM:+0100
TZOFFSETTO:+0200
TZNAME:CEST
DTSTART:19700329T020000
RRULE:FREQ=YEARLY;INTERVAL=1;BYDAY=-1SU;BYMONTH=3
END:DAYLIGHT
BEGIN:STANDARD
TZOFFSETFROM:+0200
TZOFFSETTO:+0100
TZNAME:CET
DTSTART:19701025T030000
RRULE:FREQ=YEARLY;INTERVAL=1;BYDAY=-1SU;BYMONTH=10
END:STANDARD
END:VTIMEZONE
BEGIN:VEVENT
DTSTAMP:20260421T005155
DTSTART;TZID=Europe/Berlin:20260504T184000
DTEND;TZID=Europe/Berlin:20260504T194000
UID:V25430210-20260504T184000@VHSBÖBLINGEN-SINDELFINGEN
SUMMARY:Bellydance-Fitness (V25430210) 
LOCATION:vhs auf der Hulb, ___, Otto-Lilienthal-Straße 4 , 71034 Böblingen
END:VEVENT
BEGIN:VEVENT
DTSTAMP:20260421T005155
DTSTART;TZID=Europe/Berlin:20260511T184000
DTEND;TZID=Europe/Berlin:20260511T194000
UID:V25430210-20260511T184000@VHSBÖBLINGEN-SINDELFINGEN
SUMMARY:Bellydance-Fitness (V25430210) 
LOCATION:vhs auf der Hulb, ___, Otto-Lilienthal-Straße 4 , 71034 Böblingen
END:VEVENT
BEGIN:VEVENT
DTSTAMP:20260421T005155
DTSTART;TZID=Europe/Berlin:20260518T184000
DTEND;TZID=Europe/Berlin:20260518T194000
UID:V25430210-20260518T184000@VHSBÖBLINGEN-SINDELFINGEN
SUMMARY:Bellydance-Fitness (V25430210) 
LOCATION:vhs auf der Hulb, ___, Otto-Lilienthal-Straße 4 , 71034 Böblingen
END:VEVENT
BEGIN:VEVENT
DTSTAMP:20260421T005155
DTSTART;TZID=Europe/Berlin:20260608T184000
DTEND;TZID=Europe/Berlin:20260608T194000
UID:V25430210-20260608T184000@VHSBÖBLINGEN-SINDELFINGEN
SUMMARY:Bellydance-Fitness (V25430210) 
LOCATION:vhs auf der Hulb, ___, Otto-Lilienthal-Straße 4 , 71034 Böblingen
END:VEVENT
BEGIN:VEVENT
DTSTAMP:20260421T005155
DTSTART;TZID=Europe/Berlin:20260615T184000
DTEND;TZID=Europe/Berlin:20260615T194000
UID:V25430210-20260615T184000@VHSBÖBLINGEN-SINDELFINGEN
SUMMARY:Bellydance-Fitness (V25430210) 
LOCATION:vhs auf der Hulb, ___, Otto-Lilienthal-Straße 4 , 71034 Böblingen
END:VEVENT
BEGIN:VEVENT
DTSTAMP:20260421T005155
DTSTART;TZID=Europe/Berlin:20260622T184000
DTEND;TZID=Europe/Berlin:20260622T194000
UID:V25430210-20260622T184000@VHSBÖBLINGEN-SINDELFINGEN
SUMMARY:Bellydance-Fitness (V25430210) 
LOCATION:vhs auf der Hulb, ___, Otto-Lilienthal-Straße 4 , 71034 Böblingen
END:VEVENT
BEGIN:VEVENT
DTSTAMP:20260421T005155
DTSTART;TZID=Europe/Berlin:20260629T184000
DTEND;TZID=Europe/Berlin:20260629T194000
UID:V25430210-20260629T184000@VHSBÖBLINGEN-SINDELFINGEN
SUMMARY:Bellydance-Fitness (V25430210) 
LOCATION:vhs auf der Hulb, ___, Otto-Lilienthal-Straße 4 , 71034 Böblingen
END:VEVENT
BEGIN:VEVENT
DTSTAMP:20260421T005155
DTSTART;TZID=Europe/Berlin:20260706T184000
DTEND;TZID=Europe/Berlin:20260706T194000
UID:V25430210-20260706T184000@VHSBÖBLINGEN-SINDELFINGEN
SUMMARY:Bellydance-Fitness (V25430210) 
LOCATION:vhs auf der Hulb, ___, Otto-Lilienthal-Straße 4 , 71034 Böblingen
END:VEVENT
END:VCALENDAR