BEGIN:VCALENDAR
VERSION:2.0
PRODID:https://www.kufer.de/kuferweb / DE
METHOD:PUBLISH
CALSCALE:GREGORIAN
X-WR-TIMEZONE:Europe/Berlin
BEGIN:VTIMEZONE
TZID:Europe/Berlin
X-LIC-LOCATION:Europe/Berlin
BEGIN:DAYLIGHT
TZOFFSETFROM:+0100
TZOFFSETTO:+0200
TZNAME:CEST
DTSTART:19700329T020000
RRULE:FREQ=YEARLY;INTERVAL=1;BYDAY=-1SU;BYMONTH=3
END:DAYLIGHT
BEGIN:STANDARD
TZOFFSETFROM:+0200
TZOFFSETTO:+0100
TZNAME:CET
DTSTART:19701025T030000
RRULE:FREQ=YEARLY;INTERVAL=1;BYDAY=-1SU;BYMONTH=10
END:STANDARD
END:VTIMEZONE
BEGIN:VEVENT
DTSTAMP:20260420T220529
DTSTART;TZID=Europe/Berlin:20260223T184000
DTEND;TZID=Europe/Berlin:20260223T194000
UID:V25430010-20260223T184000@VHSBÖBLINGEN-SINDELFINGEN
SUMMARY:Bellydance-Fitness (V25430010) 
LOCATION:vhs auf der Hulb, ___, Otto-Lilienthal-Straße 4 , 71034 Böblingen
END:VEVENT
BEGIN:VEVENT
DTSTAMP:20260420T220529
DTSTART;TZID=Europe/Berlin:20260302T184000
DTEND;TZID=Europe/Berlin:20260302T194000
UID:V25430010-20260302T184000@VHSBÖBLINGEN-SINDELFINGEN
SUMMARY:Bellydance-Fitness (V25430010) 
LOCATION:vhs auf der Hulb, ___, Otto-Lilienthal-Straße 4 , 71034 Böblingen
END:VEVENT
BEGIN:VEVENT
DTSTAMP:20260420T220529
DTSTART;TZID=Europe/Berlin:20260309T184000
DTEND;TZID=Europe/Berlin:20260309T194000
UID:V25430010-20260309T184000@VHSBÖBLINGEN-SINDELFINGEN
SUMMARY:Bellydance-Fitness (V25430010) 
LOCATION:vhs auf der Hulb, ___, Otto-Lilienthal-Straße 4 , 71034 Böblingen
END:VEVENT
BEGIN:VEVENT
DTSTAMP:20260420T220529
DTSTART;TZID=Europe/Berlin:20260316T184000
DTEND;TZID=Europe/Berlin:20260316T194000
UID:V25430010-20260316T184000@VHSBÖBLINGEN-SINDELFINGEN
SUMMARY:Bellydance-Fitness (V25430010) 
LOCATION:vhs auf der Hulb, ___, Otto-Lilienthal-Straße 4 , 71034 Böblingen
END:VEVENT
BEGIN:VEVENT
DTSTAMP:20260420T220529
DTSTART;TZID=Europe/Berlin:20260323T184000
DTEND;TZID=Europe/Berlin:20260323T194000
UID:V25430010-20260323T184000@VHSBÖBLINGEN-SINDELFINGEN
SUMMARY:Bellydance-Fitness (V25430010) 
LOCATION:vhs auf der Hulb, ___, Otto-Lilienthal-Straße 4 , 71034 Böblingen
END:VEVENT
BEGIN:VEVENT
DTSTAMP:20260420T220529
DTSTART;TZID=Europe/Berlin:20260413T184000
DTEND;TZID=Europe/Berlin:20260413T194000
UID:V25430010-20260413T184000@VHSBÖBLINGEN-SINDELFINGEN
SUMMARY:Bellydance-Fitness (V25430010) 
LOCATION:vhs auf der Hulb, ___, Otto-Lilienthal-Straße 4 , 71034 Böblingen
END:VEVENT
BEGIN:VEVENT
DTSTAMP:20260420T220529
DTSTART;TZID=Europe/Berlin:20260420T184000
DTEND;TZID=Europe/Berlin:20260420T194000
UID:V25430010-20260420T184000@VHSBÖBLINGEN-SINDELFINGEN
SUMMARY:Bellydance-Fitness (V25430010) 
LOCATION:vhs auf der Hulb, ___, Otto-Lilienthal-Straße 4 , 71034 Böblingen
END:VEVENT
BEGIN:VEVENT
DTSTAMP:20260420T220529
DTSTART;TZID=Europe/Berlin:20260427T184000
DTEND;TZID=Europe/Berlin:20260427T194000
UID:V25430010-20260427T184000@VHSBÖBLINGEN-SINDELFINGEN
SUMMARY:Bellydance-Fitness (V25430010) 
LOCATION:vhs auf der Hulb, ___, Otto-Lilienthal-Straße 4 , 71034 Böblingen
END:VEVENT
END:VCALENDAR