BEGIN:VCALENDAR
VERSION:2.0
PRODID:https://www.kufer.de/kuferweb / DE
METHOD:PUBLISH
CALSCALE:GREGORIAN
X-WR-TIMEZONE:Europe/Berlin
BEGIN:VTIMEZONE
TZID:Europe/Berlin
X-LIC-LOCATION:Europe/Berlin
BEGIN:DAYLIGHT
TZOFFSETFROM:+0100
TZOFFSETTO:+0200
TZNAME:CEST
DTSTART:19700329T020000
RRULE:FREQ=YEARLY;INTERVAL=1;BYDAY=-1SU;BYMONTH=3
END:DAYLIGHT
BEGIN:STANDARD
TZOFFSETFROM:+0200
TZOFFSETTO:+0100
TZNAME:CET
DTSTART:19701025T030000
RRULE:FREQ=YEARLY;INTERVAL=1;BYDAY=-1SU;BYMONTH=10
END:STANDARD
END:VTIMEZONE
BEGIN:VEVENT
DTSTAMP:20260421T151936
DTSTART;TZID=Europe/Berlin:20260226T123000
DTEND;TZID=Europe/Berlin:20260226T133000
UID:V24730410-20260226T123000@VHSBÖBLINGEN-SINDELFINGEN
SUMMARY:Gesangsunterricht Fortgeschrittene (V24730410) 
LOCATION:GHH, 204, 2.OG, Böblinger Str. 8, 71065 Sindelfingen
END:VEVENT
BEGIN:VEVENT
DTSTAMP:20260421T151936
DTSTART;TZID=Europe/Berlin:20260305T123000
DTEND;TZID=Europe/Berlin:20260305T133000
UID:V24730410-20260305T123000@VHSBÖBLINGEN-SINDELFINGEN
SUMMARY:Gesangsunterricht Fortgeschrittene (V24730410) 
LOCATION:GHH, 204, 2.OG, Böblinger Str. 8, 71065 Sindelfingen
END:VEVENT
BEGIN:VEVENT
DTSTAMP:20260421T151936
DTSTART;TZID=Europe/Berlin:20260312T123000
DTEND;TZID=Europe/Berlin:20260312T133000
UID:V24730410-20260312T123000@VHSBÖBLINGEN-SINDELFINGEN
SUMMARY:Gesangsunterricht Fortgeschrittene (V24730410) 
LOCATION:GHH, 204, 2.OG, Böblinger Str. 8, 71065 Sindelfingen
END:VEVENT
BEGIN:VEVENT
DTSTAMP:20260421T151936
DTSTART;TZID=Europe/Berlin:20260319T123000
DTEND;TZID=Europe/Berlin:20260319T133000
UID:V24730410-20260319T123000@VHSBÖBLINGEN-SINDELFINGEN
SUMMARY:Gesangsunterricht Fortgeschrittene (V24730410) 
LOCATION:GHH, 204, 2.OG, Böblinger Str. 8, 71065 Sindelfingen
END:VEVENT
BEGIN:VEVENT
DTSTAMP:20260421T151936
DTSTART;TZID=Europe/Berlin:20260326T123000
DTEND;TZID=Europe/Berlin:20260326T133000
UID:V24730410-20260326T123000@VHSBÖBLINGEN-SINDELFINGEN
SUMMARY:Gesangsunterricht Fortgeschrittene (V24730410) 
LOCATION:GHH, 204, 2.OG, Böblinger Str. 8, 71065 Sindelfingen
END:VEVENT
BEGIN:VEVENT
DTSTAMP:20260421T151936
DTSTART;TZID=Europe/Berlin:20260416T123000
DTEND;TZID=Europe/Berlin:20260416T133000
UID:V24730410-20260416T123000@VHSBÖBLINGEN-SINDELFINGEN
SUMMARY:Gesangsunterricht Fortgeschrittene (V24730410) 
LOCATION:GHH, 204, 2.OG, Böblinger Str. 8, 71065 Sindelfingen
END:VEVENT
BEGIN:VEVENT
DTSTAMP:20260421T151936
DTSTART;TZID=Europe/Berlin:20260423T123000
DTEND;TZID=Europe/Berlin:20260423T133000
UID:V24730410-20260423T123000@VHSBÖBLINGEN-SINDELFINGEN
SUMMARY:Gesangsunterricht Fortgeschrittene (V24730410) 
LOCATION:GHH, 204, 2.OG, Böblinger Str. 8, 71065 Sindelfingen
END:VEVENT
BEGIN:VEVENT
DTSTAMP:20260421T151936
DTSTART;TZID=Europe/Berlin:20260430T123000
DTEND;TZID=Europe/Berlin:20260430T133000
UID:V24730410-20260430T123000@VHSBÖBLINGEN-SINDELFINGEN
SUMMARY:Gesangsunterricht Fortgeschrittene (V24730410) 
LOCATION:GHH, 204, 2.OG, Böblinger Str. 8, 71065 Sindelfingen
END:VEVENT
BEGIN:VEVENT
DTSTAMP:20260421T151936
DTSTART;TZID=Europe/Berlin:20260507T123000
DTEND;TZID=Europe/Berlin:20260507T133000
UID:V24730410-20260507T123000@VHSBÖBLINGEN-SINDELFINGEN
SUMMARY:Gesangsunterricht Fortgeschrittene (V24730410) 
LOCATION:GHH, 204, 2.OG, Böblinger Str. 8, 71065 Sindelfingen
END:VEVENT
BEGIN:VEVENT
DTSTAMP:20260421T151936
DTSTART;TZID=Europe/Berlin:20260521T123000
DTEND;TZID=Europe/Berlin:20260521T133000
UID:V24730410-20260521T123000@VHSBÖBLINGEN-SINDELFINGEN
SUMMARY:Gesangsunterricht Fortgeschrittene (V24730410) 
LOCATION:GHH, 204, 2.OG, Böblinger Str. 8, 71065 Sindelfingen
END:VEVENT
BEGIN:VEVENT
DTSTAMP:20260421T151936
DTSTART;TZID=Europe/Berlin:20260611T123000
DTEND;TZID=Europe/Berlin:20260611T133000
UID:V24730410-20260611T123000@VHSBÖBLINGEN-SINDELFINGEN
SUMMARY:Gesangsunterricht Fortgeschrittene (V24730410) 
LOCATION:GHH, 204, 2.OG, Böblinger Str. 8, 71065 Sindelfingen
END:VEVENT
BEGIN:VEVENT
DTSTAMP:20260421T151936
DTSTART;TZID=Europe/Berlin:20260618T123000
DTEND;TZID=Europe/Berlin:20260618T133000
UID:V24730410-20260618T123000@VHSBÖBLINGEN-SINDELFINGEN
SUMMARY:Gesangsunterricht Fortgeschrittene (V24730410) 
LOCATION:GHH, 204, 2.OG, Böblinger Str. 8, 71065 Sindelfingen
END:VEVENT
BEGIN:VEVENT
DTSTAMP:20260421T151936
DTSTART;TZID=Europe/Berlin:20260625T123000
DTEND;TZID=Europe/Berlin:20260625T133000
UID:V24730410-20260625T123000@VHSBÖBLINGEN-SINDELFINGEN
SUMMARY:Gesangsunterricht Fortgeschrittene (V24730410) 
LOCATION:GHH, 204, 2.OG, Böblinger Str. 8, 71065 Sindelfingen
END:VEVENT
BEGIN:VEVENT
DTSTAMP:20260421T151936
DTSTART;TZID=Europe/Berlin:20260702T123000
DTEND;TZID=Europe/Berlin:20260702T133000
UID:V24730410-20260702T123000@VHSBÖBLINGEN-SINDELFINGEN
SUMMARY:Gesangsunterricht Fortgeschrittene (V24730410) 
LOCATION:GHH, 204, 2.OG, Böblinger Str. 8, 71065 Sindelfingen
END:VEVENT
BEGIN:VEVENT
DTSTAMP:20260421T151936
DTSTART;TZID=Europe/Berlin:20260709T123000
DTEND;TZID=Europe/Berlin:20260709T133000
UID:V24730410-20260709T123000@VHSBÖBLINGEN-SINDELFINGEN
SUMMARY:Gesangsunterricht Fortgeschrittene (V24730410) 
LOCATION:GHH, 204, 2.OG, Böblinger Str. 8, 71065 Sindelfingen
END:VEVENT
BEGIN:VEVENT
DTSTAMP:20260421T151936
DTSTART;TZID=Europe/Berlin:20260716T123000
DTEND;TZID=Europe/Berlin:20260716T133000
UID:V24730410-20260716T123000@VHSBÖBLINGEN-SINDELFINGEN
SUMMARY:Gesangsunterricht Fortgeschrittene (V24730410) 
LOCATION:GHH, 204, 2.OG, Böblinger Str. 8, 71065 Sindelfingen
END:VEVENT
END:VCALENDAR