BEGIN:VCALENDAR
VERSION:2.0
PRODID:https://www.kufer.de/kuferweb / DE
METHOD:PUBLISH
CALSCALE:GREGORIAN
X-WR-TIMEZONE:Europe/Berlin
BEGIN:VTIMEZONE
TZID:Europe/Berlin
X-LIC-LOCATION:Europe/Berlin
BEGIN:DAYLIGHT
TZOFFSETFROM:+0100
TZOFFSETTO:+0200
TZNAME:CEST
DTSTART:19700329T020000
RRULE:FREQ=YEARLY;INTERVAL=1;BYDAY=-1SU;BYMONTH=3
END:DAYLIGHT
BEGIN:STANDARD
TZOFFSETFROM:+0200
TZOFFSETTO:+0100
TZNAME:CET
DTSTART:19701025T030000
RRULE:FREQ=YEARLY;INTERVAL=1;BYDAY=-1SU;BYMONTH=10
END:STANDARD
END:VTIMEZONE
BEGIN:VEVENT
DTSTAMP:20260420T181806
DTSTART;TZID=Europe/Berlin:20260224T160000
DTEND;TZID=Europe/Berlin:20260224T170000
UID:V24729110-20260224T160000@VHSBÖBLINGEN-SINDELFINGEN
SUMMARY:Gesangsunterricht (V24729110) 
LOCATION:Höfle, 106, 1. OG, Pestalozzistr. 4, 71032 Böblingen
END:VEVENT
BEGIN:VEVENT
DTSTAMP:20260420T181806
DTSTART;TZID=Europe/Berlin:20260303T160000
DTEND;TZID=Europe/Berlin:20260303T170000
UID:V24729110-20260303T160000@VHSBÖBLINGEN-SINDELFINGEN
SUMMARY:Gesangsunterricht (V24729110) 
LOCATION:Höfle, 106, 1. OG, Pestalozzistr. 4, 71032 Böblingen
END:VEVENT
BEGIN:VEVENT
DTSTAMP:20260420T181806
DTSTART;TZID=Europe/Berlin:20260310T160000
DTEND;TZID=Europe/Berlin:20260310T170000
UID:V24729110-20260310T160000@VHSBÖBLINGEN-SINDELFINGEN
SUMMARY:Gesangsunterricht (V24729110) 
LOCATION:Höfle, 106, 1. OG, Pestalozzistr. 4, 71032 Böblingen
END:VEVENT
BEGIN:VEVENT
DTSTAMP:20260420T181806
DTSTART;TZID=Europe/Berlin:20260317T160000
DTEND;TZID=Europe/Berlin:20260317T170000
UID:V24729110-20260317T160000@VHSBÖBLINGEN-SINDELFINGEN
SUMMARY:Gesangsunterricht (V24729110) 
LOCATION:Höfle, 106, 1. OG, Pestalozzistr. 4, 71032 Böblingen
END:VEVENT
BEGIN:VEVENT
DTSTAMP:20260420T181806
DTSTART;TZID=Europe/Berlin:20260324T160000
DTEND;TZID=Europe/Berlin:20260324T170000
UID:V24729110-20260324T160000@VHSBÖBLINGEN-SINDELFINGEN
SUMMARY:Gesangsunterricht (V24729110) 
LOCATION:Höfle, 106, 1. OG, Pestalozzistr. 4, 71032 Böblingen
END:VEVENT
BEGIN:VEVENT
DTSTAMP:20260420T181806
DTSTART;TZID=Europe/Berlin:20260414T160000
DTEND;TZID=Europe/Berlin:20260414T170000
UID:V24729110-20260414T160000@VHSBÖBLINGEN-SINDELFINGEN
SUMMARY:Gesangsunterricht (V24729110) 
LOCATION:Höfle, 106, 1. OG, Pestalozzistr. 4, 71032 Böblingen
END:VEVENT
BEGIN:VEVENT
DTSTAMP:20260420T181806
DTSTART;TZID=Europe/Berlin:20260421T160000
DTEND;TZID=Europe/Berlin:20260421T170000
UID:V24729110-20260421T160000@VHSBÖBLINGEN-SINDELFINGEN
SUMMARY:Gesangsunterricht (V24729110) 
LOCATION:Höfle, 106, 1. OG, Pestalozzistr. 4, 71032 Böblingen
END:VEVENT
BEGIN:VEVENT
DTSTAMP:20260420T181806
DTSTART;TZID=Europe/Berlin:20260428T160000
DTEND;TZID=Europe/Berlin:20260428T170000
UID:V24729110-20260428T160000@VHSBÖBLINGEN-SINDELFINGEN
SUMMARY:Gesangsunterricht (V24729110) 
LOCATION:Höfle, 106, 1. OG, Pestalozzistr. 4, 71032 Böblingen
END:VEVENT
BEGIN:VEVENT
DTSTAMP:20260420T181806
DTSTART;TZID=Europe/Berlin:20260505T160000
DTEND;TZID=Europe/Berlin:20260505T170000
UID:V24729110-20260505T160000@VHSBÖBLINGEN-SINDELFINGEN
SUMMARY:Gesangsunterricht (V24729110) 
LOCATION:Höfle, 106, 1. OG, Pestalozzistr. 4, 71032 Böblingen
END:VEVENT
BEGIN:VEVENT
DTSTAMP:20260420T181806
DTSTART;TZID=Europe/Berlin:20260512T160000
DTEND;TZID=Europe/Berlin:20260512T170000
UID:V24729110-20260512T160000@VHSBÖBLINGEN-SINDELFINGEN
SUMMARY:Gesangsunterricht (V24729110) 
LOCATION:Höfle, 106, 1. OG, Pestalozzistr. 4, 71032 Böblingen
END:VEVENT
BEGIN:VEVENT
DTSTAMP:20260420T181806
DTSTART;TZID=Europe/Berlin:20260519T160000
DTEND;TZID=Europe/Berlin:20260519T170000
UID:V24729110-20260519T160000@VHSBÖBLINGEN-SINDELFINGEN
SUMMARY:Gesangsunterricht (V24729110) 
LOCATION:Höfle, 106, 1. OG, Pestalozzistr. 4, 71032 Böblingen
END:VEVENT
BEGIN:VEVENT
DTSTAMP:20260420T181806
DTSTART;TZID=Europe/Berlin:20260609T160000
DTEND;TZID=Europe/Berlin:20260609T170000
UID:V24729110-20260609T160000@VHSBÖBLINGEN-SINDELFINGEN
SUMMARY:Gesangsunterricht (V24729110) 
LOCATION:Höfle, 106, 1. OG, Pestalozzistr. 4, 71032 Böblingen
END:VEVENT
BEGIN:VEVENT
DTSTAMP:20260420T181806
DTSTART;TZID=Europe/Berlin:20260616T160000
DTEND;TZID=Europe/Berlin:20260616T170000
UID:V24729110-20260616T160000@VHSBÖBLINGEN-SINDELFINGEN
SUMMARY:Gesangsunterricht (V24729110) 
LOCATION:Höfle, 106, 1. OG, Pestalozzistr. 4, 71032 Böblingen
END:VEVENT
BEGIN:VEVENT
DTSTAMP:20260420T181806
DTSTART;TZID=Europe/Berlin:20260623T160000
DTEND;TZID=Europe/Berlin:20260623T170000
UID:V24729110-20260623T160000@VHSBÖBLINGEN-SINDELFINGEN
SUMMARY:Gesangsunterricht (V24729110) 
LOCATION:Höfle, 106, 1. OG, Pestalozzistr. 4, 71032 Böblingen
END:VEVENT
BEGIN:VEVENT
DTSTAMP:20260420T181806
DTSTART;TZID=Europe/Berlin:20260630T160000
DTEND;TZID=Europe/Berlin:20260630T170000
UID:V24729110-20260630T160000@VHSBÖBLINGEN-SINDELFINGEN
SUMMARY:Gesangsunterricht (V24729110) 
LOCATION:Höfle, 106, 1. OG, Pestalozzistr. 4, 71032 Böblingen
END:VEVENT
BEGIN:VEVENT
DTSTAMP:20260420T181806
DTSTART;TZID=Europe/Berlin:20260707T160000
DTEND;TZID=Europe/Berlin:20260707T170000
UID:V24729110-20260707T160000@VHSBÖBLINGEN-SINDELFINGEN
SUMMARY:Gesangsunterricht (V24729110) 
LOCATION:Höfle, 106, 1. OG, Pestalozzistr. 4, 71032 Böblingen
END:VEVENT
BEGIN:VEVENT
DTSTAMP:20260420T181806
DTSTART;TZID=Europe/Berlin:20260714T160000
DTEND;TZID=Europe/Berlin:20260714T170000
UID:V24729110-20260714T160000@VHSBÖBLINGEN-SINDELFINGEN
SUMMARY:Gesangsunterricht (V24729110) 
LOCATION:Höfle, 106, 1. OG, Pestalozzistr. 4, 71032 Böblingen
END:VEVENT
END:VCALENDAR