BEGIN:VCALENDAR
VERSION:2.0
PRODID:https://www.kufer.de/kuferweb / DE
METHOD:PUBLISH
CALSCALE:GREGORIAN
X-WR-TIMEZONE:Europe/Berlin
BEGIN:VTIMEZONE
TZID:Europe/Berlin
X-LIC-LOCATION:Europe/Berlin
BEGIN:DAYLIGHT
TZOFFSETFROM:+0100
TZOFFSETTO:+0200
TZNAME:CEST
DTSTART:19700329T020000
RRULE:FREQ=YEARLY;INTERVAL=1;BYDAY=-1SU;BYMONTH=3
END:DAYLIGHT
BEGIN:STANDARD
TZOFFSETFROM:+0200
TZOFFSETTO:+0100
TZNAME:CET
DTSTART:19701025T030000
RRULE:FREQ=YEARLY;INTERVAL=1;BYDAY=-1SU;BYMONTH=10
END:STANDARD
END:VTIMEZONE
BEGIN:VEVENT
DTSTAMP:20260420T152710
DTSTART;TZID=Europe/Berlin:20260305T105000
DTEND;TZID=Europe/Berlin:20260305T113500
UID:V24680215K-20260305T105000@VHSBÖBLINGEN-SINDELFINGEN
SUMMARY:Musikzwerge - Wir machen Musik für Kleinkinder ab 1,5 Jahre - 3 Jahre (V24680215K) 
LOCATION:EH, Fronäckerschule, Raum 22, Gartenstr. 11, 71139 Ehningen
END:VEVENT
BEGIN:VEVENT
DTSTAMP:20260420T152710
DTSTART;TZID=Europe/Berlin:20260312T105000
DTEND;TZID=Europe/Berlin:20260312T113500
UID:V24680215K-20260312T105000@VHSBÖBLINGEN-SINDELFINGEN
SUMMARY:Musikzwerge - Wir machen Musik für Kleinkinder ab 1,5 Jahre - 3 Jahre (V24680215K) 
LOCATION:EH, Fronäckerschule, Raum 22, Gartenstr. 11, 71139 Ehningen
END:VEVENT
BEGIN:VEVENT
DTSTAMP:20260420T152710
DTSTART;TZID=Europe/Berlin:20260319T105000
DTEND;TZID=Europe/Berlin:20260319T113500
UID:V24680215K-20260319T105000@VHSBÖBLINGEN-SINDELFINGEN
SUMMARY:Musikzwerge - Wir machen Musik für Kleinkinder ab 1,5 Jahre - 3 Jahre (V24680215K) 
LOCATION:EH, Fronäckerschule, Raum 22, Gartenstr. 11, 71139 Ehningen
END:VEVENT
BEGIN:VEVENT
DTSTAMP:20260420T152710
DTSTART;TZID=Europe/Berlin:20260326T105000
DTEND;TZID=Europe/Berlin:20260326T113500
UID:V24680215K-20260326T105000@VHSBÖBLINGEN-SINDELFINGEN
SUMMARY:Musikzwerge - Wir machen Musik für Kleinkinder ab 1,5 Jahre - 3 Jahre (V24680215K) 
LOCATION:EH, Fronäckerschule, Raum 22, Gartenstr. 11, 71139 Ehningen
END:VEVENT
BEGIN:VEVENT
DTSTAMP:20260420T152710
DTSTART;TZID=Europe/Berlin:20260416T105000
DTEND;TZID=Europe/Berlin:20260416T113500
UID:V24680215K-20260416T105000@VHSBÖBLINGEN-SINDELFINGEN
SUMMARY:Musikzwerge - Wir machen Musik für Kleinkinder ab 1,5 Jahre - 3 Jahre (V24680215K) 
LOCATION:EH, Fronäckerschule, Raum 22, Gartenstr. 11, 71139 Ehningen
END:VEVENT
BEGIN:VEVENT
DTSTAMP:20260420T152710
DTSTART;TZID=Europe/Berlin:20260423T105000
DTEND;TZID=Europe/Berlin:20260423T113500
UID:V24680215K-20260423T105000@VHSBÖBLINGEN-SINDELFINGEN
SUMMARY:Musikzwerge - Wir machen Musik für Kleinkinder ab 1,5 Jahre - 3 Jahre (V24680215K) 
LOCATION:EH, Fronäckerschule, Raum 22, Gartenstr. 11, 71139 Ehningen
END:VEVENT
BEGIN:VEVENT
DTSTAMP:20260420T152710
DTSTART;TZID=Europe/Berlin:20260430T105000
DTEND;TZID=Europe/Berlin:20260430T113500
UID:V24680215K-20260430T105000@VHSBÖBLINGEN-SINDELFINGEN
SUMMARY:Musikzwerge - Wir machen Musik für Kleinkinder ab 1,5 Jahre - 3 Jahre (V24680215K) 
LOCATION:EH, Fronäckerschule, Raum 22, Gartenstr. 11, 71139 Ehningen
END:VEVENT
BEGIN:VEVENT
DTSTAMP:20260420T152710
DTSTART;TZID=Europe/Berlin:20260507T105000
DTEND;TZID=Europe/Berlin:20260507T113500
UID:V24680215K-20260507T105000@VHSBÖBLINGEN-SINDELFINGEN
SUMMARY:Musikzwerge - Wir machen Musik für Kleinkinder ab 1,5 Jahre - 3 Jahre (V24680215K) 
LOCATION:EH, Fronäckerschule, Raum 22, Gartenstr. 11, 71139 Ehningen
END:VEVENT
BEGIN:VEVENT
DTSTAMP:20260420T152710
DTSTART;TZID=Europe/Berlin:20260521T105000
DTEND;TZID=Europe/Berlin:20260521T113500
UID:V24680215K-20260521T105000@VHSBÖBLINGEN-SINDELFINGEN
SUMMARY:Musikzwerge - Wir machen Musik für Kleinkinder ab 1,5 Jahre - 3 Jahre (V24680215K) 
LOCATION:EH, Fronäckerschule, Raum 22, Gartenstr. 11, 71139 Ehningen
END:VEVENT
BEGIN:VEVENT
DTSTAMP:20260420T152710
DTSTART;TZID=Europe/Berlin:20260611T105000
DTEND;TZID=Europe/Berlin:20260611T113500
UID:V24680215K-20260611T105000@VHSBÖBLINGEN-SINDELFINGEN
SUMMARY:Musikzwerge - Wir machen Musik für Kleinkinder ab 1,5 Jahre - 3 Jahre (V24680215K) 
LOCATION:EH, Fronäckerschule, Raum 22, Gartenstr. 11, 71139 Ehningen
END:VEVENT
BEGIN:VEVENT
DTSTAMP:20260420T152710
DTSTART;TZID=Europe/Berlin:20260618T105000
DTEND;TZID=Europe/Berlin:20260618T113500
UID:V24680215K-20260618T105000@VHSBÖBLINGEN-SINDELFINGEN
SUMMARY:Musikzwerge - Wir machen Musik für Kleinkinder ab 1,5 Jahre - 3 Jahre (V24680215K) 
LOCATION:EH, Fronäckerschule, Raum 22, Gartenstr. 11, 71139 Ehningen
END:VEVENT
BEGIN:VEVENT
DTSTAMP:20260420T152710
DTSTART;TZID=Europe/Berlin:20260625T105000
DTEND;TZID=Europe/Berlin:20260625T113500
UID:V24680215K-20260625T105000@VHSBÖBLINGEN-SINDELFINGEN
SUMMARY:Musikzwerge - Wir machen Musik für Kleinkinder ab 1,5 Jahre - 3 Jahre (V24680215K) 
LOCATION:EH, Fronäckerschule, Raum 22, Gartenstr. 11, 71139 Ehningen
END:VEVENT
BEGIN:VEVENT
DTSTAMP:20260420T152710
DTSTART;TZID=Europe/Berlin:20260702T105000
DTEND;TZID=Europe/Berlin:20260702T113500
UID:V24680215K-20260702T105000@VHSBÖBLINGEN-SINDELFINGEN
SUMMARY:Musikzwerge - Wir machen Musik für Kleinkinder ab 1,5 Jahre - 3 Jahre (V24680215K) 
LOCATION:EH, Fronäckerschule, Raum 22, Gartenstr. 11, 71139 Ehningen
END:VEVENT
BEGIN:VEVENT
DTSTAMP:20260420T152710
DTSTART;TZID=Europe/Berlin:20260709T105000
DTEND;TZID=Europe/Berlin:20260709T113500
UID:V24680215K-20260709T105000@VHSBÖBLINGEN-SINDELFINGEN
SUMMARY:Musikzwerge - Wir machen Musik für Kleinkinder ab 1,5 Jahre - 3 Jahre (V24680215K) 
LOCATION:EH, Fronäckerschule, Raum 22, Gartenstr. 11, 71139 Ehningen
END:VEVENT
BEGIN:VEVENT
DTSTAMP:20260420T152710
DTSTART;TZID=Europe/Berlin:20260716T105000
DTEND;TZID=Europe/Berlin:20260716T113500
UID:V24680215K-20260716T105000@VHSBÖBLINGEN-SINDELFINGEN
SUMMARY:Musikzwerge - Wir machen Musik für Kleinkinder ab 1,5 Jahre - 3 Jahre (V24680215K) 
LOCATION:EH, Fronäckerschule, Raum 22, Gartenstr. 11, 71139 Ehningen
END:VEVENT
END:VCALENDAR