BEGIN:VCALENDAR
VERSION:2.0
PRODID:https://www.kufer.de/kuferweb / DE
METHOD:PUBLISH
CALSCALE:GREGORIAN
X-WR-TIMEZONE:Europe/Berlin
BEGIN:VTIMEZONE
TZID:Europe/Berlin
X-LIC-LOCATION:Europe/Berlin
BEGIN:DAYLIGHT
TZOFFSETFROM:+0100
TZOFFSETTO:+0200
TZNAME:CEST
DTSTART:19700329T020000
RRULE:FREQ=YEARLY;INTERVAL=1;BYDAY=-1SU;BYMONTH=3
END:DAYLIGHT
BEGIN:STANDARD
TZOFFSETFROM:+0200
TZOFFSETTO:+0100
TZNAME:CET
DTSTART:19701025T030000
RRULE:FREQ=YEARLY;INTERVAL=1;BYDAY=-1SU;BYMONTH=10
END:STANDARD
END:VTIMEZONE
BEGIN:VEVENT
DTSTAMP:20260420T152721
DTSTART;TZID=Europe/Berlin:20260305T090000
DTEND;TZID=Europe/Berlin:20260305T094500
UID:V24680115K-20260305T090000@VHSBÖBLINGEN-SINDELFINGEN
SUMMARY:Musikzwerge für Babys und Kleinkinder von 9 - 17 Monaten (V24680115K) 
LOCATION:EH, Fronäckerschule, Raum 22, Gartenstr. 11, 71139 Ehningen
END:VEVENT
BEGIN:VEVENT
DTSTAMP:20260420T152721
DTSTART;TZID=Europe/Berlin:20260312T090000
DTEND;TZID=Europe/Berlin:20260312T094500
UID:V24680115K-20260312T090000@VHSBÖBLINGEN-SINDELFINGEN
SUMMARY:Musikzwerge für Babys und Kleinkinder von 9 - 17 Monaten (V24680115K) 
LOCATION:EH, Fronäckerschule, Raum 22, Gartenstr. 11, 71139 Ehningen
END:VEVENT
BEGIN:VEVENT
DTSTAMP:20260420T152721
DTSTART;TZID=Europe/Berlin:20260319T090000
DTEND;TZID=Europe/Berlin:20260319T094500
UID:V24680115K-20260319T090000@VHSBÖBLINGEN-SINDELFINGEN
SUMMARY:Musikzwerge für Babys und Kleinkinder von 9 - 17 Monaten (V24680115K) 
LOCATION:EH, Fronäckerschule, Raum 22, Gartenstr. 11, 71139 Ehningen
END:VEVENT
BEGIN:VEVENT
DTSTAMP:20260420T152721
DTSTART;TZID=Europe/Berlin:20260326T090000
DTEND;TZID=Europe/Berlin:20260326T094500
UID:V24680115K-20260326T090000@VHSBÖBLINGEN-SINDELFINGEN
SUMMARY:Musikzwerge für Babys und Kleinkinder von 9 - 17 Monaten (V24680115K) 
LOCATION:EH, Fronäckerschule, Raum 22, Gartenstr. 11, 71139 Ehningen
END:VEVENT
BEGIN:VEVENT
DTSTAMP:20260420T152721
DTSTART;TZID=Europe/Berlin:20260416T090000
DTEND;TZID=Europe/Berlin:20260416T094500
UID:V24680115K-20260416T090000@VHSBÖBLINGEN-SINDELFINGEN
SUMMARY:Musikzwerge für Babys und Kleinkinder von 9 - 17 Monaten (V24680115K) 
LOCATION:EH, Fronäckerschule, Raum 22, Gartenstr. 11, 71139 Ehningen
END:VEVENT
BEGIN:VEVENT
DTSTAMP:20260420T152721
DTSTART;TZID=Europe/Berlin:20260423T090000
DTEND;TZID=Europe/Berlin:20260423T094500
UID:V24680115K-20260423T090000@VHSBÖBLINGEN-SINDELFINGEN
SUMMARY:Musikzwerge für Babys und Kleinkinder von 9 - 17 Monaten (V24680115K) 
LOCATION:EH, Fronäckerschule, Raum 22, Gartenstr. 11, 71139 Ehningen
END:VEVENT
BEGIN:VEVENT
DTSTAMP:20260420T152721
DTSTART;TZID=Europe/Berlin:20260430T090000
DTEND;TZID=Europe/Berlin:20260430T094500
UID:V24680115K-20260430T090000@VHSBÖBLINGEN-SINDELFINGEN
SUMMARY:Musikzwerge für Babys und Kleinkinder von 9 - 17 Monaten (V24680115K) 
LOCATION:EH, Fronäckerschule, Raum 22, Gartenstr. 11, 71139 Ehningen
END:VEVENT
BEGIN:VEVENT
DTSTAMP:20260420T152721
DTSTART;TZID=Europe/Berlin:20260507T090000
DTEND;TZID=Europe/Berlin:20260507T094500
UID:V24680115K-20260507T090000@VHSBÖBLINGEN-SINDELFINGEN
SUMMARY:Musikzwerge für Babys und Kleinkinder von 9 - 17 Monaten (V24680115K) 
LOCATION:EH, Fronäckerschule, Raum 22, Gartenstr. 11, 71139 Ehningen
END:VEVENT
BEGIN:VEVENT
DTSTAMP:20260420T152721
DTSTART;TZID=Europe/Berlin:20260521T090000
DTEND;TZID=Europe/Berlin:20260521T094500
UID:V24680115K-20260521T090000@VHSBÖBLINGEN-SINDELFINGEN
SUMMARY:Musikzwerge für Babys und Kleinkinder von 9 - 17 Monaten (V24680115K) 
LOCATION:EH, Fronäckerschule, Raum 22, Gartenstr. 11, 71139 Ehningen
END:VEVENT
BEGIN:VEVENT
DTSTAMP:20260420T152721
DTSTART;TZID=Europe/Berlin:20260611T090000
DTEND;TZID=Europe/Berlin:20260611T094500
UID:V24680115K-20260611T090000@VHSBÖBLINGEN-SINDELFINGEN
SUMMARY:Musikzwerge für Babys und Kleinkinder von 9 - 17 Monaten (V24680115K) 
LOCATION:EH, Fronäckerschule, Raum 22, Gartenstr. 11, 71139 Ehningen
END:VEVENT
BEGIN:VEVENT
DTSTAMP:20260420T152721
DTSTART;TZID=Europe/Berlin:20260618T090000
DTEND;TZID=Europe/Berlin:20260618T094500
UID:V24680115K-20260618T090000@VHSBÖBLINGEN-SINDELFINGEN
SUMMARY:Musikzwerge für Babys und Kleinkinder von 9 - 17 Monaten (V24680115K) 
LOCATION:EH, Fronäckerschule, Raum 22, Gartenstr. 11, 71139 Ehningen
END:VEVENT
BEGIN:VEVENT
DTSTAMP:20260420T152721
DTSTART;TZID=Europe/Berlin:20260625T090000
DTEND;TZID=Europe/Berlin:20260625T094500
UID:V24680115K-20260625T090000@VHSBÖBLINGEN-SINDELFINGEN
SUMMARY:Musikzwerge für Babys und Kleinkinder von 9 - 17 Monaten (V24680115K) 
LOCATION:EH, Fronäckerschule, Raum 22, Gartenstr. 11, 71139 Ehningen
END:VEVENT
BEGIN:VEVENT
DTSTAMP:20260420T152721
DTSTART;TZID=Europe/Berlin:20260702T090000
DTEND;TZID=Europe/Berlin:20260702T094500
UID:V24680115K-20260702T090000@VHSBÖBLINGEN-SINDELFINGEN
SUMMARY:Musikzwerge für Babys und Kleinkinder von 9 - 17 Monaten (V24680115K) 
LOCATION:EH, Fronäckerschule, Raum 22, Gartenstr. 11, 71139 Ehningen
END:VEVENT
BEGIN:VEVENT
DTSTAMP:20260420T152721
DTSTART;TZID=Europe/Berlin:20260709T090000
DTEND;TZID=Europe/Berlin:20260709T094500
UID:V24680115K-20260709T090000@VHSBÖBLINGEN-SINDELFINGEN
SUMMARY:Musikzwerge für Babys und Kleinkinder von 9 - 17 Monaten (V24680115K) 
LOCATION:EH, Fronäckerschule, Raum 22, Gartenstr. 11, 71139 Ehningen
END:VEVENT
BEGIN:VEVENT
DTSTAMP:20260420T152721
DTSTART;TZID=Europe/Berlin:20260716T090000
DTEND;TZID=Europe/Berlin:20260716T094500
UID:V24680115K-20260716T090000@VHSBÖBLINGEN-SINDELFINGEN
SUMMARY:Musikzwerge für Babys und Kleinkinder von 9 - 17 Monaten (V24680115K) 
LOCATION:EH, Fronäckerschule, Raum 22, Gartenstr. 11, 71139 Ehningen
END:VEVENT
END:VCALENDAR