BEGIN:VCALENDAR
VERSION:2.0
PRODID:https://www.kufer.de/kuferweb / DE
METHOD:PUBLISH
CALSCALE:GREGORIAN
X-WR-TIMEZONE:Europe/Berlin
BEGIN:VTIMEZONE
TZID:Europe/Berlin
X-LIC-LOCATION:Europe/Berlin
BEGIN:DAYLIGHT
TZOFFSETFROM:+0100
TZOFFSETTO:+0200
TZNAME:CEST
DTSTART:19700329T020000
RRULE:FREQ=YEARLY;INTERVAL=1;BYDAY=-1SU;BYMONTH=3
END:DAYLIGHT
BEGIN:STANDARD
TZOFFSETFROM:+0200
TZOFFSETTO:+0100
TZNAME:CET
DTSTART:19701025T030000
RRULE:FREQ=YEARLY;INTERVAL=1;BYDAY=-1SU;BYMONTH=10
END:STANDARD
END:VTIMEZONE
BEGIN:VEVENT
DTSTAMP:20260421T122607
DTSTART;TZID=Europe/Berlin:20260305T095500
DTEND;TZID=Europe/Berlin:20260305T104000
UID:V24680015K-20260305T095500@VHSBÖBLINGEN-SINDELFINGEN
SUMMARY:Musikzwerge für Babys von 3 - 8 Monaten (V24680015K) 
LOCATION:EH, Fronäckerschule, Raum 22, Gartenstr. 11, 71139 Ehningen
END:VEVENT
BEGIN:VEVENT
DTSTAMP:20260421T122607
DTSTART;TZID=Europe/Berlin:20260312T095500
DTEND;TZID=Europe/Berlin:20260312T104000
UID:V24680015K-20260312T095500@VHSBÖBLINGEN-SINDELFINGEN
SUMMARY:Musikzwerge für Babys von 3 - 8 Monaten (V24680015K) 
LOCATION:EH, Fronäckerschule, Raum 22, Gartenstr. 11, 71139 Ehningen
END:VEVENT
BEGIN:VEVENT
DTSTAMP:20260421T122607
DTSTART;TZID=Europe/Berlin:20260319T095500
DTEND;TZID=Europe/Berlin:20260319T104000
UID:V24680015K-20260319T095500@VHSBÖBLINGEN-SINDELFINGEN
SUMMARY:Musikzwerge für Babys von 3 - 8 Monaten (V24680015K) 
LOCATION:EH, Fronäckerschule, Raum 22, Gartenstr. 11, 71139 Ehningen
END:VEVENT
BEGIN:VEVENT
DTSTAMP:20260421T122607
DTSTART;TZID=Europe/Berlin:20260326T095500
DTEND;TZID=Europe/Berlin:20260326T104000
UID:V24680015K-20260326T095500@VHSBÖBLINGEN-SINDELFINGEN
SUMMARY:Musikzwerge für Babys von 3 - 8 Monaten (V24680015K) 
LOCATION:EH, Fronäckerschule, Raum 22, Gartenstr. 11, 71139 Ehningen
END:VEVENT
BEGIN:VEVENT
DTSTAMP:20260421T122607
DTSTART;TZID=Europe/Berlin:20260416T095500
DTEND;TZID=Europe/Berlin:20260416T104000
UID:V24680015K-20260416T095500@VHSBÖBLINGEN-SINDELFINGEN
SUMMARY:Musikzwerge für Babys von 3 - 8 Monaten (V24680015K) 
LOCATION:EH, Fronäckerschule, Raum 22, Gartenstr. 11, 71139 Ehningen
END:VEVENT
BEGIN:VEVENT
DTSTAMP:20260421T122607
DTSTART;TZID=Europe/Berlin:20260423T095500
DTEND;TZID=Europe/Berlin:20260423T104000
UID:V24680015K-20260423T095500@VHSBÖBLINGEN-SINDELFINGEN
SUMMARY:Musikzwerge für Babys von 3 - 8 Monaten (V24680015K) 
LOCATION:EH, Fronäckerschule, Raum 22, Gartenstr. 11, 71139 Ehningen
END:VEVENT
BEGIN:VEVENT
DTSTAMP:20260421T122607
DTSTART;TZID=Europe/Berlin:20260430T095500
DTEND;TZID=Europe/Berlin:20260430T104000
UID:V24680015K-20260430T095500@VHSBÖBLINGEN-SINDELFINGEN
SUMMARY:Musikzwerge für Babys von 3 - 8 Monaten (V24680015K) 
LOCATION:EH, Fronäckerschule, Raum 22, Gartenstr. 11, 71139 Ehningen
END:VEVENT
BEGIN:VEVENT
DTSTAMP:20260421T122607
DTSTART;TZID=Europe/Berlin:20260507T095500
DTEND;TZID=Europe/Berlin:20260507T104000
UID:V24680015K-20260507T095500@VHSBÖBLINGEN-SINDELFINGEN
SUMMARY:Musikzwerge für Babys von 3 - 8 Monaten (V24680015K) 
LOCATION:EH, Fronäckerschule, Raum 22, Gartenstr. 11, 71139 Ehningen
END:VEVENT
BEGIN:VEVENT
DTSTAMP:20260421T122607
DTSTART;TZID=Europe/Berlin:20260521T095500
DTEND;TZID=Europe/Berlin:20260521T104000
UID:V24680015K-20260521T095500@VHSBÖBLINGEN-SINDELFINGEN
SUMMARY:Musikzwerge für Babys von 3 - 8 Monaten (V24680015K) 
LOCATION:EH, Fronäckerschule, Raum 22, Gartenstr. 11, 71139 Ehningen
END:VEVENT
BEGIN:VEVENT
DTSTAMP:20260421T122607
DTSTART;TZID=Europe/Berlin:20260611T095500
DTEND;TZID=Europe/Berlin:20260611T104000
UID:V24680015K-20260611T095500@VHSBÖBLINGEN-SINDELFINGEN
SUMMARY:Musikzwerge für Babys von 3 - 8 Monaten (V24680015K) 
LOCATION:EH, Fronäckerschule, Raum 22, Gartenstr. 11, 71139 Ehningen
END:VEVENT
BEGIN:VEVENT
DTSTAMP:20260421T122607
DTSTART;TZID=Europe/Berlin:20260618T095500
DTEND;TZID=Europe/Berlin:20260618T104000
UID:V24680015K-20260618T095500@VHSBÖBLINGEN-SINDELFINGEN
SUMMARY:Musikzwerge für Babys von 3 - 8 Monaten (V24680015K) 
LOCATION:EH, Fronäckerschule, Raum 22, Gartenstr. 11, 71139 Ehningen
END:VEVENT
BEGIN:VEVENT
DTSTAMP:20260421T122607
DTSTART;TZID=Europe/Berlin:20260625T095500
DTEND;TZID=Europe/Berlin:20260625T104000
UID:V24680015K-20260625T095500@VHSBÖBLINGEN-SINDELFINGEN
SUMMARY:Musikzwerge für Babys von 3 - 8 Monaten (V24680015K) 
LOCATION:EH, Fronäckerschule, Raum 22, Gartenstr. 11, 71139 Ehningen
END:VEVENT
BEGIN:VEVENT
DTSTAMP:20260421T122607
DTSTART;TZID=Europe/Berlin:20260702T095500
DTEND;TZID=Europe/Berlin:20260702T104000
UID:V24680015K-20260702T095500@VHSBÖBLINGEN-SINDELFINGEN
SUMMARY:Musikzwerge für Babys von 3 - 8 Monaten (V24680015K) 
LOCATION:EH, Fronäckerschule, Raum 22, Gartenstr. 11, 71139 Ehningen
END:VEVENT
BEGIN:VEVENT
DTSTAMP:20260421T122607
DTSTART;TZID=Europe/Berlin:20260709T095500
DTEND;TZID=Europe/Berlin:20260709T104000
UID:V24680015K-20260709T095500@VHSBÖBLINGEN-SINDELFINGEN
SUMMARY:Musikzwerge für Babys von 3 - 8 Monaten (V24680015K) 
LOCATION:EH, Fronäckerschule, Raum 22, Gartenstr. 11, 71139 Ehningen
END:VEVENT
BEGIN:VEVENT
DTSTAMP:20260421T122607
DTSTART;TZID=Europe/Berlin:20260716T095500
DTEND;TZID=Europe/Berlin:20260716T104000
UID:V24680015K-20260716T095500@VHSBÖBLINGEN-SINDELFINGEN
SUMMARY:Musikzwerge für Babys von 3 - 8 Monaten (V24680015K) 
LOCATION:EH, Fronäckerschule, Raum 22, Gartenstr. 11, 71139 Ehningen
END:VEVENT
END:VCALENDAR