BEGIN:VCALENDAR
VERSION:2.0
PRODID:https://www.kufer.de/kuferweb / DE
METHOD:PUBLISH
CALSCALE:GREGORIAN
X-WR-TIMEZONE:Europe/Berlin
BEGIN:VTIMEZONE
TZID:Europe/Berlin
X-LIC-LOCATION:Europe/Berlin
BEGIN:DAYLIGHT
TZOFFSETFROM:+0100
TZOFFSETTO:+0200
TZNAME:CEST
DTSTART:19700329T020000
RRULE:FREQ=YEARLY;INTERVAL=1;BYDAY=-1SU;BYMONTH=3
END:DAYLIGHT
BEGIN:STANDARD
TZOFFSETFROM:+0200
TZOFFSETTO:+0100
TZNAME:CET
DTSTART:19701025T030000
RRULE:FREQ=YEARLY;INTERVAL=1;BYDAY=-1SU;BYMONTH=10
END:STANDARD
END:VTIMEZONE
BEGIN:VEVENT
DTSTAMP:20260421T043132
DTSTART;TZID=Europe/Berlin:20260223T172000
DTEND;TZID=Europe/Berlin:20260223T175000
UID:V24656011K-20260223T172000@VHSBÖBLINGEN-SINDELFINGEN
SUMMARY:Blockflöte (V24656011K) 
LOCATION:AI, VHS, Raum 02, Hauptstr. 15, 71134 Aidlingen
END:VEVENT
BEGIN:VEVENT
DTSTAMP:20260421T043132
DTSTART;TZID=Europe/Berlin:20260302T172000
DTEND;TZID=Europe/Berlin:20260302T175000
UID:V24656011K-20260302T172000@VHSBÖBLINGEN-SINDELFINGEN
SUMMARY:Blockflöte (V24656011K) 
LOCATION:AI, VHS, Raum 02, Hauptstr. 15, 71134 Aidlingen
END:VEVENT
BEGIN:VEVENT
DTSTAMP:20260421T043132
DTSTART;TZID=Europe/Berlin:20260309T172000
DTEND;TZID=Europe/Berlin:20260309T175000
UID:V24656011K-20260309T172000@VHSBÖBLINGEN-SINDELFINGEN
SUMMARY:Blockflöte (V24656011K) 
LOCATION:AI, VHS, Raum 02, Hauptstr. 15, 71134 Aidlingen
END:VEVENT
BEGIN:VEVENT
DTSTAMP:20260421T043132
DTSTART;TZID=Europe/Berlin:20260316T172000
DTEND;TZID=Europe/Berlin:20260316T175000
UID:V24656011K-20260316T172000@VHSBÖBLINGEN-SINDELFINGEN
SUMMARY:Blockflöte (V24656011K) 
LOCATION:AI, VHS, Raum 02, Hauptstr. 15, 71134 Aidlingen
END:VEVENT
BEGIN:VEVENT
DTSTAMP:20260421T043132
DTSTART;TZID=Europe/Berlin:20260323T172000
DTEND;TZID=Europe/Berlin:20260323T175000
UID:V24656011K-20260323T172000@VHSBÖBLINGEN-SINDELFINGEN
SUMMARY:Blockflöte (V24656011K) 
LOCATION:AI, VHS, Raum 02, Hauptstr. 15, 71134 Aidlingen
END:VEVENT
BEGIN:VEVENT
DTSTAMP:20260421T043132
DTSTART;TZID=Europe/Berlin:20260413T172000
DTEND;TZID=Europe/Berlin:20260413T175000
UID:V24656011K-20260413T172000@VHSBÖBLINGEN-SINDELFINGEN
SUMMARY:Blockflöte (V24656011K) 
LOCATION:AI, VHS, Raum 02, Hauptstr. 15, 71134 Aidlingen
END:VEVENT
BEGIN:VEVENT
DTSTAMP:20260421T043132
DTSTART;TZID=Europe/Berlin:20260420T172000
DTEND;TZID=Europe/Berlin:20260420T175000
UID:V24656011K-20260420T172000@VHSBÖBLINGEN-SINDELFINGEN
SUMMARY:Blockflöte (V24656011K) 
LOCATION:AI, VHS, Raum 02, Hauptstr. 15, 71134 Aidlingen
END:VEVENT
BEGIN:VEVENT
DTSTAMP:20260421T043132
DTSTART;TZID=Europe/Berlin:20260427T172000
DTEND;TZID=Europe/Berlin:20260427T175000
UID:V24656011K-20260427T172000@VHSBÖBLINGEN-SINDELFINGEN
SUMMARY:Blockflöte (V24656011K) 
LOCATION:AI, VHS, Raum 02, Hauptstr. 15, 71134 Aidlingen
END:VEVENT
BEGIN:VEVENT
DTSTAMP:20260421T043132
DTSTART;TZID=Europe/Berlin:20260504T172000
DTEND;TZID=Europe/Berlin:20260504T175000
UID:V24656011K-20260504T172000@VHSBÖBLINGEN-SINDELFINGEN
SUMMARY:Blockflöte (V24656011K) 
LOCATION:AI, VHS, Raum 02, Hauptstr. 15, 71134 Aidlingen
END:VEVENT
BEGIN:VEVENT
DTSTAMP:20260421T043132
DTSTART;TZID=Europe/Berlin:20260511T172000
DTEND;TZID=Europe/Berlin:20260511T175000
UID:V24656011K-20260511T172000@VHSBÖBLINGEN-SINDELFINGEN
SUMMARY:Blockflöte (V24656011K) 
LOCATION:AI, VHS, Raum 02, Hauptstr. 15, 71134 Aidlingen
END:VEVENT
BEGIN:VEVENT
DTSTAMP:20260421T043132
DTSTART;TZID=Europe/Berlin:20260608T172000
DTEND;TZID=Europe/Berlin:20260608T175000
UID:V24656011K-20260608T172000@VHSBÖBLINGEN-SINDELFINGEN
SUMMARY:Blockflöte (V24656011K) 
LOCATION:AI, VHS, Raum 02, Hauptstr. 15, 71134 Aidlingen
END:VEVENT
BEGIN:VEVENT
DTSTAMP:20260421T043132
DTSTART;TZID=Europe/Berlin:20260615T172000
DTEND;TZID=Europe/Berlin:20260615T175000
UID:V24656011K-20260615T172000@VHSBÖBLINGEN-SINDELFINGEN
SUMMARY:Blockflöte (V24656011K) 
LOCATION:AI, VHS, Raum 02, Hauptstr. 15, 71134 Aidlingen
END:VEVENT
BEGIN:VEVENT
DTSTAMP:20260421T043132
DTSTART;TZID=Europe/Berlin:20260622T172000
DTEND;TZID=Europe/Berlin:20260622T175000
UID:V24656011K-20260622T172000@VHSBÖBLINGEN-SINDELFINGEN
SUMMARY:Blockflöte (V24656011K) 
LOCATION:AI, VHS, Raum 02, Hauptstr. 15, 71134 Aidlingen
END:VEVENT
BEGIN:VEVENT
DTSTAMP:20260421T043132
DTSTART;TZID=Europe/Berlin:20260629T172000
DTEND;TZID=Europe/Berlin:20260629T175000
UID:V24656011K-20260629T172000@VHSBÖBLINGEN-SINDELFINGEN
SUMMARY:Blockflöte (V24656011K) 
LOCATION:AI, VHS, Raum 02, Hauptstr. 15, 71134 Aidlingen
END:VEVENT
BEGIN:VEVENT
DTSTAMP:20260421T043132
DTSTART;TZID=Europe/Berlin:20260706T172000
DTEND;TZID=Europe/Berlin:20260706T175000
UID:V24656011K-20260706T172000@VHSBÖBLINGEN-SINDELFINGEN
SUMMARY:Blockflöte (V24656011K) 
LOCATION:AI, VHS, Raum 02, Hauptstr. 15, 71134 Aidlingen
END:VEVENT
BEGIN:VEVENT
DTSTAMP:20260421T043132
DTSTART;TZID=Europe/Berlin:20260713T172000
DTEND;TZID=Europe/Berlin:20260713T175000
UID:V24656011K-20260713T172000@VHSBÖBLINGEN-SINDELFINGEN
DESCRIPTION:Ersatz 13.07. für 18.05.
SUMMARY:Blockflöte (V24656011K) 
LOCATION:AI, VHS, Raum 02, Hauptstr. 15, 71134 Aidlingen
END:VEVENT
END:VCALENDAR