BEGIN:VCALENDAR
VERSION:2.0
PRODID:https://www.kufer.de/kuferweb / DE
METHOD:PUBLISH
CALSCALE:GREGORIAN
X-WR-TIMEZONE:Europe/Berlin
BEGIN:VTIMEZONE
TZID:Europe/Berlin
X-LIC-LOCATION:Europe/Berlin
BEGIN:DAYLIGHT
TZOFFSETFROM:+0100
TZOFFSETTO:+0200
TZNAME:CEST
DTSTART:19700329T020000
RRULE:FREQ=YEARLY;INTERVAL=1;BYDAY=-1SU;BYMONTH=3
END:DAYLIGHT
BEGIN:STANDARD
TZOFFSETFROM:+0200
TZOFFSETTO:+0100
TZNAME:CET
DTSTART:19701025T030000
RRULE:FREQ=YEARLY;INTERVAL=1;BYDAY=-1SU;BYMONTH=10
END:STANDARD
END:VTIMEZONE
BEGIN:VEVENT
DTSTAMP:20260421T043315
DTSTART;TZID=Europe/Berlin:20260223T162000
DTEND;TZID=Europe/Berlin:20260223T165000
UID:V24654011K-20260223T162000@VHSBÖBLINGEN-SINDELFINGEN
SUMMARY:Blockflöte  Anfängerinnen, Anfänger bis Fortgeschrittene (V24654011K) 
LOCATION:AI, VHS, Raum 02, Hauptstr. 15, 71134 Aidlingen
END:VEVENT
BEGIN:VEVENT
DTSTAMP:20260421T043315
DTSTART;TZID=Europe/Berlin:20260302T162000
DTEND;TZID=Europe/Berlin:20260302T165000
UID:V24654011K-20260302T162000@VHSBÖBLINGEN-SINDELFINGEN
SUMMARY:Blockflöte  Anfängerinnen, Anfänger bis Fortgeschrittene (V24654011K) 
LOCATION:AI, VHS, Raum 02, Hauptstr. 15, 71134 Aidlingen
END:VEVENT
BEGIN:VEVENT
DTSTAMP:20260421T043315
DTSTART;TZID=Europe/Berlin:20260309T162000
DTEND;TZID=Europe/Berlin:20260309T165000
UID:V24654011K-20260309T162000@VHSBÖBLINGEN-SINDELFINGEN
SUMMARY:Blockflöte  Anfängerinnen, Anfänger bis Fortgeschrittene (V24654011K) 
LOCATION:AI, VHS, Raum 02, Hauptstr. 15, 71134 Aidlingen
END:VEVENT
BEGIN:VEVENT
DTSTAMP:20260421T043315
DTSTART;TZID=Europe/Berlin:20260316T162000
DTEND;TZID=Europe/Berlin:20260316T165000
UID:V24654011K-20260316T162000@VHSBÖBLINGEN-SINDELFINGEN
SUMMARY:Blockflöte  Anfängerinnen, Anfänger bis Fortgeschrittene (V24654011K) 
LOCATION:AI, VHS, Raum 02, Hauptstr. 15, 71134 Aidlingen
END:VEVENT
BEGIN:VEVENT
DTSTAMP:20260421T043315
DTSTART;TZID=Europe/Berlin:20260323T162000
DTEND;TZID=Europe/Berlin:20260323T165000
UID:V24654011K-20260323T162000@VHSBÖBLINGEN-SINDELFINGEN
SUMMARY:Blockflöte  Anfängerinnen, Anfänger bis Fortgeschrittene (V24654011K) 
LOCATION:AI, VHS, Raum 02, Hauptstr. 15, 71134 Aidlingen
END:VEVENT
BEGIN:VEVENT
DTSTAMP:20260421T043315
DTSTART;TZID=Europe/Berlin:20260413T162000
DTEND;TZID=Europe/Berlin:20260413T165000
UID:V24654011K-20260413T162000@VHSBÖBLINGEN-SINDELFINGEN
SUMMARY:Blockflöte  Anfängerinnen, Anfänger bis Fortgeschrittene (V24654011K) 
LOCATION:AI, VHS, Raum 02, Hauptstr. 15, 71134 Aidlingen
END:VEVENT
BEGIN:VEVENT
DTSTAMP:20260421T043315
DTSTART;TZID=Europe/Berlin:20260420T162000
DTEND;TZID=Europe/Berlin:20260420T165000
UID:V24654011K-20260420T162000@VHSBÖBLINGEN-SINDELFINGEN
SUMMARY:Blockflöte  Anfängerinnen, Anfänger bis Fortgeschrittene (V24654011K) 
LOCATION:AI, VHS, Raum 02, Hauptstr. 15, 71134 Aidlingen
END:VEVENT
BEGIN:VEVENT
DTSTAMP:20260421T043315
DTSTART;TZID=Europe/Berlin:20260427T162000
DTEND;TZID=Europe/Berlin:20260427T165000
UID:V24654011K-20260427T162000@VHSBÖBLINGEN-SINDELFINGEN
SUMMARY:Blockflöte  Anfängerinnen, Anfänger bis Fortgeschrittene (V24654011K) 
LOCATION:AI, VHS, Raum 02, Hauptstr. 15, 71134 Aidlingen
END:VEVENT
BEGIN:VEVENT
DTSTAMP:20260421T043315
DTSTART;TZID=Europe/Berlin:20260504T162000
DTEND;TZID=Europe/Berlin:20260504T165000
UID:V24654011K-20260504T162000@VHSBÖBLINGEN-SINDELFINGEN
SUMMARY:Blockflöte  Anfängerinnen, Anfänger bis Fortgeschrittene (V24654011K) 
LOCATION:AI, VHS, Raum 02, Hauptstr. 15, 71134 Aidlingen
END:VEVENT
BEGIN:VEVENT
DTSTAMP:20260421T043315
DTSTART;TZID=Europe/Berlin:20260511T162000
DTEND;TZID=Europe/Berlin:20260511T165000
UID:V24654011K-20260511T162000@VHSBÖBLINGEN-SINDELFINGEN
SUMMARY:Blockflöte  Anfängerinnen, Anfänger bis Fortgeschrittene (V24654011K) 
LOCATION:AI, VHS, Raum 02, Hauptstr. 15, 71134 Aidlingen
END:VEVENT
BEGIN:VEVENT
DTSTAMP:20260421T043315
DTSTART;TZID=Europe/Berlin:20260608T162000
DTEND;TZID=Europe/Berlin:20260608T165000
UID:V24654011K-20260608T162000@VHSBÖBLINGEN-SINDELFINGEN
SUMMARY:Blockflöte  Anfängerinnen, Anfänger bis Fortgeschrittene (V24654011K) 
LOCATION:AI, VHS, Raum 02, Hauptstr. 15, 71134 Aidlingen
END:VEVENT
BEGIN:VEVENT
DTSTAMP:20260421T043315
DTSTART;TZID=Europe/Berlin:20260615T162000
DTEND;TZID=Europe/Berlin:20260615T165000
UID:V24654011K-20260615T162000@VHSBÖBLINGEN-SINDELFINGEN
SUMMARY:Blockflöte  Anfängerinnen, Anfänger bis Fortgeschrittene (V24654011K) 
LOCATION:AI, VHS, Raum 02, Hauptstr. 15, 71134 Aidlingen
END:VEVENT
BEGIN:VEVENT
DTSTAMP:20260421T043315
DTSTART;TZID=Europe/Berlin:20260622T162000
DTEND;TZID=Europe/Berlin:20260622T165000
UID:V24654011K-20260622T162000@VHSBÖBLINGEN-SINDELFINGEN
SUMMARY:Blockflöte  Anfängerinnen, Anfänger bis Fortgeschrittene (V24654011K) 
LOCATION:AI, VHS, Raum 02, Hauptstr. 15, 71134 Aidlingen
END:VEVENT
BEGIN:VEVENT
DTSTAMP:20260421T043315
DTSTART;TZID=Europe/Berlin:20260629T162000
DTEND;TZID=Europe/Berlin:20260629T165000
UID:V24654011K-20260629T162000@VHSBÖBLINGEN-SINDELFINGEN
SUMMARY:Blockflöte  Anfängerinnen, Anfänger bis Fortgeschrittene (V24654011K) 
LOCATION:AI, VHS, Raum 02, Hauptstr. 15, 71134 Aidlingen
END:VEVENT
BEGIN:VEVENT
DTSTAMP:20260421T043315
DTSTART;TZID=Europe/Berlin:20260706T162000
DTEND;TZID=Europe/Berlin:20260706T165000
UID:V24654011K-20260706T162000@VHSBÖBLINGEN-SINDELFINGEN
SUMMARY:Blockflöte  Anfängerinnen, Anfänger bis Fortgeschrittene (V24654011K) 
LOCATION:AI, VHS, Raum 02, Hauptstr. 15, 71134 Aidlingen
END:VEVENT
BEGIN:VEVENT
DTSTAMP:20260421T043315
DTSTART;TZID=Europe/Berlin:20260713T162000
DTEND;TZID=Europe/Berlin:20260713T165000
UID:V24654011K-20260713T162000@VHSBÖBLINGEN-SINDELFINGEN
DESCRIPTION:Ersatz 13.07. für 18.05.
SUMMARY:Blockflöte  Anfängerinnen, Anfänger bis Fortgeschrittene (V24654011K) 
LOCATION:AI, VHS, Raum 02, Hauptstr. 15, 71134 Aidlingen
END:VEVENT
END:VCALENDAR