BEGIN:VCALENDAR
VERSION:2.0
PRODID:https://www.kufer.de/kuferweb / DE
METHOD:PUBLISH
CALSCALE:GREGORIAN
X-WR-TIMEZONE:Europe/Berlin
BEGIN:VTIMEZONE
TZID:Europe/Berlin
X-LIC-LOCATION:Europe/Berlin
BEGIN:DAYLIGHT
TZOFFSETFROM:+0100
TZOFFSETTO:+0200
TZNAME:CEST
DTSTART:19700329T020000
RRULE:FREQ=YEARLY;INTERVAL=1;BYDAY=-1SU;BYMONTH=3
END:DAYLIGHT
BEGIN:STANDARD
TZOFFSETFROM:+0200
TZOFFSETTO:+0100
TZNAME:CET
DTSTART:19701025T030000
RRULE:FREQ=YEARLY;INTERVAL=1;BYDAY=-1SU;BYMONTH=10
END:STANDARD
END:VTIMEZONE
BEGIN:VEVENT
DTSTAMP:20260420T183459
DTSTART;TZID=Europe/Berlin:20260223T143000
DTEND;TZID=Europe/Berlin:20260223T144500
UID:V24651011K-20260223T143000@VHSBÖBLINGEN-SINDELFINGEN
SUMMARY:Blockflöte (V24651011K) 
LOCATION:AI, VHS, Raum 02, Hauptstr. 15, 71134 Aidlingen
END:VEVENT
BEGIN:VEVENT
DTSTAMP:20260420T183459
DTSTART;TZID=Europe/Berlin:20260302T143000
DTEND;TZID=Europe/Berlin:20260302T144500
UID:V24651011K-20260302T143000@VHSBÖBLINGEN-SINDELFINGEN
SUMMARY:Blockflöte (V24651011K) 
LOCATION:AI, VHS, Raum 02, Hauptstr. 15, 71134 Aidlingen
END:VEVENT
BEGIN:VEVENT
DTSTAMP:20260420T183459
DTSTART;TZID=Europe/Berlin:20260309T143000
DTEND;TZID=Europe/Berlin:20260309T144500
UID:V24651011K-20260309T143000@VHSBÖBLINGEN-SINDELFINGEN
SUMMARY:Blockflöte (V24651011K) 
LOCATION:AI, VHS, Raum 02, Hauptstr. 15, 71134 Aidlingen
END:VEVENT
BEGIN:VEVENT
DTSTAMP:20260420T183459
DTSTART;TZID=Europe/Berlin:20260316T143000
DTEND;TZID=Europe/Berlin:20260316T144500
UID:V24651011K-20260316T143000@VHSBÖBLINGEN-SINDELFINGEN
SUMMARY:Blockflöte (V24651011K) 
LOCATION:AI, VHS, Raum 02, Hauptstr. 15, 71134 Aidlingen
END:VEVENT
BEGIN:VEVENT
DTSTAMP:20260420T183459
DTSTART;TZID=Europe/Berlin:20260323T143000
DTEND;TZID=Europe/Berlin:20260323T144500
UID:V24651011K-20260323T143000@VHSBÖBLINGEN-SINDELFINGEN
SUMMARY:Blockflöte (V24651011K) 
LOCATION:AI, VHS, Raum 02, Hauptstr. 15, 71134 Aidlingen
END:VEVENT
BEGIN:VEVENT
DTSTAMP:20260420T183459
DTSTART;TZID=Europe/Berlin:20260413T143000
DTEND;TZID=Europe/Berlin:20260413T144500
UID:V24651011K-20260413T143000@VHSBÖBLINGEN-SINDELFINGEN
SUMMARY:Blockflöte (V24651011K) 
LOCATION:AI, VHS, Raum 02, Hauptstr. 15, 71134 Aidlingen
END:VEVENT
BEGIN:VEVENT
DTSTAMP:20260420T183459
DTSTART;TZID=Europe/Berlin:20260420T143000
DTEND;TZID=Europe/Berlin:20260420T144500
UID:V24651011K-20260420T143000@VHSBÖBLINGEN-SINDELFINGEN
SUMMARY:Blockflöte (V24651011K) 
LOCATION:AI, VHS, Raum 02, Hauptstr. 15, 71134 Aidlingen
END:VEVENT
BEGIN:VEVENT
DTSTAMP:20260420T183459
DTSTART;TZID=Europe/Berlin:20260427T143000
DTEND;TZID=Europe/Berlin:20260427T144500
UID:V24651011K-20260427T143000@VHSBÖBLINGEN-SINDELFINGEN
SUMMARY:Blockflöte (V24651011K) 
LOCATION:AI, VHS, Raum 02, Hauptstr. 15, 71134 Aidlingen
END:VEVENT
BEGIN:VEVENT
DTSTAMP:20260420T183459
DTSTART;TZID=Europe/Berlin:20260504T143000
DTEND;TZID=Europe/Berlin:20260504T144500
UID:V24651011K-20260504T143000@VHSBÖBLINGEN-SINDELFINGEN
SUMMARY:Blockflöte (V24651011K) 
LOCATION:AI, VHS, Raum 02, Hauptstr. 15, 71134 Aidlingen
END:VEVENT
BEGIN:VEVENT
DTSTAMP:20260420T183459
DTSTART;TZID=Europe/Berlin:20260511T143000
DTEND;TZID=Europe/Berlin:20260511T144500
UID:V24651011K-20260511T143000@VHSBÖBLINGEN-SINDELFINGEN
SUMMARY:Blockflöte (V24651011K) 
LOCATION:AI, VHS, Raum 02, Hauptstr. 15, 71134 Aidlingen
END:VEVENT
BEGIN:VEVENT
DTSTAMP:20260420T183459
DTSTART;TZID=Europe/Berlin:20260608T143000
DTEND;TZID=Europe/Berlin:20260608T144500
UID:V24651011K-20260608T143000@VHSBÖBLINGEN-SINDELFINGEN
SUMMARY:Blockflöte (V24651011K) 
LOCATION:AI, VHS, Raum 02, Hauptstr. 15, 71134 Aidlingen
END:VEVENT
BEGIN:VEVENT
DTSTAMP:20260420T183459
DTSTART;TZID=Europe/Berlin:20260615T143000
DTEND;TZID=Europe/Berlin:20260615T144500
UID:V24651011K-20260615T143000@VHSBÖBLINGEN-SINDELFINGEN
SUMMARY:Blockflöte (V24651011K) 
LOCATION:AI, VHS, Raum 02, Hauptstr. 15, 71134 Aidlingen
END:VEVENT
BEGIN:VEVENT
DTSTAMP:20260420T183459
DTSTART;TZID=Europe/Berlin:20260622T143000
DTEND;TZID=Europe/Berlin:20260622T144500
UID:V24651011K-20260622T143000@VHSBÖBLINGEN-SINDELFINGEN
SUMMARY:Blockflöte (V24651011K) 
LOCATION:AI, VHS, Raum 02, Hauptstr. 15, 71134 Aidlingen
END:VEVENT
BEGIN:VEVENT
DTSTAMP:20260420T183459
DTSTART;TZID=Europe/Berlin:20260629T143000
DTEND;TZID=Europe/Berlin:20260629T144500
UID:V24651011K-20260629T143000@VHSBÖBLINGEN-SINDELFINGEN
SUMMARY:Blockflöte (V24651011K) 
LOCATION:AI, VHS, Raum 02, Hauptstr. 15, 71134 Aidlingen
END:VEVENT
BEGIN:VEVENT
DTSTAMP:20260420T183459
DTSTART;TZID=Europe/Berlin:20260706T143000
DTEND;TZID=Europe/Berlin:20260706T144500
UID:V24651011K-20260706T143000@VHSBÖBLINGEN-SINDELFINGEN
SUMMARY:Blockflöte (V24651011K) 
LOCATION:AI, VHS, Raum 02, Hauptstr. 15, 71134 Aidlingen
END:VEVENT
BEGIN:VEVENT
DTSTAMP:20260420T183459
DTSTART;TZID=Europe/Berlin:20260713T143000
DTEND;TZID=Europe/Berlin:20260713T144500
UID:V24651011K-20260713T143000@VHSBÖBLINGEN-SINDELFINGEN
DESCRIPTION:Ersatz 13.07. für 18.05.
SUMMARY:Blockflöte (V24651011K) 
LOCATION:AI, VHS, Raum 02, Hauptstr. 15, 71134 Aidlingen
END:VEVENT
END:VCALENDAR