BEGIN:VCALENDAR
VERSION:2.0
PRODID:https://www.kufer.de/kuferweb / DE
METHOD:PUBLISH
CALSCALE:GREGORIAN
X-WR-TIMEZONE:Europe/Berlin
BEGIN:VTIMEZONE
TZID:Europe/Berlin
X-LIC-LOCATION:Europe/Berlin
BEGIN:DAYLIGHT
TZOFFSETFROM:+0100
TZOFFSETTO:+0200
TZNAME:CEST
DTSTART:19700329T020000
RRULE:FREQ=YEARLY;INTERVAL=1;BYDAY=-1SU;BYMONTH=3
END:DAYLIGHT
BEGIN:STANDARD
TZOFFSETFROM:+0200
TZOFFSETTO:+0100
TZNAME:CET
DTSTART:19701025T030000
RRULE:FREQ=YEARLY;INTERVAL=1;BYDAY=-1SU;BYMONTH=10
END:STANDARD
END:VTIMEZONE
BEGIN:VEVENT
DTSTAMP:20260421T043220
DTSTART;TZID=Europe/Berlin:20260227T090000
DTEND;TZID=Europe/Berlin:20260227T094500
UID:V24650111K-20260227T090000@VHSBÖBLINGEN-SINDELFINGEN
SUMMARY:Musikalische Früherziehung (Aidlingen-Dachtel) (V24650111K) 
LOCATION:AI, Paul-Wirth-Bürgerhaus, Vereinsraum, Vogelsangstraße 20, 71134 Aidlingen-Dachtel
END:VEVENT
BEGIN:VEVENT
DTSTAMP:20260421T043220
DTSTART;TZID=Europe/Berlin:20260306T090000
DTEND;TZID=Europe/Berlin:20260306T094500
UID:V24650111K-20260306T090000@VHSBÖBLINGEN-SINDELFINGEN
SUMMARY:Musikalische Früherziehung (Aidlingen-Dachtel) (V24650111K) 
LOCATION:AI, Paul-Wirth-Bürgerhaus, Vereinsraum, Vogelsangstraße 20, 71134 Aidlingen-Dachtel
END:VEVENT
BEGIN:VEVENT
DTSTAMP:20260421T043220
DTSTART;TZID=Europe/Berlin:20260313T090000
DTEND;TZID=Europe/Berlin:20260313T094500
UID:V24650111K-20260313T090000@VHSBÖBLINGEN-SINDELFINGEN
SUMMARY:Musikalische Früherziehung (Aidlingen-Dachtel) (V24650111K) 
LOCATION:AI, Paul-Wirth-Bürgerhaus, Vereinsraum, Vogelsangstraße 20, 71134 Aidlingen-Dachtel
END:VEVENT
BEGIN:VEVENT
DTSTAMP:20260421T043220
DTSTART;TZID=Europe/Berlin:20260320T090000
DTEND;TZID=Europe/Berlin:20260320T094500
UID:V24650111K-20260320T090000@VHSBÖBLINGEN-SINDELFINGEN
SUMMARY:Musikalische Früherziehung (Aidlingen-Dachtel) (V24650111K) 
LOCATION:AI, Paul-Wirth-Bürgerhaus, Vereinsraum, Vogelsangstraße 20, 71134 Aidlingen-Dachtel
END:VEVENT
BEGIN:VEVENT
DTSTAMP:20260421T043220
DTSTART;TZID=Europe/Berlin:20260327T090000
DTEND;TZID=Europe/Berlin:20260327T094500
UID:V24650111K-20260327T090000@VHSBÖBLINGEN-SINDELFINGEN
SUMMARY:Musikalische Früherziehung (Aidlingen-Dachtel) (V24650111K) 
LOCATION:AI, Paul-Wirth-Bürgerhaus, Vereinsraum, Vogelsangstraße 20, 71134 Aidlingen-Dachtel
END:VEVENT
BEGIN:VEVENT
DTSTAMP:20260421T043220
DTSTART;TZID=Europe/Berlin:20260417T090000
DTEND;TZID=Europe/Berlin:20260417T094500
UID:V24650111K-20260417T090000@VHSBÖBLINGEN-SINDELFINGEN
SUMMARY:Musikalische Früherziehung (Aidlingen-Dachtel) (V24650111K) 
LOCATION:AI, Paul-Wirth-Bürgerhaus, Vereinsraum, Vogelsangstraße 20, 71134 Aidlingen-Dachtel
END:VEVENT
BEGIN:VEVENT
DTSTAMP:20260421T043220
DTSTART;TZID=Europe/Berlin:20260424T090000
DTEND;TZID=Europe/Berlin:20260424T094500
UID:V24650111K-20260424T090000@VHSBÖBLINGEN-SINDELFINGEN
SUMMARY:Musikalische Früherziehung (Aidlingen-Dachtel) (V24650111K) 
LOCATION:AI, Paul-Wirth-Bürgerhaus, Vereinsraum, Vogelsangstraße 20, 71134 Aidlingen-Dachtel
END:VEVENT
BEGIN:VEVENT
DTSTAMP:20260421T043220
DTSTART;TZID=Europe/Berlin:20260508T090000
DTEND;TZID=Europe/Berlin:20260508T094500
UID:V24650111K-20260508T090000@VHSBÖBLINGEN-SINDELFINGEN
SUMMARY:Musikalische Früherziehung (Aidlingen-Dachtel) (V24650111K) 
LOCATION:AI, Paul-Wirth-Bürgerhaus, Vereinsraum, Vogelsangstraße 20, 71134 Aidlingen-Dachtel
END:VEVENT
BEGIN:VEVENT
DTSTAMP:20260421T043220
DTSTART;TZID=Europe/Berlin:20260522T090000
DTEND;TZID=Europe/Berlin:20260522T094500
UID:V24650111K-20260522T090000@VHSBÖBLINGEN-SINDELFINGEN
SUMMARY:Musikalische Früherziehung (Aidlingen-Dachtel) (V24650111K) 
LOCATION:AI, Paul-Wirth-Bürgerhaus, Vereinsraum, Vogelsangstraße 20, 71134 Aidlingen-Dachtel
END:VEVENT
BEGIN:VEVENT
DTSTAMP:20260421T043220
DTSTART;TZID=Europe/Berlin:20260612T090000
DTEND;TZID=Europe/Berlin:20260612T094500
UID:V24650111K-20260612T090000@VHSBÖBLINGEN-SINDELFINGEN
SUMMARY:Musikalische Früherziehung (Aidlingen-Dachtel) (V24650111K) 
LOCATION:AI, Paul-Wirth-Bürgerhaus, Vereinsraum, Vogelsangstraße 20, 71134 Aidlingen-Dachtel
END:VEVENT
BEGIN:VEVENT
DTSTAMP:20260421T043220
DTSTART;TZID=Europe/Berlin:20260619T090000
DTEND;TZID=Europe/Berlin:20260619T094500
UID:V24650111K-20260619T090000@VHSBÖBLINGEN-SINDELFINGEN
SUMMARY:Musikalische Früherziehung (Aidlingen-Dachtel) (V24650111K) 
LOCATION:AI, Paul-Wirth-Bürgerhaus, Vereinsraum, Vogelsangstraße 20, 71134 Aidlingen-Dachtel
END:VEVENT
BEGIN:VEVENT
DTSTAMP:20260421T043220
DTSTART;TZID=Europe/Berlin:20260626T090000
DTEND;TZID=Europe/Berlin:20260626T094500
UID:V24650111K-20260626T090000@VHSBÖBLINGEN-SINDELFINGEN
SUMMARY:Musikalische Früherziehung (Aidlingen-Dachtel) (V24650111K) 
LOCATION:AI, Paul-Wirth-Bürgerhaus, Vereinsraum, Vogelsangstraße 20, 71134 Aidlingen-Dachtel
END:VEVENT
BEGIN:VEVENT
DTSTAMP:20260421T043220
DTSTART;TZID=Europe/Berlin:20260703T090000
DTEND;TZID=Europe/Berlin:20260703T094500
UID:V24650111K-20260703T090000@VHSBÖBLINGEN-SINDELFINGEN
SUMMARY:Musikalische Früherziehung (Aidlingen-Dachtel) (V24650111K) 
LOCATION:AI, Paul-Wirth-Bürgerhaus, Vereinsraum, Vogelsangstraße 20, 71134 Aidlingen-Dachtel
END:VEVENT
BEGIN:VEVENT
DTSTAMP:20260421T043220
DTSTART;TZID=Europe/Berlin:20260710T090000
DTEND;TZID=Europe/Berlin:20260710T094500
UID:V24650111K-20260710T090000@VHSBÖBLINGEN-SINDELFINGEN
SUMMARY:Musikalische Früherziehung (Aidlingen-Dachtel) (V24650111K) 
LOCATION:AI, Paul-Wirth-Bürgerhaus, Vereinsraum, Vogelsangstraße 20, 71134 Aidlingen-Dachtel
END:VEVENT
BEGIN:VEVENT
DTSTAMP:20260421T043220
DTSTART;TZID=Europe/Berlin:20260717T090000
DTEND;TZID=Europe/Berlin:20260717T094500
UID:V24650111K-20260717T090000@VHSBÖBLINGEN-SINDELFINGEN
SUMMARY:Musikalische Früherziehung (Aidlingen-Dachtel) (V24650111K) 
LOCATION:AI, Paul-Wirth-Bürgerhaus, Vereinsraum, Vogelsangstraße 20, 71134 Aidlingen-Dachtel
END:VEVENT
END:VCALENDAR