BEGIN:VCALENDAR
VERSION:2.0
PRODID:https://www.kufer.de/kuferweb / DE
METHOD:PUBLISH
CALSCALE:GREGORIAN
X-WR-TIMEZONE:Europe/Berlin
BEGIN:VTIMEZONE
TZID:Europe/Berlin
X-LIC-LOCATION:Europe/Berlin
BEGIN:DAYLIGHT
TZOFFSETFROM:+0100
TZOFFSETTO:+0200
TZNAME:CEST
DTSTART:19700329T020000
RRULE:FREQ=YEARLY;INTERVAL=1;BYDAY=-1SU;BYMONTH=3
END:DAYLIGHT
BEGIN:STANDARD
TZOFFSETFROM:+0200
TZOFFSETTO:+0100
TZNAME:CET
DTSTART:19701025T030000
RRULE:FREQ=YEARLY;INTERVAL=1;BYDAY=-1SU;BYMONTH=10
END:STANDARD
END:VTIMEZONE
BEGIN:VEVENT
DTSTAMP:20260421T063547
DTSTART;TZID=Europe/Berlin:20260327T180000
DTEND;TZID=Europe/Berlin:20260327T200000
UID:V24535524-20260327T180000@VHSBÖBLINGEN-SINDELFINGEN
SUMMARY:Gitarren-Treff Spielen aus Spaß an der Musik (V24535524) 
LOCATION:Bürgerhaus Maichingen, Clubraum 1 + 2, Sindelfinger Str. 44, 71069 Sindelfingen
END:VEVENT
BEGIN:VEVENT
DTSTAMP:20260421T063547
DTSTART;TZID=Europe/Berlin:20260424T180000
DTEND;TZID=Europe/Berlin:20260424T200000
UID:V24535524-20260424T180000@VHSBÖBLINGEN-SINDELFINGEN
SUMMARY:Gitarren-Treff Spielen aus Spaß an der Musik (V24535524) 
LOCATION:Bürgerhaus Maichingen, Clubraum 1 + 2, Sindelfinger Str. 44, 71069 Sindelfingen
END:VEVENT
BEGIN:VEVENT
DTSTAMP:20260421T063547
DTSTART;TZID=Europe/Berlin:20260619T180000
DTEND;TZID=Europe/Berlin:20260619T200000
UID:V24535524-20260619T180000@VHSBÖBLINGEN-SINDELFINGEN
SUMMARY:Gitarren-Treff Spielen aus Spaß an der Musik (V24535524) 
LOCATION:Bürgerhaus Maichingen, Clubraum 1 + 2, Sindelfinger Str. 44, 71069 Sindelfingen
END:VEVENT
BEGIN:VEVENT
DTSTAMP:20260421T063547
DTSTART;TZID=Europe/Berlin:20260717T180000
DTEND;TZID=Europe/Berlin:20260717T200000
UID:V24535524-20260717T180000@VHSBÖBLINGEN-SINDELFINGEN
SUMMARY:Gitarren-Treff Spielen aus Spaß an der Musik (V24535524) 
LOCATION:Bürgerhaus Maichingen, Clubraum 1 + 2, Sindelfinger Str. 44, 71069 Sindelfingen
END:VEVENT
END:VCALENDAR